| Back to Multiple platform build/check report for BioC 3.10 | 
 | 
This page was generated on 2020-04-15 12:19:44 -0400 (Wed, 15 Apr 2020).
| Package 305/1823 | Hostname | OS / Arch | INSTALL | BUILD | CHECK | BUILD BIN | ||||||
| clstutils 1.34.0 Noah Hoffman 
 | malbec1 | Linux (Ubuntu 18.04.4 LTS) / x86_64 | OK | OK | WARNINGS |  | ||||||
| tokay1 | Windows Server 2012 R2 Standard / x64 | [ OK ] | OK | WARNINGS | OK |  | ||||||
| merida1 | OS X 10.11.6 El Capitan / x86_64 | OK | OK | WARNINGS | OK |  | 
| Package: clstutils | 
| Version: 1.34.0 | 
| Command: C:\cygwin\bin\curl.exe -O https://malbec1.bioconductor.org/BBS/3.10/bioc/src/contrib/clstutils_1.34.0.tar.gz && rm -rf clstutils.buildbin-libdir && mkdir clstutils.buildbin-libdir && C:\Users\biocbuild\bbs-3.10-bioc\R\bin\R.exe CMD INSTALL --merge-multiarch --build --library=clstutils.buildbin-libdir clstutils_1.34.0.tar.gz && C:\Users\biocbuild\bbs-3.10-bioc\R\bin\R.exe CMD INSTALL clstutils_1.34.0.zip && rm clstutils_1.34.0.tar.gz clstutils_1.34.0.zip | 
| StartedAt: 2020-04-14 18:58:29 -0400 (Tue, 14 Apr 2020) | 
| EndedAt: 2020-04-14 18:58:55 -0400 (Tue, 14 Apr 2020) | 
| EllapsedTime: 26.4 seconds | 
| RetCode: 0 | 
| Status: OK | 
##############################################################################
##############################################################################
###
### Running command:
###
###   C:\cygwin\bin\curl.exe -O https://malbec1.bioconductor.org/BBS/3.10/bioc/src/contrib/clstutils_1.34.0.tar.gz && rm -rf clstutils.buildbin-libdir && mkdir clstutils.buildbin-libdir && C:\Users\biocbuild\bbs-3.10-bioc\R\bin\R.exe CMD INSTALL --merge-multiarch --build --library=clstutils.buildbin-libdir clstutils_1.34.0.tar.gz && C:\Users\biocbuild\bbs-3.10-bioc\R\bin\R.exe CMD INSTALL clstutils_1.34.0.zip && rm clstutils_1.34.0.tar.gz clstutils_1.34.0.zip
###
##############################################################################
##############################################################################
  % Total    % Received % Xferd  Average Speed   Time    Time     Time  Current
                                 Dload  Upload   Total   Spent    Left  Speed
  0     0    0     0    0     0      0      0 --:--:-- --:--:-- --:--:--     0
  0     0    0     0    0     0      0      0 --:--:-- --:--:-- --:--:--     0
100 2332k  100 2332k    0     0  5773k      0 --:--:-- --:--:-- --:--:-- 5816k
install for i386
* installing *source* package 'clstutils' ...
** using staged installation
** R
** data
*** moving datasets to lazyload DB
** inst
** byte-compile and prepare package for lazy loading
** help
*** installing help indices
  converting help for package 'clstutils'
    finding HTML links ... done
    classifyPlacements                      html  
Rd warning: C:/Users/biocbuild/bbs-3.10-bioc/tmpdir/Rtmp27F6Nf/R.INSTALLb7c46ca5b9b/clstutils/man/classifyPlacements.Rd:31: file link 'classifyIter' in package 'clst' does not exist and so has been treated as a topic
    clstutils-package                       html  
    finding level-2 HTML links ... done
    findOutliers                            html  
    maxDists                                html  
    prettyTree                              html  
    refpkgContents                          html  
    seqdat                                  html  
    seqs                                    html  
    taxonomyFromRefpkg                      html  
    treeDists                               html  
** building package indices
** installing vignettes
** testing if installed package can be loaded from temporary location
** testing if installed package can be loaded from final location
** testing if installed package keeps a record of temporary installation path
install for x64
* installing *source* package 'clstutils' ...
** testing if installed package can be loaded
* MD5 sums
packaged installation of 'clstutils' as clstutils_1.34.0.zip
* DONE (clstutils)
* installing to library 'C:/Users/biocbuild/bbs-3.10-bioc/R/library'
package 'clstutils' successfully unpacked and MD5 sums checked