| Back to Multiple platform build/check report for BioC 3.10 |
|
This page was generated on 2020-04-15 12:26:10 -0400 (Wed, 15 Apr 2020).
| Package 286/1823 | Hostname | OS / Arch | INSTALL | BUILD | CHECK | BUILD BIN | ||||||
| chromPlot 1.14.0 Karen Y. Orostica
| malbec1 | Linux (Ubuntu 18.04.4 LTS) / x86_64 | OK | OK | OK | |||||||
| tokay1 | Windows Server 2012 R2 Standard / x64 | [ OK ] | OK | WARNINGS | OK | |||||||
| merida1 | OS X 10.11.6 El Capitan / x86_64 | OK | OK | OK | OK |
| Package: chromPlot |
| Version: 1.14.0 |
| Command: C:\cygwin\bin\curl.exe -O https://malbec1.bioconductor.org/BBS/3.10/bioc/src/contrib/chromPlot_1.14.0.tar.gz && rm -rf chromPlot.buildbin-libdir && mkdir chromPlot.buildbin-libdir && C:\Users\biocbuild\bbs-3.10-bioc\R\bin\R.exe CMD INSTALL --merge-multiarch --build --library=chromPlot.buildbin-libdir chromPlot_1.14.0.tar.gz && C:\Users\biocbuild\bbs-3.10-bioc\R\bin\R.exe CMD INSTALL chromPlot_1.14.0.zip && rm chromPlot_1.14.0.tar.gz chromPlot_1.14.0.zip |
| StartedAt: 2020-04-14 19:30:02 -0400 (Tue, 14 Apr 2020) |
| EndedAt: 2020-04-14 19:30:41 -0400 (Tue, 14 Apr 2020) |
| EllapsedTime: 38.9 seconds |
| RetCode: 0 |
| Status: OK |
##############################################################################
##############################################################################
###
### Running command:
###
### C:\cygwin\bin\curl.exe -O https://malbec1.bioconductor.org/BBS/3.10/bioc/src/contrib/chromPlot_1.14.0.tar.gz && rm -rf chromPlot.buildbin-libdir && mkdir chromPlot.buildbin-libdir && C:\Users\biocbuild\bbs-3.10-bioc\R\bin\R.exe CMD INSTALL --merge-multiarch --build --library=chromPlot.buildbin-libdir chromPlot_1.14.0.tar.gz && C:\Users\biocbuild\bbs-3.10-bioc\R\bin\R.exe CMD INSTALL chromPlot_1.14.0.zip && rm chromPlot_1.14.0.tar.gz chromPlot_1.14.0.zip
###
##############################################################################
##############################################################################
% Total % Received % Xferd Average Speed Time Time Time Current
Dload Upload Total Spent Left Speed
0 0 0 0 0 0 0 0 --:--:-- --:--:-- --:--:-- 0
0 762k 0 0 0 0 0 0 --:--:-- --:--:-- --:--:-- 0
100 762k 100 762k 0 0 13.6M 0 --:--:-- --:--:-- --:--:-- 14.3M
install for i386
* installing *source* package 'chromPlot' ...
** using staged installation
** R
** data
*** moving datasets to lazyload DB
** inst
** byte-compile and prepare package for lazy loading
Warning: replacing previous import 'grDevices::windows' by 'GenomicRanges::windows' when loading 'chromPlot'
** help
*** installing help indices
converting help for package 'chromPlot'
finding HTML links ... done
chromPlot-package html
chromPlot html
hg_cytoBandIdeo html
hg_gap html
mm10_cytoBandIdeo html
mm10_gap html
** building package indices
** installing vignettes
** testing if installed package can be loaded from temporary location
Warning: replacing previous import 'grDevices::windows' by 'GenomicRanges::windows' when loading 'chromPlot'
** testing if installed package can be loaded from final location
Warning: replacing previous import 'grDevices::windows' by 'GenomicRanges::windows' when loading 'chromPlot'
** testing if installed package keeps a record of temporary installation path
install for x64
* installing *source* package 'chromPlot' ...
** testing if installed package can be loaded
Warning: replacing previous import 'grDevices::windows' by 'GenomicRanges::windows' when loading 'chromPlot'
* MD5 sums
packaged installation of 'chromPlot' as chromPlot_1.14.0.zip
* DONE (chromPlot)
* installing to library 'C:/Users/biocbuild/bbs-3.10-bioc/R/library'
package 'chromPlot' successfully unpacked and MD5 sums checked