| Back to Multiple platform build/check report for BioC 3.10 | 
  | 
This page was generated on 2020-04-15 12:18:52 -0400 (Wed, 15 Apr 2020).
| Package 277/1823 | Hostname | OS / Arch | INSTALL | BUILD | CHECK | BUILD BIN | ||||||
| chipseq 1.36.0 Bioconductor Package Maintainer 
  | malbec1 | Linux (Ubuntu 18.04.4 LTS) / x86_64 | OK | OK | WARNINGS | |||||||
| tokay1 | Windows Server 2012 R2 Standard / x64 | [ OK ] | OK | WARNINGS | OK | |||||||
| merida1 | OS X 10.11.6 El Capitan / x86_64 | OK | OK | WARNINGS | OK | 
| Package: chipseq | 
| Version: 1.36.0 | 
| Command: C:\cygwin\bin\curl.exe -O https://malbec1.bioconductor.org/BBS/3.10/bioc/src/contrib/chipseq_1.36.0.tar.gz && rm -rf chipseq.buildbin-libdir && mkdir chipseq.buildbin-libdir && C:\Users\biocbuild\bbs-3.10-bioc\R\bin\R.exe CMD INSTALL --merge-multiarch --build --library=chipseq.buildbin-libdir chipseq_1.36.0.tar.gz && C:\Users\biocbuild\bbs-3.10-bioc\R\bin\R.exe CMD INSTALL chipseq_1.36.0.zip && rm chipseq_1.36.0.tar.gz chipseq_1.36.0.zip | 
| StartedAt: 2020-04-14 19:49:29 -0400 (Tue, 14 Apr 2020) | 
| EndedAt: 2020-04-14 19:50:30 -0400 (Tue, 14 Apr 2020) | 
| EllapsedTime: 60.8 seconds | 
| RetCode: 0 | 
| Status: OK | 
##############################################################################
##############################################################################
###
### Running command:
###
###   C:\cygwin\bin\curl.exe -O https://malbec1.bioconductor.org/BBS/3.10/bioc/src/contrib/chipseq_1.36.0.tar.gz && rm -rf chipseq.buildbin-libdir && mkdir chipseq.buildbin-libdir && C:\Users\biocbuild\bbs-3.10-bioc\R\bin\R.exe CMD INSTALL --merge-multiarch --build --library=chipseq.buildbin-libdir chipseq_1.36.0.tar.gz && C:\Users\biocbuild\bbs-3.10-bioc\R\bin\R.exe CMD INSTALL chipseq_1.36.0.zip && rm chipseq_1.36.0.tar.gz chipseq_1.36.0.zip
###
##############################################################################
##############################################################################
  % Total    % Received % Xferd  Average Speed   Time    Time     Time  Current
                                 Dload  Upload   Total   Spent    Left  Speed
  0     0    0     0    0     0      0      0 --:--:-- --:--:-- --:--:--     0
100 1706k  100 1706k    0     0  2653k      0 --:--:-- --:--:-- --:--:-- 2670k
install for i386
* installing *source* package 'chipseq' ...
** using staged installation
** libs
C:/Rtools/mingw_32/bin/gcc  -I"C:/Users/BIOCBU~1/BBS-3~1.10-/R/include" -DNDEBUG     -I"C:/extsoft/include"     -O3 -Wall  -std=gnu99 -mtune=core2 -c rlesumprod.c -o rlesumprod.o
C:/Rtools/mingw_32/bin/gcc -shared -s -static-libgcc -o chipseq.dll tmp.def rlesumprod.o -LC:/extsoft/lib/i386 -LC:/extsoft/lib -LC:/Users/BIOCBU~1/BBS-3~1.10-/R/bin/i386 -lR
installing to C:/Users/biocbuild/bbs-3.10-bioc/meat/chipseq.buildbin-libdir/00LOCK-chipseq/00new/chipseq/libs/i386
** R
** data
** inst
** byte-compile and prepare package for lazy loading
** help
*** installing help indices
  converting help for package 'chipseq'
    finding HTML links ... done
    chipseqFilter                           html  
    coverageplot                            html  
    cstest                                  html  
    diffPeakSummary                         html  
    estimate.mean.fraglen                   html  
Rd warning: C:/Users/biocbuild/bbs-3.10-bioc/tmpdir/RtmpADfagH/R.INSTALLeb475fb4999/chipseq/man/estimate.mean.fraglen.Rd:48: file link 'GRanges' in package 'GenomicRanges' does not exist and so has been treated as a topic
    islandDepthPlot                         html  
Rd warning: C:/Users/biocbuild/bbs-3.10-bioc/tmpdir/RtmpADfagH/R.INSTALLeb475fb4999/chipseq/man/islandDepthPlot.Rd:17: file link 'RleList-class' in package 'IRanges' does not exist and so has been treated as a topic
    laneSubsample                           html  
    peakCutoff                              html  
Rd warning: C:/Users/biocbuild/bbs-3.10-bioc/tmpdir/RtmpADfagH/R.INSTALLeb475fb4999/chipseq/man/peakCutoff.Rd:17: file link 'RleList-class' in package 'IRanges' does not exist and so has been treated as a topic
    peakSummary-methods                     html  
    subsetSummary                           html  
** building package indices
** installing vignettes
** testing if installed package can be loaded from temporary location
** testing if installed package can be loaded from final location
** testing if installed package keeps a record of temporary installation path
install for x64
* installing *source* package 'chipseq' ...
** libs
C:/Rtools/mingw_64/bin/gcc  -I"C:/Users/BIOCBU~1/BBS-3~1.10-/R/include" -DNDEBUG     -I"C:/extsoft/include"     -O2 -Wall  -std=gnu99 -mtune=core2 -c rlesumprod.c -o rlesumprod.o
C:/Rtools/mingw_64/bin/gcc -shared -s -static-libgcc -o chipseq.dll tmp.def rlesumprod.o -LC:/extsoft/lib/x64 -LC:/extsoft/lib -LC:/Users/BIOCBU~1/BBS-3~1.10-/R/bin/x64 -lR
installing to C:/Users/biocbuild/bbs-3.10-bioc/meat/chipseq.buildbin-libdir/chipseq/libs/x64
** testing if installed package can be loaded
* MD5 sums
packaged installation of 'chipseq' as chipseq_1.36.0.zip
* DONE (chipseq)
* installing to library 'C:/Users/biocbuild/bbs-3.10-bioc/R/library'
package 'chipseq' successfully unpacked and MD5 sums checked