| Back to Multiple platform build/check report for BioC 3.10 |
|
This page was generated on 2020-04-15 12:27:59 -0400 (Wed, 15 Apr 2020).
| Package 247/1823 | Hostname | OS / Arch | INSTALL | BUILD | CHECK | BUILD BIN | ||||||
| cellscape 1.10.0 Maia Smith
| malbec1 | Linux (Ubuntu 18.04.4 LTS) / x86_64 | OK | OK | WARNINGS | |||||||
| tokay1 | Windows Server 2012 R2 Standard / x64 | OK | OK | WARNINGS | [ OK ] | |||||||
| merida1 | OS X 10.11.6 El Capitan / x86_64 | OK | OK | WARNINGS | OK |
| Package: cellscape |
| Version: 1.10.0 |
| Command: rm -rf cellscape.buildbin-libdir && mkdir cellscape.buildbin-libdir && C:\Users\biocbuild\bbs-3.10-bioc\R\bin\R.exe CMD INSTALL --merge-multiarch --build --library=cellscape.buildbin-libdir cellscape_1.10.0.tar.gz |
| StartedAt: 2020-04-15 08:22:02 -0400 (Wed, 15 Apr 2020) |
| EndedAt: 2020-04-15 08:22:27 -0400 (Wed, 15 Apr 2020) |
| EllapsedTime: 25.0 seconds |
| RetCode: 0 |
| Status: OK |
| PackageFile: cellscape_1.10.0.zip |
| PackageFileSize: 884.5 KiB |
##############################################################################
##############################################################################
###
### Running command:
###
### rm -rf cellscape.buildbin-libdir && mkdir cellscape.buildbin-libdir && C:\Users\biocbuild\bbs-3.10-bioc\R\bin\R.exe CMD INSTALL --merge-multiarch --build --library=cellscape.buildbin-libdir cellscape_1.10.0.tar.gz
###
##############################################################################
##############################################################################
install for i386
* installing *source* package 'cellscape' ...
** using staged installation
** R
** inst
** byte-compile and prepare package for lazy loading
** help
*** installing help indices
converting help for package 'cellscape'
finding HTML links ... done
cellscape html
helpers html
** building package indices
** installing vignettes
** testing if installed package can be loaded from temporary location
** testing if installed package can be loaded from final location
** testing if installed package keeps a record of temporary installation path
install for x64
* installing *source* package 'cellscape' ...
** testing if installed package can be loaded
* MD5 sums
packaged installation of 'cellscape' as cellscape_1.10.0.zip
* DONE (cellscape)