| Back to Multiple platform build/check report for BioC 3.10 |
|
This page was generated on 2020-04-15 12:18:04 -0400 (Wed, 15 Apr 2020).
| Package 242/1823 | Hostname | OS / Arch | INSTALL | BUILD | CHECK | BUILD BIN | ||||||
| cellHTS2 2.50.0 Joseph Barry
| malbec1 | Linux (Ubuntu 18.04.4 LTS) / x86_64 | OK | OK | OK | |||||||
| tokay1 | Windows Server 2012 R2 Standard / x64 | OK | OK | OK | [ OK ] | |||||||
| merida1 | OS X 10.11.6 El Capitan / x86_64 | OK | OK | OK | OK |
| Package: cellHTS2 |
| Version: 2.50.0 |
| Command: rm -rf cellHTS2.buildbin-libdir && mkdir cellHTS2.buildbin-libdir && C:\Users\biocbuild\bbs-3.10-bioc\R\bin\R.exe CMD INSTALL --merge-multiarch --build --library=cellHTS2.buildbin-libdir cellHTS2_2.50.0.tar.gz |
| StartedAt: 2020-04-15 08:21:45 -0400 (Wed, 15 Apr 2020) |
| EndedAt: 2020-04-15 08:23:27 -0400 (Wed, 15 Apr 2020) |
| EllapsedTime: 102.3 seconds |
| RetCode: 0 |
| Status: OK |
| PackageFile: cellHTS2_2.50.0.zip |
| PackageFileSize: 3.952 MiB |
##############################################################################
##############################################################################
###
### Running command:
###
### rm -rf cellHTS2.buildbin-libdir && mkdir cellHTS2.buildbin-libdir && C:\Users\biocbuild\bbs-3.10-bioc\R\bin\R.exe CMD INSTALL --merge-multiarch --build --library=cellHTS2.buildbin-libdir cellHTS2_2.50.0.tar.gz
###
##############################################################################
##############################################################################
install for i386
* installing *source* package 'cellHTS2' ...
** using staged installation
** R
** data
** inst
** byte-compile and prepare package for lazy loading
** help
*** installing help indices
converting help for package 'cellHTS2'
finding HTML links ... done
Bscore html
Data html
ROC-class html
ROC html
annotate html
batch html
bdgpbiomart html
buildCellHTS2 html
cellHTS-class html
cellHTS2 html
configurationAsScreenPlot html
configure html
convertOldCellHTS html
convertWellCoordinates html
data-KcViab html
data-KcViabSmall html
data-dualCh html
data-oldKcViabSmall html
getDynamicRange html
getEnVisionRawData html
getMeasureRepAgreement html
getTopTable html
getZfactor html
gseaModule html
imageScreen html
intensityFiles html
normalizePlates html
oneRowPerId html
plate html
plateEffects html
plotSpatialEffects html
readHTAnalystData html
readPlateList html
rsa html
scoreReplicates html
scores2calls html
setSettings html
spatialNormalization html
state html
summarizeChannels html
summarizeReplicates html
templateDescriptionFile html
updateCellHTS html
wellAnno html
write.tabdel html
writeReport html
writeTab html
** building package indices
** installing vignettes
** testing if installed package can be loaded from temporary location
** testing if installed package can be loaded from final location
** testing if installed package keeps a record of temporary installation path
install for x64
* installing *source* package 'cellHTS2' ...
** testing if installed package can be loaded
* MD5 sums
packaged installation of 'cellHTS2' as cellHTS2_2.50.0.zip
* DONE (cellHTS2)