| Back to Multiple platform build/check report for BioC 3.10 | 
 | 
This page was generated on 2020-04-15 12:14:11 -0400 (Wed, 15 Apr 2020).
| Package 233/1823 | Hostname | OS / Arch | INSTALL | BUILD | CHECK | BUILD BIN | ||||||
| ccfindR 1.6.0 Jun Woo 
 | malbec1 | Linux (Ubuntu 18.04.4 LTS) / x86_64 | OK | [ OK ] | OK |  | ||||||
| tokay1 | Windows Server 2012 R2 Standard / x64 | OK | OK | OK | OK |  | ||||||
| merida1 | OS X 10.11.6 El Capitan / x86_64 | OK | OK | OK | OK |  | 
| Package: ccfindR | 
| Version: 1.6.0 | 
| Command: /home/biocbuild/bbs-3.10-bioc/R/bin/R CMD build --keep-empty-dirs --no-resave-data ccfindR | 
| StartedAt: 2020-04-14 23:02:24 -0400 (Tue, 14 Apr 2020) | 
| EndedAt: 2020-04-14 23:06:53 -0400 (Tue, 14 Apr 2020) | 
| EllapsedTime: 268.9 seconds | 
| RetCode: 0 | 
| Status: OK | 
| PackageFile: ccfindR_1.6.0.tar.gz | 
| PackageFileSize: 1.057 MiB | 
############################################################################## ############################################################################## ### ### Running command: ### ### /home/biocbuild/bbs-3.10-bioc/R/bin/R CMD build --keep-empty-dirs --no-resave-data ccfindR ### ############################################################################## ############################################################################## * checking for file ‘ccfindR/DESCRIPTION’ ... OK * preparing ‘ccfindR’: * checking DESCRIPTION meta-information ... OK * cleaning src * installing the package to process help pages Loading required namespace: ccfindR * saving partial Rd database * creating vignettes ... OK * cleaning src * checking for LF line-endings in source and make files and shell scripts * checking for empty or unneeded directories * building ‘ccfindR_1.6.0.tar.gz’