| Back to Multiple platform build/check report for BioC 3.10 |
|
This page was generated on 2020-04-15 12:14:44 -0400 (Wed, 15 Apr 2020).
| Package 197/1823 | Hostname | OS / Arch | INSTALL | BUILD | CHECK | BUILD BIN | ||||||
| breakpointR 1.4.0 David Porubsky
| malbec1 | Linux (Ubuntu 18.04.4 LTS) / x86_64 | OK | OK | [ OK ] | |||||||
| tokay1 | Windows Server 2012 R2 Standard / x64 | OK | OK | OK | OK | |||||||
| merida1 | OS X 10.11.6 El Capitan / x86_64 | OK | OK | OK | OK |
| Package: breakpointR |
| Version: 1.4.0 |
| Command: /home/biocbuild/bbs-3.10-bioc/R/bin/R CMD check --install=check:breakpointR.install-out.txt --library=/home/biocbuild/bbs-3.10-bioc/R/library --no-vignettes --timings breakpointR_1.4.0.tar.gz |
| StartedAt: 2020-04-15 06:02:10 -0400 (Wed, 15 Apr 2020) |
| EndedAt: 2020-04-15 06:06:25 -0400 (Wed, 15 Apr 2020) |
| EllapsedTime: 255.7 seconds |
| RetCode: 0 |
| Status: OK |
| CheckDir: breakpointR.Rcheck |
| Warnings: 0 |
##############################################################################
##############################################################################
###
### Running command:
###
### /home/biocbuild/bbs-3.10-bioc/R/bin/R CMD check --install=check:breakpointR.install-out.txt --library=/home/biocbuild/bbs-3.10-bioc/R/library --no-vignettes --timings breakpointR_1.4.0.tar.gz
###
##############################################################################
##############################################################################
* using log directory ‘/home/biocbuild/bbs-3.10-bioc/meat/breakpointR.Rcheck’
* using R version 3.6.3 (2020-02-29)
* using platform: x86_64-pc-linux-gnu (64-bit)
* using session charset: UTF-8
* using option ‘--no-vignettes’
* checking for file ‘breakpointR/DESCRIPTION’ ... OK
* checking extension type ... Package
* this is package ‘breakpointR’ version ‘1.4.0’
* checking package namespace information ... OK
* checking package dependencies ... OK
* checking if this is a source package ... OK
* checking if there is a namespace ... OK
* checking for hidden files and directories ... OK
* checking for portable file names ... OK
* checking for sufficient/correct file permissions ... OK
* checking whether package ‘breakpointR’ can be installed ... OK
* checking installed package size ... OK
* checking package directory ... OK
* checking ‘build’ directory ... OK
* checking DESCRIPTION meta-information ... OK
* checking top-level files ... OK
* checking for left-over files ... OK
* checking index information ... OK
* checking package subdirectories ... OK
* checking R files for non-ASCII characters ... OK
* checking R files for syntax errors ... OK
* checking whether the package can be loaded ... OK
* checking whether the package can be loaded with stated dependencies ... OK
* checking whether the package can be unloaded cleanly ... OK
* checking whether the namespace can be loaded with stated dependencies ... OK
* checking whether the namespace can be unloaded cleanly ... OK
* checking dependencies in R code ... OK
* checking S3 generic/method consistency ... OK
* checking replacement functions ... OK
* checking foreign function calls ... OK
* checking R code for possible problems ... OK
* checking Rd files ... OK
* checking Rd metadata ... OK
* checking Rd cross-references ... OK
* checking for missing documentation entries ... OK
* checking for code/documentation mismatches ... OK
* checking Rd \usage sections ... OK
* checking Rd contents ... OK
* checking for unstated dependencies in examples ... OK
* checking files in ‘vignettes’ ... OK
* checking examples ... OK
Examples with CPU or elapsed time > 5s
user system elapsed
genotyping 13.480 0.048 13.563
hotspotter 7.764 0.044 7.839
synchronizeReadDir 5.656 0.040 5.707
* checking for unstated dependencies in ‘tests’ ... OK
* checking tests ...
Running ‘testthat.R’
OK
* checking for unstated dependencies in vignettes ... OK
* checking package vignettes in ‘inst/doc’ ... OK
* checking running R code from vignettes ... SKIPPED
* checking re-building of vignette outputs ... SKIPPED
* checking PDF version of manual ... OK
* DONE
Status: OK
breakpointR.Rcheck/00install.out
############################################################################## ############################################################################## ### ### Running command: ### ### /home/biocbuild/bbs-3.10-bioc/R/bin/R CMD INSTALL breakpointR ### ############################################################################## ############################################################################## * installing to library ‘/home/biocbuild/bbs-3.10-bioc/R/library’ * installing *source* package ‘breakpointR’ ... ** using staged installation ** R ** byte-compile and prepare package for lazy loading ** help *** installing help indices ** building package indices ** installing vignettes ** testing if installed package can be loaded from temporary location ** testing if installed package can be loaded from final location ** testing if installed package keeps a record of temporary installation path * DONE (breakpointR)
breakpointR.Rcheck/tests/testthat.Rout
R version 3.6.3 (2020-02-29) -- "Holding the Windsock"
Copyright (C) 2020 The R Foundation for Statistical Computing
Platform: x86_64-pc-linux-gnu (64-bit)
R is free software and comes with ABSOLUTELY NO WARRANTY.
You are welcome to redistribute it under certain conditions.
Type 'license()' or 'licence()' for distribution details.
R is a collaborative project with many contributors.
Type 'contributors()' for more information and
'citation()' on how to cite R or R packages in publications.
Type 'demo()' for some demos, 'help()' for on-line help, or
'help.start()' for an HTML browser interface to help.
Type 'q()' to quit R.
> library(testthat)
> library(breakpointR)
Loading required package: GenomicRanges
Loading required package: stats4
Loading required package: BiocGenerics
Loading required package: parallel
Attaching package: 'BiocGenerics'
The following objects are masked from 'package:parallel':
clusterApply, clusterApplyLB, clusterCall, clusterEvalQ,
clusterExport, clusterMap, parApply, parCapply, parLapply,
parLapplyLB, parRapply, parSapply, parSapplyLB
The following objects are masked from 'package:stats':
IQR, mad, sd, var, xtabs
The following objects are masked from 'package:base':
Filter, Find, Map, Position, Reduce, anyDuplicated, append,
as.data.frame, basename, cbind, colnames, dirname, do.call,
duplicated, eval, evalq, get, grep, grepl, intersect, is.unsorted,
lapply, mapply, match, mget, order, paste, pmax, pmax.int, pmin,
pmin.int, rank, rbind, rownames, sapply, setdiff, sort, table,
tapply, union, unique, unsplit, which, which.max, which.min
Loading required package: S4Vectors
Attaching package: 'S4Vectors'
The following object is masked from 'package:base':
expand.grid
Loading required package: IRanges
Loading required package: GenomeInfoDb
Loading required package: cowplot
********************************************************
Note: As of version 1.0.0, cowplot does not change the
default ggplot2 theme anymore. To recover the previous
behavior, execute:
theme_set(theme_cowplot())
********************************************************
Loading required package: breakpointRdata
>
> test_check("breakpointR")
══ testthat results ═══════════════════════════════════════════════════════════
[ OK: 5 | SKIPPED: 0 | WARNINGS: 0 | FAILED: 0 ]
>
> proc.time()
user system elapsed
22.296 0.504 22.896
breakpointR.Rcheck/breakpointR-Ex.timings
| name | user | system | elapsed | |
| breakSeekr | 2.356 | 0.076 | 2.512 | |
| breakpointr | 0 | 0 | 0 | |
| breakpointr2UCSC | 1.156 | 0.028 | 1.195 | |
| confidenceInterval | 0 | 0 | 0 | |
| confidenceInterval.binomial | 0 | 0 | 0 | |
| deltaWCalculator | 0.504 | 0.012 | 0.516 | |
| exportRegions | 2.628 | 0.040 | 2.719 | |
| genotyping | 13.480 | 0.048 | 13.563 | |
| hotspotter | 7.764 | 0.044 | 7.839 | |
| loadFromFiles | 1.652 | 0.024 | 1.680 | |
| plotBreakpoints | 3.044 | 0.000 | 3.049 | |
| plotBreakpointsPerChr | 3.796 | 0.036 | 3.847 | |
| plotHeatmap | 3.336 | 0.040 | 3.424 | |
| ranges2UCSC | 1.036 | 0.008 | 1.044 | |
| readBamFileAsGRanges | 0.248 | 0.000 | 0.248 | |
| runBreakpointr | 3.396 | 0.012 | 3.419 | |
| summarizeBreaks | 0.388 | 0.004 | 0.399 | |
| synchronizeReadDir | 5.656 | 0.040 | 5.707 | |