| Back to Multiple platform build/check report for BioC 3.10 |
|
This page was generated on 2020-04-15 12:33:21 -0400 (Wed, 15 Apr 2020).
| Package 187/1823 | Hostname | OS / Arch | INSTALL | BUILD | CHECK | BUILD BIN | ||||||
| blacksheepr 1.0.0 RugglesLab
| malbec1 | Linux (Ubuntu 18.04.4 LTS) / x86_64 | OK | OK | OK | |||||||
| tokay1 | Windows Server 2012 R2 Standard / x64 | OK | OK | [ OK ] | OK | |||||||
| merida1 | OS X 10.11.6 El Capitan / x86_64 | OK | OK | OK | OK |
| Package: blacksheepr |
| Version: 1.0.0 |
| Command: C:\Users\biocbuild\bbs-3.10-bioc\R\bin\R.exe CMD check --force-multiarch --install=check:blacksheepr.install-out.txt --library=C:\Users\biocbuild\bbs-3.10-bioc\R\library --no-vignettes --timings blacksheepr_1.0.0.tar.gz |
| StartedAt: 2020-04-15 01:41:00 -0400 (Wed, 15 Apr 2020) |
| EndedAt: 2020-04-15 01:46:52 -0400 (Wed, 15 Apr 2020) |
| EllapsedTime: 352.3 seconds |
| RetCode: 0 |
| Status: OK |
| CheckDir: blacksheepr.Rcheck |
| Warnings: 0 |
##############################################################################
##############################################################################
###
### Running command:
###
### C:\Users\biocbuild\bbs-3.10-bioc\R\bin\R.exe CMD check --force-multiarch --install=check:blacksheepr.install-out.txt --library=C:\Users\biocbuild\bbs-3.10-bioc\R\library --no-vignettes --timings blacksheepr_1.0.0.tar.gz
###
##############################################################################
##############################################################################
* using log directory 'C:/Users/biocbuild/bbs-3.10-bioc/meat/blacksheepr.Rcheck'
* using R version 3.6.3 (2020-02-29)
* using platform: x86_64-w64-mingw32 (64-bit)
* using session charset: ISO8859-1
* using option '--no-vignettes'
* checking for file 'blacksheepr/DESCRIPTION' ... OK
* checking extension type ... Package
* this is package 'blacksheepr' version '1.0.0'
* package encoding: UTF-8
* checking package namespace information ... OK
* checking package dependencies ... OK
* checking if this is a source package ... OK
* checking if there is a namespace ... OK
* checking for hidden files and directories ... OK
* checking for portable file names ... OK
* checking whether package 'blacksheepr' can be installed ... OK
* checking installed package size ... OK
* checking package directory ... OK
* checking 'build' directory ... OK
* checking DESCRIPTION meta-information ... OK
* checking top-level files ... OK
* checking for left-over files ... OK
* checking index information ... OK
* checking package subdirectories ... OK
* checking R files for non-ASCII characters ... OK
* checking R files for syntax errors ... OK
* loading checks for arch 'i386'
** checking whether the package can be loaded ... OK
** checking whether the package can be loaded with stated dependencies ... OK
** checking whether the package can be unloaded cleanly ... OK
** checking whether the namespace can be loaded with stated dependencies ... OK
** checking whether the namespace can be unloaded cleanly ... OK
* loading checks for arch 'x64'
** checking whether the package can be loaded ... OK
** checking whether the package can be loaded with stated dependencies ... OK
** checking whether the package can be unloaded cleanly ... OK
** checking whether the namespace can be loaded with stated dependencies ... OK
** checking whether the namespace can be unloaded cleanly ... OK
* checking dependencies in R code ... OK
* checking S3 generic/method consistency ... OK
* checking replacement functions ... OK
* checking foreign function calls ... OK
* checking R code for possible problems ... OK
* checking Rd files ... OK
* checking Rd metadata ... OK
* checking Rd cross-references ... OK
* checking for missing documentation entries ... OK
* checking for code/documentation mismatches ... OK
* checking Rd \usage sections ... OK
* checking Rd contents ... OK
* checking for unstated dependencies in examples ... OK
* checking contents of 'data' directory ... OK
* checking data for non-ASCII characters ... OK
* checking data for ASCII and uncompressed saves ... OK
* checking files in 'vignettes' ... OK
* checking examples ...
** running examples for arch 'i386' ... OK
Examples with CPU or elapsed time > 5s
user system elapsed
deva 9.89 0.23 10.12
outlier_heatmap 8.11 0.11 8.22
create_heatmap 7.08 0.94 8.02
deva_results 6.21 0.31 6.53
outlier_analysis 6.42 0.04 6.46
** running examples for arch 'x64' ... OK
Examples with CPU or elapsed time > 5s
user system elapsed
deva 9.21 0.25 9.50
create_heatmap 6.41 1.26 7.67
count_outliers 5.70 0.09 5.80
deva_results 5.22 0.08 5.30
outlier_analysis 5.29 0.01 5.33
outlier_heatmap 5.07 0.05 5.11
* checking for unstated dependencies in 'tests' ... OK
* checking tests ...
** running tests for arch 'i386' ...
Running 'testthat.R'
OK
** running tests for arch 'x64' ...
Running 'testthat.R'
OK
* checking for unstated dependencies in vignettes ... OK
* checking package vignettes in 'inst/doc' ... OK
* checking running R code from vignettes ... SKIPPED
* checking re-building of vignette outputs ... SKIPPED
* checking PDF version of manual ... OK
* DONE
Status: OK
blacksheepr.Rcheck/00install.out
##############################################################################
##############################################################################
###
### Running command:
###
### C:\cygwin\bin\curl.exe -O https://malbec1.bioconductor.org/BBS/3.10/bioc/src/contrib/blacksheepr_1.0.0.tar.gz && rm -rf blacksheepr.buildbin-libdir && mkdir blacksheepr.buildbin-libdir && C:\Users\biocbuild\bbs-3.10-bioc\R\bin\R.exe CMD INSTALL --merge-multiarch --build --library=blacksheepr.buildbin-libdir blacksheepr_1.0.0.tar.gz && C:\Users\biocbuild\bbs-3.10-bioc\R\bin\R.exe CMD INSTALL blacksheepr_1.0.0.zip && rm blacksheepr_1.0.0.tar.gz blacksheepr_1.0.0.zip
###
##############################################################################
##############################################################################
% Total % Received % Xferd Average Speed Time Time Time Current
Dload Upload Total Spent Left Speed
0 0 0 0 0 0 0 0 --:--:-- --:--:-- --:--:-- 0
0 3773k 0 0 0 0 0 0 --:--:-- --:--:-- --:--:-- 0
100 3773k 100 3773k 0 0 12.4M 0 --:--:-- --:--:-- --:--:-- 12.5M
install for i386
* installing *source* package 'blacksheepr' ...
** using staged installation
** R
** data
** byte-compile and prepare package for lazy loading
** help
*** installing help indices
converting help for package 'blacksheepr'
finding HTML links ... done
annotationlist_builder html
comparison_groupings html
count_outliers html
create_heatmap html
deva html
deva_normalization html
deva_results html
make_comparison_columns html
make_outlier_table html
outlier_analysis html
outlier_heatmap html
sample_annotationdata html
sample_phosphodata html
sample_rnadata html
** building package indices
** installing vignettes
** testing if installed package can be loaded from temporary location
** testing if installed package can be loaded from final location
** testing if installed package keeps a record of temporary installation path
install for x64
* installing *source* package 'blacksheepr' ...
** testing if installed package can be loaded
* MD5 sums
packaged installation of 'blacksheepr' as blacksheepr_1.0.0.zip
* DONE (blacksheepr)
* installing to library 'C:/Users/biocbuild/bbs-3.10-bioc/R/library'
package 'blacksheepr' successfully unpacked and MD5 sums checked
|
blacksheepr.Rcheck/tests_i386/testthat.Rout
R version 3.6.3 (2020-02-29) -- "Holding the Windsock"
Copyright (C) 2020 The R Foundation for Statistical Computing
Platform: i386-w64-mingw32/i386 (32-bit)
R is free software and comes with ABSOLUTELY NO WARRANTY.
You are welcome to redistribute it under certain conditions.
Type 'license()' or 'licence()' for distribution details.
R is a collaborative project with many contributors.
Type 'contributors()' for more information and
'citation()' on how to cite R or R packages in publications.
Type 'demo()' for some demos, 'help()' for on-line help, or
'help.start()' for an HTML browser interface to help.
Type 'q()' to quit R.
> library(testthat)
> library(blacksheepr)
>
> test_check("blacksheepr")
== testthat results ===========================================================
[ OK: 9 | SKIPPED: 0 | WARNINGS: 0 | FAILED: 0 ]
>
> proc.time()
user system elapsed
30.31 0.92 31.21
|
blacksheepr.Rcheck/tests_x64/testthat.Rout
R version 3.6.3 (2020-02-29) -- "Holding the Windsock"
Copyright (C) 2020 The R Foundation for Statistical Computing
Platform: x86_64-w64-mingw32/x64 (64-bit)
R is free software and comes with ABSOLUTELY NO WARRANTY.
You are welcome to redistribute it under certain conditions.
Type 'license()' or 'licence()' for distribution details.
R is a collaborative project with many contributors.
Type 'contributors()' for more information and
'citation()' on how to cite R or R packages in publications.
Type 'demo()' for some demos, 'help()' for on-line help, or
'help.start()' for an HTML browser interface to help.
Type 'q()' to quit R.
> library(testthat)
> library(blacksheepr)
>
> test_check("blacksheepr")
== testthat results ===========================================================
[ OK: 9 | SKIPPED: 0 | WARNINGS: 0 | FAILED: 0 ]
>
> proc.time()
user system elapsed
33.53 0.67 34.18
|
|
blacksheepr.Rcheck/examples_i386/blacksheepr-Ex.timings
|
blacksheepr.Rcheck/examples_x64/blacksheepr-Ex.timings
|