| Back to Multiple platform build/check report for BioC 3.10 |
|
This page was generated on 2020-04-15 12:33:28 -0400 (Wed, 15 Apr 2020).
| Package 184/1823 | Hostname | OS / Arch | INSTALL | BUILD | CHECK | BUILD BIN | ||||||
| biscuiteer 1.0.0 "Tim Triche, Jr."
| malbec1 | Linux (Ubuntu 18.04.4 LTS) / x86_64 | OK | OK | OK | |||||||
| tokay1 | Windows Server 2012 R2 Standard / x64 | OK | OK | OK | [ OK ] | |||||||
| merida1 | OS X 10.11.6 El Capitan / x86_64 | OK | OK | OK | OK |
| Package: biscuiteer |
| Version: 1.0.0 |
| Command: rm -rf biscuiteer.buildbin-libdir && mkdir biscuiteer.buildbin-libdir && C:\Users\biocbuild\bbs-3.10-bioc\R\bin\R.exe CMD INSTALL --merge-multiarch --build --library=biscuiteer.buildbin-libdir biscuiteer_1.0.0.tar.gz |
| StartedAt: 2020-04-15 08:18:19 -0400 (Wed, 15 Apr 2020) |
| EndedAt: 2020-04-15 08:19:54 -0400 (Wed, 15 Apr 2020) |
| EllapsedTime: 95.5 seconds |
| RetCode: 0 |
| Status: OK |
| PackageFile: biscuiteer_1.0.0.zip |
| PackageFileSize: 5.102 MiB |
##############################################################################
##############################################################################
###
### Running command:
###
### rm -rf biscuiteer.buildbin-libdir && mkdir biscuiteer.buildbin-libdir && C:\Users\biocbuild\bbs-3.10-bioc\R\bin\R.exe CMD INSTALL --merge-multiarch --build --library=biscuiteer.buildbin-libdir biscuiteer_1.0.0.tar.gz
###
##############################################################################
##############################################################################
install for i386
* installing *source* package 'biscuiteer' ...
** using staged installation
** R
** data
** inst
** byte-compile and prepare package for lazy loading
** help
*** installing help indices
converting help for package 'biscuiteer'
finding HTML links ... done
CpGindex html
ENSR_subset.hg19 html
ENSR_subset.hg38 html
GRCh37.chromArm html
GRCh38.chromArm html
H9state23unmeth.hg19 html
H9state23unmeth.hg38 html
HMM_CpG_islands.hg19 html
HMM_CpG_islands.hg38 html
RRBSeq html
WGBSage html
WGBSeq html
atRegions html
binCoverage html
biscuitMetadata html
biscuiteer-methods html
biscuiteer-package html
byChromArm html
byExtremality html
checkBiscuitBED html
clocks html
condenseSampleNames html
extremality html
fexpit html
filterLoci html
fixAge html
fixNAs html
flogit html
getClock html
getLogitFracMeth html
grToSeg html
hg19.chromArm html
hg38.chromArm html
makeBSseq html
readBiscuit html
segToGr html
seqinfo.hg19 html
seqinfo.hg38 html
seqinfo.mm10 html
simplifySampleNames html
summarizeBsSeqOver html
unionize html
** building package indices
** installing vignettes
** testing if installed package can be loaded from temporary location
** testing if installed package can be loaded from final location
** testing if installed package keeps a record of temporary installation path
install for x64
* installing *source* package 'biscuiteer' ...
** testing if installed package can be loaded
* MD5 sums
packaged installation of 'biscuiteer' as biscuiteer_1.0.0.zip
* DONE (biscuiteer)