| Back to Multiple platform build/check report for BioC 3.10 |
|
This page was generated on 2020-04-15 12:17:11 -0400 (Wed, 15 Apr 2020).
| Package 166/1823 | Hostname | OS / Arch | INSTALL | BUILD | CHECK | BUILD BIN | ||||||
| biomaRt 2.42.1 Mike Smith
| malbec1 | Linux (Ubuntu 18.04.4 LTS) / x86_64 | OK | OK | OK | |||||||
| tokay1 | Windows Server 2012 R2 Standard / x64 | OK | OK | OK | [ OK ] | |||||||
| merida1 | OS X 10.11.6 El Capitan / x86_64 | OK | OK | OK | OK |
| Package: biomaRt |
| Version: 2.42.1 |
| Command: rm -rf biomaRt.buildbin-libdir && mkdir biomaRt.buildbin-libdir && C:\Users\biocbuild\bbs-3.10-bioc\R\bin\R.exe CMD INSTALL --merge-multiarch --build --library=biomaRt.buildbin-libdir biomaRt_2.42.1.tar.gz |
| StartedAt: 2020-04-15 08:17:20 -0400 (Wed, 15 Apr 2020) |
| EndedAt: 2020-04-15 08:17:55 -0400 (Wed, 15 Apr 2020) |
| EllapsedTime: 34.7 seconds |
| RetCode: 0 |
| Status: OK |
| PackageFile: biomaRt_2.42.1.zip |
| PackageFileSize: 617.3 KiB |
##############################################################################
##############################################################################
###
### Running command:
###
### rm -rf biomaRt.buildbin-libdir && mkdir biomaRt.buildbin-libdir && C:\Users\biocbuild\bbs-3.10-bioc\R\bin\R.exe CMD INSTALL --merge-multiarch --build --library=biomaRt.buildbin-libdir biomaRt_2.42.1.tar.gz
###
##############################################################################
##############################################################################
install for i386
* installing *source* package 'biomaRt' ...
** using staged installation
** R
** inst
** byte-compile and prepare package for lazy loading
** help
*** installing help indices
converting help for package 'biomaRt'
finding HTML links ... done
Mart-class html
NP2009code html
attributePages html
biomartCache html
exportFASTA html
filterOptions html
filterType html
getBM html
getBMlist html
getGene html
getLDS html
getSequence html
getXML html
listAttributes html
listDatasets html
listEnsembl html
listEnsemblArchives html
listFilterValues html
listFilters html
listMarts html
select html
useDataset html
useEnsembl html
useMart html
** building package indices
** installing vignettes
** testing if installed package can be loaded from temporary location
** testing if installed package can be loaded from final location
** testing if installed package keeps a record of temporary installation path
install for x64
* installing *source* package 'biomaRt' ...
** testing if installed package can be loaded
* MD5 sums
packaged installation of 'biomaRt' as biomaRt_2.42.1.zip
* DONE (biomaRt)