| Back to Multiple platform build/check report for BioC 3.10 |
|
This page was generated on 2020-04-15 12:43:43 -0400 (Wed, 15 Apr 2020).
| Package 147/1823 | Hostname | OS / Arch | INSTALL | BUILD | CHECK | BUILD BIN | ||||||
| bioCancer 1.14.02 Karim Mezhoud
| malbec1 | Linux (Ubuntu 18.04.4 LTS) / x86_64 | OK | OK | WARNINGS | |||||||
| tokay1 | Windows Server 2012 R2 Standard / x64 | OK | OK | WARNINGS | OK | |||||||
| merida1 | OS X 10.11.6 El Capitan / x86_64 | OK | OK | WARNINGS | [ OK ] |
| Package: bioCancer |
| Version: 1.14.02 |
| Command: rm -rf bioCancer.buildbin-libdir && mkdir bioCancer.buildbin-libdir && /Users/biocbuild/BBS/utils/build-universal.sh bioCancer_1.14.02.tar.gz /Library/Frameworks/R.framework/Versions/Current/Resources/bin/R bioCancer.buildbin-libdir |
| StartedAt: 2020-04-15 06:54:54 -0400 (Wed, 15 Apr 2020) |
| EndedAt: 2020-04-15 06:55:55 -0400 (Wed, 15 Apr 2020) |
| EllapsedTime: 60.4 seconds |
| RetCode: 0 |
| Status: OK |
| PackageFile: bioCancer_1.14.02.tgz |
| PackageFileSize: 6.408 MiB |
############################################################################## ############################################################################## ### ### Running command: ### ### rm -rf bioCancer.buildbin-libdir && mkdir bioCancer.buildbin-libdir && /Users/biocbuild/BBS/utils/build-universal.sh bioCancer_1.14.02.tar.gz /Library/Frameworks/R.framework/Versions/Current/Resources/bin/R bioCancer.buildbin-libdir ### ############################################################################## ############################################################################## >>>>>>> >>>>>>> INSTALLATION WITH 'R CMD INSTALL --preclean --no-multiarch --library=bioCancer.buildbin-libdir bioCancer_1.14.02.tar.gz' >>>>>>> * installing *source* package ‘bioCancer’ ... ** using staged installation ** R ** data *** moving datasets to lazyload DB ** inst ** byte-compile and prepare package for lazy loading ** help *** installing help indices ** building package indices ** installing vignettes ** testing if installed package can be loaded from temporary location ** testing if installed package can be loaded from final location ** testing if installed package keeps a record of temporary installation path * DONE (bioCancer)