| Back to Multiple platform build/check report for BioC 3.10 |
|
This page was generated on 2020-04-15 12:29:33 -0400 (Wed, 15 Apr 2020).
| Package 124/1823 | Hostname | OS / Arch | INSTALL | BUILD | CHECK | BUILD BIN | ||||||
| bcSeq 1.8.0 Jiaxing Lin
| malbec1 | Linux (Ubuntu 18.04.4 LTS) / x86_64 | OK | OK | OK | |||||||
| tokay1 | Windows Server 2012 R2 Standard / x64 | OK | OK | OK | [ OK ] | |||||||
| merida1 | OS X 10.11.6 El Capitan / x86_64 | OK | OK | OK | OK |
| Package: bcSeq |
| Version: 1.8.0 |
| Command: rm -rf bcSeq.buildbin-libdir && mkdir bcSeq.buildbin-libdir && C:\Users\biocbuild\bbs-3.10-bioc\R\bin\R.exe CMD INSTALL --merge-multiarch --build --library=bcSeq.buildbin-libdir bcSeq_1.8.0.tar.gz |
| StartedAt: 2020-04-15 08:14:58 -0400 (Wed, 15 Apr 2020) |
| EndedAt: 2020-04-15 08:16:32 -0400 (Wed, 15 Apr 2020) |
| EllapsedTime: 94.2 seconds |
| RetCode: 0 |
| Status: OK |
| PackageFile: bcSeq_1.8.0.zip |
| PackageFileSize: 876.9 KiB |
##############################################################################
##############################################################################
###
### Running command:
###
### rm -rf bcSeq.buildbin-libdir && mkdir bcSeq.buildbin-libdir && C:\Users\biocbuild\bbs-3.10-bioc\R\bin\R.exe CMD INSTALL --merge-multiarch --build --library=bcSeq.buildbin-libdir bcSeq_1.8.0.tar.gz
###
##############################################################################
##############################################################################
install for i386
* installing *source* package 'bcSeq' ...
** using staged installation
** libs
C:/Rtools/mingw_32/bin/g++ -std=gnu++11 -I"C:/Users/BIOCBU~1/BBS-3~1.10-/R/include" -DNDEBUG -I"C:/Users/biocbuild/bbs-3.10-bioc/R/library/Rcpp/include" -I"C:/Users/biocbuild/bbs-3.10-bioc/R/library/Matrix/include" -I"C:/extsoft/include" -fopenmp -O2 -Wall -mtune=core2 -c CRISPR_matching.cpp -o CRISPR_matching.o
C:/Rtools/mingw_32/bin/g++ -std=gnu++11 -I"C:/Users/BIOCBU~1/BBS-3~1.10-/R/include" -DNDEBUG -I"C:/Users/biocbuild/bbs-3.10-bioc/R/library/Rcpp/include" -I"C:/Users/biocbuild/bbs-3.10-bioc/R/library/Matrix/include" -I"C:/extsoft/include" -fopenmp -O2 -Wall -mtune=core2 -c RcppExports.cpp -o RcppExports.o
C:/Rtools/mingw_32/bin/g++ -std=gnu++11 -I"C:/Users/BIOCBU~1/BBS-3~1.10-/R/include" -DNDEBUG -I"C:/Users/biocbuild/bbs-3.10-bioc/R/library/Rcpp/include" -I"C:/Users/biocbuild/bbs-3.10-bioc/R/library/Matrix/include" -I"C:/extsoft/include" -fopenmp -O2 -Wall -mtune=core2 -c Trie_edit.cpp -o Trie_edit.o
C:/Rtools/mingw_32/bin/g++ -std=gnu++11 -I"C:/Users/BIOCBU~1/BBS-3~1.10-/R/include" -DNDEBUG -I"C:/Users/biocbuild/bbs-3.10-bioc/R/library/Rcpp/include" -I"C:/Users/biocbuild/bbs-3.10-bioc/R/library/Matrix/include" -I"C:/extsoft/include" -fopenmp -O2 -Wall -mtune=core2 -c Trie_hamming.cpp -o Trie_hamming.o
C:/Rtools/mingw_32/bin/g++ -std=gnu++11 -I"C:/Users/BIOCBU~1/BBS-3~1.10-/R/include" -DNDEBUG -I"C:/Users/biocbuild/bbs-3.10-bioc/R/library/Rcpp/include" -I"C:/Users/biocbuild/bbs-3.10-bioc/R/library/Matrix/include" -I"C:/extsoft/include" -fopenmp -O2 -Wall -mtune=core2 -c Trie_util.cpp -o Trie_util.o
C:/Rtools/mingw_32/bin/g++ -std=gnu++11 -I"C:/Users/BIOCBU~1/BBS-3~1.10-/R/include" -DNDEBUG -I"C:/Users/biocbuild/bbs-3.10-bioc/R/library/Rcpp/include" -I"C:/Users/biocbuild/bbs-3.10-bioc/R/library/Matrix/include" -I"C:/extsoft/include" -fopenmp -O2 -Wall -mtune=core2 -c alignment.cpp -o alignment.o
C:/Rtools/mingw_32/bin/gcc -I"C:/Users/BIOCBU~1/BBS-3~1.10-/R/include" -DNDEBUG -I"C:/Users/biocbuild/bbs-3.10-bioc/R/library/Rcpp/include" -I"C:/Users/biocbuild/bbs-3.10-bioc/R/library/Matrix/include" -I"C:/extsoft/include" -O3 -Wall -std=gnu99 -mtune=core2 -c init.c -o init.o
C:/Rtools/mingw_32/bin/g++ -std=gnu++11 -I"C:/Users/BIOCBU~1/BBS-3~1.10-/R/include" -DNDEBUG -I"C:/Users/biocbuild/bbs-3.10-bioc/R/library/Rcpp/include" -I"C:/Users/biocbuild/bbs-3.10-bioc/R/library/Matrix/include" -I"C:/extsoft/include" -fopenmp -O2 -Wall -mtune=core2 -c trimRead.cpp -o trimRead.o
C:/Rtools/mingw_32/bin/g++ -std=gnu++11 -I"C:/Users/BIOCBU~1/BBS-3~1.10-/R/include" -DNDEBUG -I"C:/Users/biocbuild/bbs-3.10-bioc/R/library/Rcpp/include" -I"C:/Users/biocbuild/bbs-3.10-bioc/R/library/Matrix/include" -I"C:/extsoft/include" -fopenmp -O2 -Wall -mtune=core2 -c uniqueBar.cpp -o uniqueBar.o
C:/Rtools/mingw_32/bin/g++ -shared -s -static-libgcc -o bcSeq.dll tmp.def CRISPR_matching.o RcppExports.o Trie_edit.o Trie_hamming.o Trie_util.o alignment.o init.o trimRead.o uniqueBar.o -fopenmp -LC:/extsoft/lib/i386 -LC:/extsoft/lib -LC:/Users/BIOCBU~1/BBS-3~1.10-/R/bin/i386 -lR
installing to C:/Users/biocbuild/bbs-3.10-bioc/meat/bcSeq.buildbin-libdir/00LOCK-bcSeq/00new/bcSeq/libs/i386
** R
** inst
** byte-compile and prepare package for lazy loading
** help
*** installing help indices
converting help for package 'bcSeq'
finding HTML links ... done
bcSeq-package html
finding level-2 HTML links ... done
bcSeq_edit html
bcSeq_hamming html
trimRead html
uniqueBar html
** building package indices
** installing vignettes
** testing if installed package can be loaded from temporary location
** testing if installed package can be loaded from final location
** testing if installed package keeps a record of temporary installation path
install for x64
* installing *source* package 'bcSeq' ...
** libs
C:/Rtools/mingw_64/bin/g++ -std=gnu++11 -I"C:/Users/BIOCBU~1/BBS-3~1.10-/R/include" -DNDEBUG -I"C:/Users/biocbuild/bbs-3.10-bioc/R/library/Rcpp/include" -I"C:/Users/biocbuild/bbs-3.10-bioc/R/library/Matrix/include" -I"C:/extsoft/include" -fopenmp -O2 -Wall -mtune=core2 -c CRISPR_matching.cpp -o CRISPR_matching.o
C:/Rtools/mingw_64/bin/g++ -std=gnu++11 -I"C:/Users/BIOCBU~1/BBS-3~1.10-/R/include" -DNDEBUG -I"C:/Users/biocbuild/bbs-3.10-bioc/R/library/Rcpp/include" -I"C:/Users/biocbuild/bbs-3.10-bioc/R/library/Matrix/include" -I"C:/extsoft/include" -fopenmp -O2 -Wall -mtune=core2 -c RcppExports.cpp -o RcppExports.o
C:/Rtools/mingw_64/bin/g++ -std=gnu++11 -I"C:/Users/BIOCBU~1/BBS-3~1.10-/R/include" -DNDEBUG -I"C:/Users/biocbuild/bbs-3.10-bioc/R/library/Rcpp/include" -I"C:/Users/biocbuild/bbs-3.10-bioc/R/library/Matrix/include" -I"C:/extsoft/include" -fopenmp -O2 -Wall -mtune=core2 -c Trie_edit.cpp -o Trie_edit.o
C:/Rtools/mingw_64/bin/g++ -std=gnu++11 -I"C:/Users/BIOCBU~1/BBS-3~1.10-/R/include" -DNDEBUG -I"C:/Users/biocbuild/bbs-3.10-bioc/R/library/Rcpp/include" -I"C:/Users/biocbuild/bbs-3.10-bioc/R/library/Matrix/include" -I"C:/extsoft/include" -fopenmp -O2 -Wall -mtune=core2 -c Trie_hamming.cpp -o Trie_hamming.o
C:/Rtools/mingw_64/bin/g++ -std=gnu++11 -I"C:/Users/BIOCBU~1/BBS-3~1.10-/R/include" -DNDEBUG -I"C:/Users/biocbuild/bbs-3.10-bioc/R/library/Rcpp/include" -I"C:/Users/biocbuild/bbs-3.10-bioc/R/library/Matrix/include" -I"C:/extsoft/include" -fopenmp -O2 -Wall -mtune=core2 -c Trie_util.cpp -o Trie_util.o
C:/Rtools/mingw_64/bin/g++ -std=gnu++11 -I"C:/Users/BIOCBU~1/BBS-3~1.10-/R/include" -DNDEBUG -I"C:/Users/biocbuild/bbs-3.10-bioc/R/library/Rcpp/include" -I"C:/Users/biocbuild/bbs-3.10-bioc/R/library/Matrix/include" -I"C:/extsoft/include" -fopenmp -O2 -Wall -mtune=core2 -c alignment.cpp -o alignment.o
C:/Rtools/mingw_64/bin/gcc -I"C:/Users/BIOCBU~1/BBS-3~1.10-/R/include" -DNDEBUG -I"C:/Users/biocbuild/bbs-3.10-bioc/R/library/Rcpp/include" -I"C:/Users/biocbuild/bbs-3.10-bioc/R/library/Matrix/include" -I"C:/extsoft/include" -O2 -Wall -std=gnu99 -mtune=core2 -c init.c -o init.o
C:/Rtools/mingw_64/bin/g++ -std=gnu++11 -I"C:/Users/BIOCBU~1/BBS-3~1.10-/R/include" -DNDEBUG -I"C:/Users/biocbuild/bbs-3.10-bioc/R/library/Rcpp/include" -I"C:/Users/biocbuild/bbs-3.10-bioc/R/library/Matrix/include" -I"C:/extsoft/include" -fopenmp -O2 -Wall -mtune=core2 -c trimRead.cpp -o trimRead.o
C:/Rtools/mingw_64/bin/g++ -std=gnu++11 -I"C:/Users/BIOCBU~1/BBS-3~1.10-/R/include" -DNDEBUG -I"C:/Users/biocbuild/bbs-3.10-bioc/R/library/Rcpp/include" -I"C:/Users/biocbuild/bbs-3.10-bioc/R/library/Matrix/include" -I"C:/extsoft/include" -fopenmp -O2 -Wall -mtune=core2 -c uniqueBar.cpp -o uniqueBar.o
C:/Rtools/mingw_64/bin/g++ -shared -s -static-libgcc -o bcSeq.dll tmp.def CRISPR_matching.o RcppExports.o Trie_edit.o Trie_hamming.o Trie_util.o alignment.o init.o trimRead.o uniqueBar.o -fopenmp -LC:/extsoft/lib/x64 -LC:/extsoft/lib -LC:/Users/BIOCBU~1/BBS-3~1.10-/R/bin/x64 -lR
installing to C:/Users/biocbuild/bbs-3.10-bioc/meat/bcSeq.buildbin-libdir/bcSeq/libs/x64
** testing if installed package can be loaded
* MD5 sums
packaged installation of 'bcSeq' as bcSeq_1.8.0.zip
* DONE (bcSeq)