| Back to Multiple platform build/check report for BioC 3.10 |
|
This page was generated on 2020-04-15 12:36:04 -0400 (Wed, 15 Apr 2020).
| Package 121/1823 | Hostname | OS / Arch | INSTALL | BUILD | CHECK | BUILD BIN | ||||||
| baySeq 2.20.0 Thomas J. Hardcastle
| malbec1 | Linux (Ubuntu 18.04.4 LTS) / x86_64 | OK | OK | OK | |||||||
| tokay1 | Windows Server 2012 R2 Standard / x64 | OK | OK | OK | OK | |||||||
| merida1 | OS X 10.11.6 El Capitan / x86_64 | OK | OK | [ OK ] | OK |
| Package: baySeq |
| Version: 2.20.0 |
| Command: /Library/Frameworks/R.framework/Versions/Current/Resources/bin/R CMD check --install=check:baySeq.install-out.txt --library=/Library/Frameworks/R.framework/Versions/Current/Resources/library --no-vignettes --timings baySeq_2.20.0.tar.gz |
| StartedAt: 2020-04-15 00:35:37 -0400 (Wed, 15 Apr 2020) |
| EndedAt: 2020-04-15 00:40:03 -0400 (Wed, 15 Apr 2020) |
| EllapsedTime: 265.9 seconds |
| RetCode: 0 |
| Status: OK |
| CheckDir: baySeq.Rcheck |
| Warnings: 0 |
##############################################################################
##############################################################################
###
### Running command:
###
### /Library/Frameworks/R.framework/Versions/Current/Resources/bin/R CMD check --install=check:baySeq.install-out.txt --library=/Library/Frameworks/R.framework/Versions/Current/Resources/library --no-vignettes --timings baySeq_2.20.0.tar.gz
###
##############################################################################
##############################################################################
* using log directory ‘/Users/biocbuild/bbs-3.10-bioc/meat/baySeq.Rcheck’
* using R version 3.6.3 (2020-02-29)
* using platform: x86_64-apple-darwin15.6.0 (64-bit)
* using session charset: UTF-8
* using option ‘--no-vignettes’
* checking for file ‘baySeq/DESCRIPTION’ ... OK
* checking extension type ... Package
* this is package ‘baySeq’ version ‘2.20.0’
* checking package namespace information ... OK
* checking package dependencies ... OK
* checking if this is a source package ... OK
* checking if there is a namespace ... OK
* checking for hidden files and directories ... OK
* checking for portable file names ... OK
* checking for sufficient/correct file permissions ... OK
* checking whether package ‘baySeq’ can be installed ... OK
* checking installed package size ... OK
* checking package directory ... OK
* checking ‘build’ directory ... OK
* checking DESCRIPTION meta-information ... OK
* checking top-level files ... OK
* checking for left-over files ... OK
* checking index information ... OK
* checking package subdirectories ... OK
* checking R files for non-ASCII characters ... OK
* checking R files for syntax errors ... OK
* checking whether the package can be loaded ... OK
* checking whether the package can be loaded with stated dependencies ... OK
* checking whether the package can be unloaded cleanly ... OK
* checking whether the namespace can be loaded with stated dependencies ... OK
* checking whether the namespace can be unloaded cleanly ... OK
* checking dependencies in R code ... OK
* checking S3 generic/method consistency ... OK
* checking replacement functions ... OK
* checking foreign function calls ... OK
* checking R code for possible problems ... OK
* checking Rd files ... OK
* checking Rd metadata ... OK
* checking Rd cross-references ... OK
* checking for missing documentation entries ... OK
* checking for code/documentation mismatches ... OK
* checking Rd \usage sections ... OK
* checking Rd contents ... OK
* checking for unstated dependencies in examples ... OK
* checking contents of ‘data’ directory ... OK
* checking data for non-ASCII characters ... OK
* checking data for ASCII and uncompressed saves ... OK
* checking sizes of PDF files under ‘inst/doc’ ... OK
* checking files in ‘vignettes’ ... OK
* checking examples ... OK
Examples with CPU or elapsed time > 5s
user system elapsed
baySeq-package 58.591 0.575 59.699
getPriors 49.151 0.113 50.408
getLikelihoods 12.596 0.295 13.021
* checking for unstated dependencies in vignettes ... OK
* checking package vignettes in ‘inst/doc’ ... OK
* checking running R code from vignettes ... SKIPPED
* checking re-building of vignette outputs ... SKIPPED
* checking PDF version of manual ... OK
* DONE
Status: OK
baySeq.Rcheck/00install.out
############################################################################## ############################################################################## ### ### Running command: ### ### /Library/Frameworks/R.framework/Versions/Current/Resources/bin/R CMD INSTALL baySeq ### ############################################################################## ############################################################################## * installing to library ‘/Library/Frameworks/R.framework/Versions/3.6/Resources/library’ * installing *source* package ‘baySeq’ ... ** using staged installation ** R ** data ** byte-compile and prepare package for lazy loading ** help *** installing help indices ** building package indices ** installing vignettes ** testing if installed package can be loaded from temporary location ** testing if installed package can be loaded from final location ** testing if installed package keeps a record of temporary installation path * DONE (baySeq)
baySeq.Rcheck/baySeq-Ex.timings
| name | user | system | elapsed | |
| allModels | 0.656 | 0.025 | 0.684 | |
| baySeq-classes | 0.206 | 0.006 | 0.213 | |
| baySeq-package | 58.591 | 0.575 | 59.699 | |
| bimodalSep | 0.002 | 0.000 | 0.002 | |
| densityFunction | 0.001 | 0.001 | 0.001 | |
| getLibsizes | 0.006 | 0.001 | 0.007 | |
| getLikelihoods | 12.596 | 0.295 | 13.021 | |
| getPosteriors | 0.008 | 0.001 | 0.009 | |
| getPriors | 49.151 | 0.113 | 50.408 | |
| getTPs | 0.011 | 0.005 | 0.016 | |
| makeOrderings | 0.070 | 0.004 | 0.076 | |
| marginaliseEqual | 0.640 | 0.007 | 0.655 | |
| marginalisePairwise | 0.592 | 0.006 | 0.618 | |
| plotMA.CD | 0.013 | 0.002 | 0.016 | |
| plotPosteriors | 0.028 | 0.002 | 0.031 | |
| plotPriors | 0.011 | 0.002 | 0.013 | |
| selectTop | 0.021 | 0.004 | 0.026 | |
| summarisePosteriors | 0.009 | 0.001 | 0.012 | |
| topCounts | 0.037 | 0.004 | 0.041 | |