| Back to Multiple platform build/check report for BioC 3.10 |
|
This page was generated on 2020-04-15 12:15:28 -0400 (Wed, 15 Apr 2020).
| Package 116/1823 | Hostname | OS / Arch | INSTALL | BUILD | CHECK | BUILD BIN | ||||||
| batchelor 1.2.4 Aaron Lun
| malbec1 | Linux (Ubuntu 18.04.4 LTS) / x86_64 | OK | OK | [ OK ] | |||||||
| tokay1 | Windows Server 2012 R2 Standard / x64 | OK | OK | OK | OK | |||||||
| merida1 | OS X 10.11.6 El Capitan / x86_64 | OK | OK | OK | OK |
| Package: batchelor |
| Version: 1.2.4 |
| Command: /home/biocbuild/bbs-3.10-bioc/R/bin/R CMD check --install=check:batchelor.install-out.txt --library=/home/biocbuild/bbs-3.10-bioc/R/library --no-vignettes --timings batchelor_1.2.4.tar.gz |
| StartedAt: 2020-04-15 06:24:34 -0400 (Wed, 15 Apr 2020) |
| EndedAt: 2020-04-15 06:30:36 -0400 (Wed, 15 Apr 2020) |
| EllapsedTime: 361.9 seconds |
| RetCode: 0 |
| Status: OK |
| CheckDir: batchelor.Rcheck |
| Warnings: 0 |
##############################################################################
##############################################################################
###
### Running command:
###
### /home/biocbuild/bbs-3.10-bioc/R/bin/R CMD check --install=check:batchelor.install-out.txt --library=/home/biocbuild/bbs-3.10-bioc/R/library --no-vignettes --timings batchelor_1.2.4.tar.gz
###
##############################################################################
##############################################################################
* using log directory ‘/home/biocbuild/bbs-3.10-bioc/meat/batchelor.Rcheck’
* using R version 3.6.3 (2020-02-29)
* using platform: x86_64-pc-linux-gnu (64-bit)
* using session charset: UTF-8
* using option ‘--no-vignettes’
* checking for file ‘batchelor/DESCRIPTION’ ... OK
* this is package ‘batchelor’ version ‘1.2.4’
* checking package namespace information ... OK
* checking package dependencies ... OK
* checking if this is a source package ... OK
* checking if there is a namespace ... OK
* checking for hidden files and directories ... OK
* checking for portable file names ... OK
* checking for sufficient/correct file permissions ... OK
* checking whether package ‘batchelor’ can be installed ... OK
* checking installed package size ... OK
* checking package directory ... OK
* checking ‘build’ directory ... OK
* checking DESCRIPTION meta-information ... OK
* checking top-level files ... OK
* checking for left-over files ... OK
* checking index information ... OK
* checking package subdirectories ... OK
* checking R files for non-ASCII characters ... OK
* checking R files for syntax errors ... OK
* checking whether the package can be loaded ... OK
* checking whether the package can be loaded with stated dependencies ... OK
* checking whether the package can be unloaded cleanly ... OK
* checking whether the namespace can be loaded with stated dependencies ... OK
* checking whether the namespace can be unloaded cleanly ... OK
* checking dependencies in R code ... OK
* checking S3 generic/method consistency ... OK
* checking replacement functions ... OK
* checking foreign function calls ... OK
* checking R code for possible problems ... OK
* checking Rd files ... OK
* checking Rd metadata ... OK
* checking Rd cross-references ... OK
* checking for missing documentation entries ... OK
* checking for code/documentation mismatches ... OK
* checking Rd \usage sections ... OK
* checking Rd contents ... OK
* checking for unstated dependencies in examples ... OK
* checking line endings in C/C++/Fortran sources/headers ... OK
* checking compiled code ... NOTE
Note: information on .o files is not available
* checking files in ‘vignettes’ ... OK
* checking examples ... OK
Examples with CPU or elapsed time > 5s
user system elapsed
correctExperiments 8.108 0.052 8.263
* checking for unstated dependencies in ‘tests’ ... OK
* checking tests ...
Running ‘testthat.R’
OK
* checking for unstated dependencies in vignettes ... OK
* checking package vignettes in ‘inst/doc’ ... OK
* checking running R code from vignettes ... SKIPPED
* checking re-building of vignette outputs ... SKIPPED
* checking PDF version of manual ... OK
* DONE
Status: 1 NOTE
See
‘/home/biocbuild/bbs-3.10-bioc/meat/batchelor.Rcheck/00check.log’
for details.
batchelor.Rcheck/00install.out
##############################################################################
##############################################################################
###
### Running command:
###
### /home/biocbuild/bbs-3.10-bioc/R/bin/R CMD INSTALL batchelor
###
##############################################################################
##############################################################################
* installing to library ‘/home/biocbuild/bbs-3.10-bioc/R/library’
* installing *source* package ‘batchelor’ ...
** using staged installation
** libs
g++ -std=gnu++11 -I"/home/biocbuild/bbs-3.10-bioc/R/include" -DNDEBUG -I"/home/biocbuild/bbs-3.10-bioc/R/library/Rcpp/include" -I"/home/biocbuild/bbs-3.10-bioc/R/library/beachmat/include" -I/usr/local/include -fpic -g -O2 -Wall -c adjust_shift_variance.cpp -o adjust_shift_variance.o
adjust_shift_variance.cpp: In function ‘SEXPREC* adjust_shift_variance(SEXP, SEXP, SEXP, SEXP, SEXP, SEXP)’:
adjust_shift_variance.cpp:131:39: warning: comparison between signed and unsigned integer expressions [-Wsign-compare]
for (size_t other=0; other<restricted1.size(); ++other) {
~~~~~^~~~~~~~~~~~~~~~~~~
g++ -std=gnu++11 -I"/home/biocbuild/bbs-3.10-bioc/R/include" -DNDEBUG -I"/home/biocbuild/bbs-3.10-bioc/R/library/Rcpp/include" -I"/home/biocbuild/bbs-3.10-bioc/R/library/beachmat/include" -I/usr/local/include -fpic -g -O2 -Wall -c find_mutual_nns.cpp -o find_mutual_nns.o
g++ -std=gnu++11 -I"/home/biocbuild/bbs-3.10-bioc/R/include" -DNDEBUG -I"/home/biocbuild/bbs-3.10-bioc/R/library/Rcpp/include" -I"/home/biocbuild/bbs-3.10-bioc/R/library/beachmat/include" -I/usr/local/include -fpic -g -O2 -Wall -c init.cpp -o init.o
g++ -std=gnu++11 -I"/home/biocbuild/bbs-3.10-bioc/R/include" -DNDEBUG -I"/home/biocbuild/bbs-3.10-bioc/R/library/Rcpp/include" -I"/home/biocbuild/bbs-3.10-bioc/R/library/beachmat/include" -I/usr/local/include -fpic -g -O2 -Wall -c smooth_gaussian_kernel.cpp -o smooth_gaussian_kernel.o
smooth_gaussian_kernel.cpp: In function ‘SEXPREC* smooth_gaussian_kernel(SEXP, SEXP, SEXP, SEXP)’:
smooth_gaussian_kernel.cpp:20:15: warning: comparison between signed and unsigned integer expressions [-Wsign-compare]
if (npairs!=_index.size()) {
~~~~~~^~~~~~~~~~~~~~~
g++ -std=gnu++11 -I"/home/biocbuild/bbs-3.10-bioc/R/include" -DNDEBUG -I"/home/biocbuild/bbs-3.10-bioc/R/library/Rcpp/include" -I"/home/biocbuild/bbs-3.10-bioc/R/library/beachmat/include" -I/usr/local/include -fpic -g -O2 -Wall -c utils.cpp -o utils.o
utils.cpp: In function ‘Rcpp::IntegerVector check_subset_vector(SEXP, size_t)’:
utils.cpp:9:35: warning: comparison between signed and unsigned integer expressions [-Wsign-compare]
if (isNA(s) || s < 0 || s >= len) {
~~^~~~~~
g++ -std=gnu++11 -shared -L/home/biocbuild/bbs-3.10-bioc/R/lib -L/usr/local/lib -o batchelor.so adjust_shift_variance.o find_mutual_nns.o init.o smooth_gaussian_kernel.o utils.o -L/home/biocbuild/bbs-3.10-bioc/R/lib -lR
installing to /home/biocbuild/bbs-3.10-bioc/R/library/00LOCK-batchelor/00new/batchelor/libs
** R
** inst
** byte-compile and prepare package for lazy loading
** help
*** installing help indices
** building package indices
** installing vignettes
** testing if installed package can be loaded from temporary location
** checking absolute paths in shared objects and dynamic libraries
** testing if installed package can be loaded from final location
** testing if installed package keeps a record of temporary installation path
* DONE (batchelor)
batchelor.Rcheck/tests/testthat.Rout
R version 3.6.3 (2020-02-29) -- "Holding the Windsock"
Copyright (C) 2020 The R Foundation for Statistical Computing
Platform: x86_64-pc-linux-gnu (64-bit)
R is free software and comes with ABSOLUTELY NO WARRANTY.
You are welcome to redistribute it under certain conditions.
Type 'license()' or 'licence()' for distribution details.
R is a collaborative project with many contributors.
Type 'contributors()' for more information and
'citation()' on how to cite R or R packages in publications.
Type 'demo()' for some demos, 'help()' for on-line help, or
'help.start()' for an HTML browser interface to help.
Type 'q()' to quit R.
> library(testthat)
> library(batchelor)
Loading required package: SingleCellExperiment
Loading required package: SummarizedExperiment
Loading required package: GenomicRanges
Loading required package: stats4
Loading required package: BiocGenerics
Loading required package: parallel
Attaching package: 'BiocGenerics'
The following objects are masked from 'package:parallel':
clusterApply, clusterApplyLB, clusterCall, clusterEvalQ,
clusterExport, clusterMap, parApply, parCapply, parLapply,
parLapplyLB, parRapply, parSapply, parSapplyLB
The following objects are masked from 'package:stats':
IQR, mad, sd, var, xtabs
The following objects are masked from 'package:base':
Filter, Find, Map, Position, Reduce, anyDuplicated, append,
as.data.frame, basename, cbind, colnames, dirname, do.call,
duplicated, eval, evalq, get, grep, grepl, intersect, is.unsorted,
lapply, mapply, match, mget, order, paste, pmax, pmax.int, pmin,
pmin.int, rank, rbind, rownames, sapply, setdiff, sort, table,
tapply, union, unique, unsplit, which, which.max, which.min
Loading required package: S4Vectors
Attaching package: 'S4Vectors'
The following object is masked from 'package:base':
expand.grid
Loading required package: IRanges
Loading required package: GenomeInfoDb
Loading required package: Biobase
Welcome to Bioconductor
Vignettes contain introductory material; view with
'browseVignettes()'. To cite Bioconductor, see
'citation("Biobase")', and for packages 'citation("pkgname")'.
Loading required package: DelayedArray
Loading required package: matrixStats
Attaching package: 'matrixStats'
The following objects are masked from 'package:Biobase':
anyMissing, rowMedians
Loading required package: BiocParallel
Attaching package: 'DelayedArray'
The following objects are masked from 'package:matrixStats':
colMaxs, colMins, colRanges, rowMaxs, rowMins, rowRanges
The following objects are masked from 'package:base':
aperm, apply, rowsum
> test_check("batchelor")
══ testthat results ═══════════════════════════════════════════════════════════
[ OK: 1460 | SKIPPED: 0 | WARNINGS: 85 | FAILED: 0 ]
>
> proc.time()
user system elapsed
153.940 1.120 155.767
batchelor.Rcheck/batchelor-Ex.timings
| name | user | system | elapsed | |
| BatchelorParam | 0.104 | 0.000 | 0.103 | |
| batchCorrect | 1.848 | 0.040 | 1.891 | |
| batchelor-restrict | 0.252 | 0.000 | 0.252 | |
| checkInputs | 0.000 | 0.000 | 0.002 | |
| correctExperiments | 8.108 | 0.052 | 8.263 | |
| cosineNorm | 0.012 | 0.000 | 0.013 | |
| divideIntoBatches | 0.004 | 0.000 | 0.004 | |
| fastMNN | 2.040 | 0.016 | 2.096 | |
| findMutualNN | 0.032 | 0.000 | 0.032 | |
| mnnCorrect | 0.196 | 0.000 | 0.200 | |
| multiBatchNorm | 0.372 | 0.012 | 0.390 | |
| multiBatchPCA | 0.408 | 0.000 | 0.416 | |
| noCorrect | 0.076 | 0.000 | 0.074 | |
| reducedMNN | 0.264 | 0.000 | 0.264 | |
| regressBatches | 0.064 | 0.004 | 0.068 | |
| rescaleBatches | 0.096 | 0.000 | 0.119 | |