| Back to Multiple platform build/check report for BioC 3.10 | 
 | 
This page was generated on 2020-04-15 12:28:59 -0400 (Wed, 15 Apr 2020).
| Package 74/1823 | Hostname | OS / Arch | INSTALL | BUILD | CHECK | BUILD BIN | ||||||
| apeglm 1.8.0 Anqi Zhu 
 | malbec1 | Linux (Ubuntu 18.04.4 LTS) / x86_64 | OK | OK | OK |  | ||||||
| tokay1 | Windows Server 2012 R2 Standard / x64 | OK | OK | OK | [ OK ] |  | ||||||
| merida1 | OS X 10.11.6 El Capitan / x86_64 | OK | OK | OK | OK |  | 
| Package: apeglm | 
| Version: 1.8.0 | 
| Command: rm -rf apeglm.buildbin-libdir && mkdir apeglm.buildbin-libdir && C:\Users\biocbuild\bbs-3.10-bioc\R\bin\R.exe CMD INSTALL --merge-multiarch --build --library=apeglm.buildbin-libdir apeglm_1.8.0.tar.gz | 
| StartedAt: 2020-04-15 08:11:15 -0400 (Wed, 15 Apr 2020) | 
| EndedAt: 2020-04-15 08:13:12 -0400 (Wed, 15 Apr 2020) | 
| EllapsedTime: 117.2 seconds | 
| RetCode: 0 | 
| Status: OK | 
| PackageFile: apeglm_1.8.0.zip | 
| PackageFileSize: 1.053 MiB | 
##############################################################################
##############################################################################
###
### Running command:
###
###   rm -rf apeglm.buildbin-libdir && mkdir apeglm.buildbin-libdir && C:\Users\biocbuild\bbs-3.10-bioc\R\bin\R.exe CMD INSTALL --merge-multiarch --build --library=apeglm.buildbin-libdir apeglm_1.8.0.tar.gz
###
##############################################################################
##############################################################################
install for i386
* installing *source* package 'apeglm' ...
** using staged installation
** libs
C:/Rtools/mingw_32/bin/g++ -std=gnu++11  -I"C:/Users/BIOCBU~1/BBS-3~1.10-/R/include" -DNDEBUG  -I"C:/Users/biocbuild/bbs-3.10-bioc/R/library/Rcpp/include" -I"C:/Users/biocbuild/bbs-3.10-bioc/R/library/RcppEigen/include" -I"C:/Users/biocbuild/bbs-3.10-bioc/R/library/RcppNumerical/include"   -I"C:/extsoft/include"     -O2 -Wall  -mtune=core2 -c RcppExports.cpp -o RcppExports.o
C:/Rtools/mingw_32/bin/g++ -std=gnu++11  -I"C:/Users/BIOCBU~1/BBS-3~1.10-/R/include" -DNDEBUG  -I"C:/Users/biocbuild/bbs-3.10-bioc/R/library/Rcpp/include" -I"C:/Users/biocbuild/bbs-3.10-bioc/R/library/RcppEigen/include" -I"C:/Users/biocbuild/bbs-3.10-bioc/R/library/RcppNumerical/include"   -I"C:/extsoft/include"     -O2 -Wall  -mtune=core2 -c betabinGLM.cpp -o betabinGLM.o
C:/Rtools/mingw_32/bin/g++ -std=gnu++11  -I"C:/Users/BIOCBU~1/BBS-3~1.10-/R/include" -DNDEBUG  -I"C:/Users/biocbuild/bbs-3.10-bioc/R/library/Rcpp/include" -I"C:/Users/biocbuild/bbs-3.10-bioc/R/library/RcppEigen/include" -I"C:/Users/biocbuild/bbs-3.10-bioc/R/library/RcppNumerical/include"   -I"C:/extsoft/include"     -O2 -Wall  -mtune=core2 -c nbinomGLM.cpp -o nbinomGLM.o
C:/Rtools/mingw_32/bin/g++ -std=gnu++11 -shared -s -static-libgcc -o apeglm.dll tmp.def RcppExports.o betabinGLM.o nbinomGLM.o -LC:/extsoft/lib/i386 -LC:/extsoft/lib -LC:/Users/BIOCBU~1/BBS-3~1.10-/R/bin/i386 -lR
installing to C:/Users/biocbuild/bbs-3.10-bioc/meat/apeglm.buildbin-libdir/00LOCK-apeglm/00new/apeglm/libs/i386
** R
** inst
** byte-compile and prepare package for lazy loading
** help
*** installing help indices
  converting help for package 'apeglm'
    finding HTML links ... done
    apeglm                                  html  
    bbEstDisp                               html  
    logLikNB                                html  
    svalue                                  html  
** building package indices
** installing vignettes
** testing if installed package can be loaded from temporary location
** testing if installed package can be loaded from final location
** testing if installed package keeps a record of temporary installation path
install for x64
* installing *source* package 'apeglm' ...
** libs
C:/Rtools/mingw_64/bin/g++ -std=gnu++11  -I"C:/Users/BIOCBU~1/BBS-3~1.10-/R/include" -DNDEBUG  -I"C:/Users/biocbuild/bbs-3.10-bioc/R/library/Rcpp/include" -I"C:/Users/biocbuild/bbs-3.10-bioc/R/library/RcppEigen/include" -I"C:/Users/biocbuild/bbs-3.10-bioc/R/library/RcppNumerical/include"   -I"C:/extsoft/include"     -O2 -Wall  -mtune=core2 -c RcppExports.cpp -o RcppExports.o
C:/Rtools/mingw_64/bin/g++ -std=gnu++11  -I"C:/Users/BIOCBU~1/BBS-3~1.10-/R/include" -DNDEBUG  -I"C:/Users/biocbuild/bbs-3.10-bioc/R/library/Rcpp/include" -I"C:/Users/biocbuild/bbs-3.10-bioc/R/library/RcppEigen/include" -I"C:/Users/biocbuild/bbs-3.10-bioc/R/library/RcppNumerical/include"   -I"C:/extsoft/include"     -O2 -Wall  -mtune=core2 -c betabinGLM.cpp -o betabinGLM.o
C:/Rtools/mingw_64/bin/g++ -std=gnu++11  -I"C:/Users/BIOCBU~1/BBS-3~1.10-/R/include" -DNDEBUG  -I"C:/Users/biocbuild/bbs-3.10-bioc/R/library/Rcpp/include" -I"C:/Users/biocbuild/bbs-3.10-bioc/R/library/RcppEigen/include" -I"C:/Users/biocbuild/bbs-3.10-bioc/R/library/RcppNumerical/include"   -I"C:/extsoft/include"     -O2 -Wall  -mtune=core2 -c nbinomGLM.cpp -o nbinomGLM.o
C:/Rtools/mingw_64/bin/g++ -std=gnu++11 -shared -s -static-libgcc -o apeglm.dll tmp.def RcppExports.o betabinGLM.o nbinomGLM.o -LC:/extsoft/lib/x64 -LC:/extsoft/lib -LC:/Users/BIOCBU~1/BBS-3~1.10-/R/bin/x64 -lR
installing to C:/Users/biocbuild/bbs-3.10-bioc/meat/apeglm.buildbin-libdir/apeglm/libs/x64
** testing if installed package can be loaded
* MD5 sums
packaged installation of 'apeglm' as apeglm_1.8.0.zip
* DONE (apeglm)