| Back to Multiple platform build/check report for BioC 3.10 | 
 | 
This page was generated on 2020-04-15 12:17:57 -0400 (Wed, 15 Apr 2020).
| Package 67/1823 | Hostname | OS / Arch | INSTALL | BUILD | CHECK | BUILD BIN | ||||||
| annotationTools 1.60.0 Alexandre Kuhn 
 | malbec1 | Linux (Ubuntu 18.04.4 LTS) / x86_64 | OK | OK | OK |  | ||||||
| tokay1 | Windows Server 2012 R2 Standard / x64 | OK | OK | [ OK ] | OK |  | ||||||
| merida1 | OS X 10.11.6 El Capitan / x86_64 | OK | OK | OK | OK |  | 
| Package: annotationTools | 
| Version: 1.60.0 | 
| Command: C:\Users\biocbuild\bbs-3.10-bioc\R\bin\R.exe CMD check --force-multiarch --install=check:annotationTools.install-out.txt --library=C:\Users\biocbuild\bbs-3.10-bioc\R\library --no-vignettes --timings annotationTools_1.60.0.tar.gz | 
| StartedAt: 2020-04-15 01:16:27 -0400 (Wed, 15 Apr 2020) | 
| EndedAt: 2020-04-15 01:17:10 -0400 (Wed, 15 Apr 2020) | 
| EllapsedTime: 43.4 seconds | 
| RetCode: 0 | 
| Status: OK | 
| CheckDir: annotationTools.Rcheck | 
| Warnings: 0 | 
############################################################################## ############################################################################## ### ### Running command: ### ### C:\Users\biocbuild\bbs-3.10-bioc\R\bin\R.exe CMD check --force-multiarch --install=check:annotationTools.install-out.txt --library=C:\Users\biocbuild\bbs-3.10-bioc\R\library --no-vignettes --timings annotationTools_1.60.0.tar.gz ### ############################################################################## ############################################################################## * using log directory 'C:/Users/biocbuild/bbs-3.10-bioc/meat/annotationTools.Rcheck' * using R version 3.6.3 (2020-02-29) * using platform: x86_64-w64-mingw32 (64-bit) * using session charset: ISO8859-1 * using option '--no-vignettes' * checking for file 'annotationTools/DESCRIPTION' ... OK * this is package 'annotationTools' version '1.60.0' * checking package namespace information ... OK * checking package dependencies ... OK * checking if this is a source package ... OK * checking if there is a namespace ... OK * checking for hidden files and directories ... OK * checking for portable file names ... OK * checking whether package 'annotationTools' can be installed ... OK * checking installed package size ... OK * checking package directory ... OK * checking 'build' directory ... OK * checking DESCRIPTION meta-information ... NOTE Malformed Title field: should not end in a period. * checking top-level files ... OK * checking for left-over files ... OK * checking index information ... OK * checking package subdirectories ... OK * checking R files for non-ASCII characters ... OK * checking R files for syntax errors ... OK * loading checks for arch 'i386' ** checking whether the package can be loaded ... OK ** checking whether the package can be loaded with stated dependencies ... OK ** checking whether the package can be unloaded cleanly ... OK ** checking whether the namespace can be loaded with stated dependencies ... OK ** checking whether the namespace can be unloaded cleanly ... OK * loading checks for arch 'x64' ** checking whether the package can be loaded ... OK ** checking whether the package can be loaded with stated dependencies ... OK ** checking whether the package can be unloaded cleanly ... OK ** checking whether the namespace can be loaded with stated dependencies ... OK ** checking whether the namespace can be unloaded cleanly ... OK * checking dependencies in R code ... OK * checking S3 generic/method consistency ... OK * checking replacement functions ... OK * checking foreign function calls ... OK * checking R code for possible problems ... OK * checking Rd files ... OK * checking Rd metadata ... OK * checking Rd cross-references ... OK * checking for missing documentation entries ... OK * checking for code/documentation mismatches ... OK * checking Rd \usage sections ... OK * checking Rd contents ... OK * checking for unstated dependencies in examples ... OK * checking contents of 'data' directory ... OK * checking data for non-ASCII characters ... OK * checking data for ASCII and uncompressed saves ... OK * checking files in 'vignettes' ... OK * checking examples ... ** running examples for arch 'i386' ... OK ** running examples for arch 'x64' ... OK * checking for unstated dependencies in vignettes ... OK * checking package vignettes in 'inst/doc' ... OK * checking running R code from vignettes ... SKIPPED * checking re-building of vignette outputs ... SKIPPED * checking PDF version of manual ... OK * DONE Status: 1 NOTE See 'C:/Users/biocbuild/bbs-3.10-bioc/meat/annotationTools.Rcheck/00check.log' for details.
annotationTools.Rcheck/00install.out
##############################################################################
##############################################################################
###
### Running command:
###
###   C:\cygwin\bin\curl.exe -O https://malbec1.bioconductor.org/BBS/3.10/bioc/src/contrib/annotationTools_1.60.0.tar.gz && rm -rf annotationTools.buildbin-libdir && mkdir annotationTools.buildbin-libdir && C:\Users\biocbuild\bbs-3.10-bioc\R\bin\R.exe CMD INSTALL --merge-multiarch --build --library=annotationTools.buildbin-libdir annotationTools_1.60.0.tar.gz && C:\Users\biocbuild\bbs-3.10-bioc\R\bin\R.exe CMD INSTALL annotationTools_1.60.0.zip && rm annotationTools_1.60.0.tar.gz annotationTools_1.60.0.zip
###
##############################################################################
##############################################################################
  % Total    % Received % Xferd  Average Speed   Time    Time     Time  Current
                                 Dload  Upload   Total   Spent    Left  Speed
  0     0    0     0    0     0      0      0 --:--:-- --:--:-- --:--:--     0
100  124k  100  124k    0     0  3218k      0 --:--:-- --:--:-- --:--:-- 3543k
install for i386
* installing *source* package 'annotationTools' ...
** using staged installation
** R
** data
** inst
** byte-compile and prepare package for lazy loading
** help
*** installing help indices
  converting help for package 'annotationTools'
    finding HTML links ... done
    HG-U133_Plus_2_annot_part               html  
    HG-U133_Plus_2_ortholog_part            html  
    Mouse430_2_annot_part                   html  
    annot_HGU133A                           html  
    compactList                             html  
    gene_group_part                         html  
    getANNOTATION                           html  
    getGENEID                               html  
    getGENEONTOLOGY                         html  
    getGENESYMBOL                           html  
    getGENETITLE                            html  
    getHOMOLOG                              html  
    getMULTIANNOTATION                      html  
    getOrthologousProbesets                 html  
    getPROBESET                             html  
    homologene_part                         html  
    listToCharacterVector                   html  
    ortho                                   html  
    ps2ps                                   html  
    table_human                             html  
    table_mouse                             html  
** building package indices
** installing vignettes
** testing if installed package can be loaded from temporary location
** testing if installed package can be loaded from final location
** testing if installed package keeps a record of temporary installation path
install for x64
* installing *source* package 'annotationTools' ...
** testing if installed package can be loaded
* MD5 sums
packaged installation of 'annotationTools' as annotationTools_1.60.0.zip
* DONE (annotationTools)
* installing to library 'C:/Users/biocbuild/bbs-3.10-bioc/R/library'
package 'annotationTools' successfully unpacked and MD5 sums checked
| annotationTools.Rcheck/examples_i386/annotationTools-Ex.timings 
 | annotationTools.Rcheck/examples_x64/annotationTools-Ex.timings 
 |