| Back to Multiple platform build/check report for BioC 3.10 | 
 | 
This page was generated on 2020-04-15 12:21:02 -0400 (Wed, 15 Apr 2020).
| Package 38/1823 | Hostname | OS / Arch | INSTALL | BUILD | CHECK | BUILD BIN | ||||||
| agilp 3.18.0 Benny Chain 
 | malbec1 | Linux (Ubuntu 18.04.4 LTS) / x86_64 | OK | OK | OK |  | ||||||
| tokay1 | Windows Server 2012 R2 Standard / x64 | OK | OK | OK | [ OK ] |  | ||||||
| merida1 | OS X 10.11.6 El Capitan / x86_64 | OK | OK | OK | OK |  | 
| Package: agilp | 
| Version: 3.18.0 | 
| Command: rm -rf agilp.buildbin-libdir && mkdir agilp.buildbin-libdir && C:\Users\biocbuild\bbs-3.10-bioc\R\bin\R.exe CMD INSTALL --merge-multiarch --build --library=agilp.buildbin-libdir agilp_3.18.0.tar.gz | 
| StartedAt: 2020-04-15 08:08:53 -0400 (Wed, 15 Apr 2020) | 
| EndedAt: 2020-04-15 08:09:03 -0400 (Wed, 15 Apr 2020) | 
| EllapsedTime: 10.7 seconds | 
| RetCode: 0 | 
| Status: OK | 
| PackageFile: agilp_3.18.0.zip | 
| PackageFileSize: 464.1 KiB | 
##############################################################################
##############################################################################
###
### Running command:
###
###   rm -rf agilp.buildbin-libdir && mkdir agilp.buildbin-libdir && C:\Users\biocbuild\bbs-3.10-bioc\R\bin\R.exe CMD INSTALL --merge-multiarch --build --library=agilp.buildbin-libdir agilp_3.18.0.tar.gz
###
##############################################################################
##############################################################################
install for i386
* installing *source* package 'agilp' ...
** using staged installation
** R
** inst
** byte-compile and prepare package for lazy loading
** help
*** installing help indices
  converting help for package 'agilp'
    finding HTML links ... done
    AALoess                                 html  
    AAProcess                               html  
    Baseline                                html  
    Equaliser                               html  
    IDswop                                  html  
    Loader                                  html  
    filenamex                               html  
** building package indices
** installing vignettes
** testing if installed package can be loaded from temporary location
** testing if installed package can be loaded from final location
** testing if installed package keeps a record of temporary installation path
install for x64
* installing *source* package 'agilp' ...
** testing if installed package can be loaded
* MD5 sums
packaged installation of 'agilp' as agilp_3.18.0.zip
* DONE (agilp)