| Back to Multiple platform build/check report for BioC 3.10 | 
  | 
This page was generated on 2020-04-15 12:16:49 -0400 (Wed, 15 Apr 2020).
| Package 33/1823 | Hostname | OS / Arch | INSTALL | BUILD | CHECK | BUILD BIN | ||||||
| affypdnn 1.60.0 Laurent Gautier 
  | malbec1 | Linux (Ubuntu 18.04.4 LTS) / x86_64 | OK | OK | OK | |||||||
| tokay1 | Windows Server 2012 R2 Standard / x64 | OK | [ OK ] | OK | OK | |||||||
| merida1 | OS X 10.11.6 El Capitan / x86_64 | OK | OK | OK | OK | 
| Package: affypdnn | 
| Version: 1.60.0 | 
| Command: chmod a+r affypdnn -R && C:\Users\biocbuild\bbs-3.10-bioc\R\bin\R.exe CMD build --keep-empty-dirs --no-resave-data affypdnn | 
| StartedAt: 2020-04-14 20:46:32 -0400 (Tue, 14 Apr 2020) | 
| EndedAt: 2020-04-14 20:47:58 -0400 (Tue, 14 Apr 2020) | 
| EllapsedTime: 86.0 seconds | 
| RetCode: 0 | 
| Status: OK | 
| PackageFile: affypdnn_1.60.0.tar.gz | 
| PackageFileSize: 11.9 MiB | 
############################################################################## ############################################################################## ### ### Running command: ### ### chmod a+r affypdnn -R && C:\Users\biocbuild\bbs-3.10-bioc\R\bin\R.exe CMD build --keep-empty-dirs --no-resave-data affypdnn ### ############################################################################## ############################################################################## * checking for file 'affypdnn/DESCRIPTION' ... OK * preparing 'affypdnn': * checking DESCRIPTION meta-information ... OK * installing the package to build vignettes * creating vignettes ... OK * checking for LF line-endings in source and make files and shell scripts * checking for empty or unneeded directories * looking to see if a 'data/datalist' file should be added * building 'affypdnn_1.60.0.tar.gz'