| Back to Multiple platform build/check report for BioC 3.10 | 
 | 
This page was generated on 2020-04-15 12:04:33 -0400 (Wed, 15 Apr 2020).
| Package 27/1823 | Hostname | OS / Arch | INSTALL | BUILD | CHECK | BUILD BIN | ||||||
| affycoretools 1.58.4 James W. MacDonald 
 | malbec1 | Linux (Ubuntu 18.04.4 LTS) / x86_64 | OK | [ OK ] | OK |  | ||||||
| tokay1 | Windows Server 2012 R2 Standard / x64 | OK | OK | WARNINGS | OK |  | ||||||
| merida1 | OS X 10.11.6 El Capitan / x86_64 | OK | OK | OK | OK |  | 
| Package: affycoretools | 
| Version: 1.58.4 | 
| Command: /home/biocbuild/bbs-3.10-bioc/R/bin/R CMD build --keep-empty-dirs --no-resave-data affycoretools | 
| StartedAt: 2020-04-14 19:26:31 -0400 (Tue, 14 Apr 2020) | 
| EndedAt: 2020-04-14 19:27:53 -0400 (Tue, 14 Apr 2020) | 
| EllapsedTime: 81.3 seconds | 
| RetCode: 0 | 
| Status: OK | 
| PackageFile: affycoretools_1.58.4.tar.gz | 
| PackageFileSize: 6.579 MiB | 
############################################################################## ############################################################################## ### ### Running command: ### ### /home/biocbuild/bbs-3.10-bioc/R/bin/R CMD build --keep-empty-dirs --no-resave-data affycoretools ### ############################################################################## ############################################################################## * checking for file ‘affycoretools/DESCRIPTION’ ... OK * preparing ‘affycoretools’: * checking DESCRIPTION meta-information ... OK * installing the package to build vignettes * creating vignettes ... OK * checking for LF line-endings in source and make files and shell scripts * checking for empty or unneeded directories * building ‘affycoretools_1.58.4.tar.gz’