| Back to Multiple platform build/check report for BioC 3.10 |
|
This page was generated on 2020-04-15 12:30:09 -0400 (Wed, 15 Apr 2020).
| Package 18/1823 | Hostname | OS / Arch | INSTALL | BUILD | CHECK | BUILD BIN | ||||||
| adaptest 1.6.1 Weixin Cai
| malbec1 | Linux (Ubuntu 18.04.4 LTS) / x86_64 | OK | OK | OK | |||||||
| tokay1 | Windows Server 2012 R2 Standard / x64 | OK | OK | OK | [ OK ] | |||||||
| merida1 | OS X 10.11.6 El Capitan / x86_64 | OK | OK | OK | OK |
| Package: adaptest |
| Version: 1.6.1 |
| Command: rm -rf adaptest.buildbin-libdir && mkdir adaptest.buildbin-libdir && C:\Users\biocbuild\bbs-3.10-bioc\R\bin\R.exe CMD INSTALL --merge-multiarch --build --library=adaptest.buildbin-libdir adaptest_1.6.1.tar.gz |
| StartedAt: 2020-04-15 08:07:42 -0400 (Wed, 15 Apr 2020) |
| EndedAt: 2020-04-15 08:08:14 -0400 (Wed, 15 Apr 2020) |
| EllapsedTime: 31.7 seconds |
| RetCode: 0 |
| Status: OK |
| PackageFile: adaptest_1.6.1.zip |
| PackageFileSize: 1.093 MiB |
##############################################################################
##############################################################################
###
### Running command:
###
### rm -rf adaptest.buildbin-libdir && mkdir adaptest.buildbin-libdir && C:\Users\biocbuild\bbs-3.10-bioc\R\bin\R.exe CMD INSTALL --merge-multiarch --build --library=adaptest.buildbin-libdir adaptest_1.6.1.tar.gz
###
##############################################################################
##############################################################################
install for i386
* installing *source* package 'adaptest' ...
** using staged installation
** R
** data
*** moving datasets to lazyload DB
** inst
** byte-compile and prepare package for lazy loading
** help
*** installing help indices
converting help for package 'adaptest'
finding HTML links ... done
adapTMLE-class html
adaptest html
adaptest_old html
bioadaptest html
cv_param_est html
data_adapt html
get_composition html
get_pval html
get_results_adaptmle html
get_significant_biomarker html
plot.data_adapt html
print.data_adapt html
rank_DE html
rank_ttest html
simulated_array html
simulated_treatment html
summary.data_adapt html
** building package indices
** installing vignettes
** testing if installed package can be loaded from temporary location
** testing if installed package can be loaded from final location
** testing if installed package keeps a record of temporary installation path
install for x64
* installing *source* package 'adaptest' ...
** testing if installed package can be loaded
* MD5 sums
packaged installation of 'adaptest' as adaptest_1.6.1.zip
* DONE (adaptest)