| Back to Multiple platform build/check report for BioC 3.10 | 
 | 
This page was generated on 2020-04-15 12:19:53 -0400 (Wed, 15 Apr 2020).
| Package 6/1823 | Hostname | OS / Arch | INSTALL | BUILD | CHECK | BUILD BIN | ||||||
| a4Reporting 1.34.0 Tobias Verbeke 
 | malbec1 | Linux (Ubuntu 18.04.4 LTS) / x86_64 | OK | OK | OK |  | ||||||
| tokay1 | Windows Server 2012 R2 Standard / x64 | OK | OK | OK | [ OK ] |  | ||||||
| merida1 | OS X 10.11.6 El Capitan / x86_64 | OK | OK | OK | OK |  | 
| Package: a4Reporting | 
| Version: 1.34.0 | 
| Command: rm -rf a4Reporting.buildbin-libdir && mkdir a4Reporting.buildbin-libdir && C:\Users\biocbuild\bbs-3.10-bioc\R\bin\R.exe CMD INSTALL --merge-multiarch --build --library=a4Reporting.buildbin-libdir a4Reporting_1.34.0.tar.gz | 
| StartedAt: 2020-04-15 08:07:22 -0400 (Wed, 15 Apr 2020) | 
| EndedAt: 2020-04-15 08:07:42 -0400 (Wed, 15 Apr 2020) | 
| EllapsedTime: 20.8 seconds | 
| RetCode: 0 | 
| Status: OK | 
| PackageFile: a4Reporting_1.34.0.zip | 
| PackageFileSize: 140.3 KiB | 
##############################################################################
##############################################################################
###
### Running command:
###
###   rm -rf a4Reporting.buildbin-libdir && mkdir a4Reporting.buildbin-libdir && C:\Users\biocbuild\bbs-3.10-bioc\R\bin\R.exe CMD INSTALL --merge-multiarch --build --library=a4Reporting.buildbin-libdir a4Reporting_1.34.0.tar.gz
###
##############################################################################
##############################################################################
install for i386
* installing *source* package 'a4Reporting' ...
** using staged installation
** R
** inst
** byte-compile and prepare package for lazy loading
** help
*** installing help indices
  converting help for package 'a4Reporting'
    finding HTML links ... done
    annotationTable-class                   html  
    annotationTable                         html  
    generateEntrezIdLinks                   html  
    generateGOIdLinks                       html  
    print.xtableAnnotationTable             html  
    xtable-methods                          html  
** building package indices
** testing if installed package can be loaded from temporary location
** testing if installed package can be loaded from final location
** testing if installed package keeps a record of temporary installation path
install for x64
* installing *source* package 'a4Reporting' ...
** testing if installed package can be loaded
* MD5 sums
packaged installation of 'a4Reporting' as a4Reporting_1.34.0.zip
* DONE (a4Reporting)