| Back to Multiple platform build/check report for BioC 3.10 | 
 | 
This page was generated on 2020-04-15 12:43:14 -0400 (Wed, 15 Apr 2020).
| Package 1779/1823 | Hostname | OS / Arch | INSTALL | BUILD | CHECK | BUILD BIN | ||||||
| Uniquorn 2.6.0 'Raik Otto' 
 | malbec1 | Linux (Ubuntu 18.04.4 LTS) / x86_64 | OK | OK | OK |  | ||||||
| tokay1 | Windows Server 2012 R2 Standard / x64 | OK | OK | OK | OK |  | ||||||
| merida1 | OS X 10.11.6 El Capitan / x86_64 | OK | OK | OK | [ OK ] |  | 
| Package: Uniquorn | 
| Version: 2.6.0 | 
| Command: rm -rf Uniquorn.buildbin-libdir && mkdir Uniquorn.buildbin-libdir && /Users/biocbuild/BBS/utils/build-universal.sh Uniquorn_2.6.0.tar.gz /Library/Frameworks/R.framework/Versions/Current/Resources/bin/R Uniquorn.buildbin-libdir | 
| StartedAt: 2020-04-15 09:03:05 -0400 (Wed, 15 Apr 2020) | 
| EndedAt: 2020-04-15 09:04:14 -0400 (Wed, 15 Apr 2020) | 
| EllapsedTime: 69.3 seconds | 
| RetCode: 0 | 
| Status: OK | 
| PackageFile: Uniquorn_2.6.0.tgz | 
| PackageFileSize: 2.316 MiB | 
############################################################################## ############################################################################## ### ### Running command: ### ### rm -rf Uniquorn.buildbin-libdir && mkdir Uniquorn.buildbin-libdir && /Users/biocbuild/BBS/utils/build-universal.sh Uniquorn_2.6.0.tar.gz /Library/Frameworks/R.framework/Versions/Current/Resources/bin/R Uniquorn.buildbin-libdir ### ############################################################################## ############################################################################## >>>>>>> >>>>>>> INSTALLATION WITH 'R CMD INSTALL --preclean --no-multiarch --library=Uniquorn.buildbin-libdir Uniquorn_2.6.0.tar.gz' >>>>>>> * installing *source* package ‘Uniquorn’ ... ** using staged installation ** R ** inst ** byte-compile and prepare package for lazy loading ** help *** installing help indices ** building package indices ** installing vignettes ** testing if installed package can be loaded from temporary location ** testing if installed package can be loaded from final location ** testing if installed package keeps a record of temporary installation path * DONE (Uniquorn)