| Back to Multiple platform build/check report for BioC 3.10 | 
  | 
This page was generated on 2020-04-15 12:21:09 -0400 (Wed, 15 Apr 2020).
| Package 1778/1823 | Hostname | OS / Arch | INSTALL | BUILD | CHECK | BUILD BIN | ||||||
| UniProt.ws 2.26.0 Bioconductor Package Maintainer 
  | malbec1 | Linux (Ubuntu 18.04.4 LTS) / x86_64 | OK | OK | OK | |||||||
| tokay1 | Windows Server 2012 R2 Standard / x64 | [ OK ] | ERROR | skipped | skipped | |||||||
| merida1 | OS X 10.11.6 El Capitan / x86_64 | OK | OK | OK | OK | 
| Package: UniProt.ws | 
| Version: 2.26.0 | 
| Command: C:\cygwin\bin\curl.exe -O https://malbec1.bioconductor.org/BBS/3.10/bioc/src/contrib/UniProt.ws_2.26.0.tar.gz && rm -rf UniProt.ws.buildbin-libdir && mkdir UniProt.ws.buildbin-libdir && C:\Users\biocbuild\bbs-3.10-bioc\R\bin\R.exe CMD INSTALL --merge-multiarch --build --library=UniProt.ws.buildbin-libdir UniProt.ws_2.26.0.tar.gz && C:\Users\biocbuild\bbs-3.10-bioc\R\bin\R.exe CMD INSTALL UniProt.ws_2.26.0.zip && rm UniProt.ws_2.26.0.tar.gz UniProt.ws_2.26.0.zip | 
| StartedAt: 2020-04-14 19:22:33 -0400 (Tue, 14 Apr 2020) | 
| EndedAt: 2020-04-14 19:23:07 -0400 (Tue, 14 Apr 2020) | 
| EllapsedTime: 33.3 seconds | 
| RetCode: 0 | 
| Status: OK | 
##############################################################################
##############################################################################
###
### Running command:
###
###   C:\cygwin\bin\curl.exe -O https://malbec1.bioconductor.org/BBS/3.10/bioc/src/contrib/UniProt.ws_2.26.0.tar.gz && rm -rf UniProt.ws.buildbin-libdir && mkdir UniProt.ws.buildbin-libdir && C:\Users\biocbuild\bbs-3.10-bioc\R\bin\R.exe CMD INSTALL --merge-multiarch --build --library=UniProt.ws.buildbin-libdir UniProt.ws_2.26.0.tar.gz && C:\Users\biocbuild\bbs-3.10-bioc\R\bin\R.exe CMD INSTALL UniProt.ws_2.26.0.zip && rm UniProt.ws_2.26.0.tar.gz UniProt.ws_2.26.0.zip
###
##############################################################################
##############################################################################
  % Total    % Received % Xferd  Average Speed   Time    Time     Time  Current
                                 Dload  Upload   Total   Spent    Left  Speed
  0     0    0     0    0     0      0      0 --:--:-- --:--:-- --:--:--     0
100  671k  100  671k    0     0  8767k      0 --:--:-- --:--:-- --:--:-- 9200k
install for i386
* installing *source* package 'UniProt.ws' ...
** using staged installation
** R
** inst
** byte-compile and prepare package for lazy loading
** help
*** installing help indices
  converting help for package 'UniProt.ws'
    finding HTML links ... done
    UniProtWS-class                         html  
    colsAndKeytypes                         html  
    utilities                               html  
** building package indices
** installing vignettes
** testing if installed package can be loaded from temporary location
** testing if installed package can be loaded from final location
** testing if installed package keeps a record of temporary installation path
install for x64
* installing *source* package 'UniProt.ws' ...
** testing if installed package can be loaded
* MD5 sums
packaged installation of 'UniProt.ws' as UniProt.ws_2.26.0.zip
* DONE (UniProt.ws)
* installing to library 'C:/Users/biocbuild/bbs-3.10-bioc/R/library'
package 'UniProt.ws' successfully unpacked and MD5 sums checked