| Back to Multiple platform build/check report for BioC 3.10 | 
 | 
This page was generated on 2020-04-15 12:32:34 -0400 (Wed, 15 Apr 2020).
| Package 1751/1823 | Hostname | OS / Arch | INSTALL | BUILD | CHECK | BUILD BIN | ||||||
| TreeSummarizedExperiment 1.2.0 Ruizhu Huang 
 | malbec1 | Linux (Ubuntu 18.04.4 LTS) / x86_64 | OK | OK | WARNINGS |  | ||||||
| tokay1 | Windows Server 2012 R2 Standard / x64 | [ OK ] | OK | WARNINGS | OK |  | ||||||
| merida1 | OS X 10.11.6 El Capitan / x86_64 | OK | OK | WARNINGS | OK |  | 
| Package: TreeSummarizedExperiment | 
| Version: 1.2.0 | 
| Command: C:\cygwin\bin\curl.exe -O https://malbec1.bioconductor.org/BBS/3.10/bioc/src/contrib/TreeSummarizedExperiment_1.2.0.tar.gz && rm -rf TreeSummarizedExperiment.buildbin-libdir && mkdir TreeSummarizedExperiment.buildbin-libdir && C:\Users\biocbuild\bbs-3.10-bioc\R\bin\R.exe CMD INSTALL --merge-multiarch --build --library=TreeSummarizedExperiment.buildbin-libdir TreeSummarizedExperiment_1.2.0.tar.gz && C:\Users\biocbuild\bbs-3.10-bioc\R\bin\R.exe CMD INSTALL TreeSummarizedExperiment_1.2.0.zip && rm TreeSummarizedExperiment_1.2.0.tar.gz TreeSummarizedExperiment_1.2.0.zip | 
| StartedAt: 2020-04-14 19:40:53 -0400 (Tue, 14 Apr 2020) | 
| EndedAt: 2020-04-14 19:41:50 -0400 (Tue, 14 Apr 2020) | 
| EllapsedTime: 56.5 seconds | 
| RetCode: 0 | 
| Status: OK | 
##############################################################################
##############################################################################
###
### Running command:
###
###   C:\cygwin\bin\curl.exe -O https://malbec1.bioconductor.org/BBS/3.10/bioc/src/contrib/TreeSummarizedExperiment_1.2.0.tar.gz && rm -rf TreeSummarizedExperiment.buildbin-libdir && mkdir TreeSummarizedExperiment.buildbin-libdir && C:\Users\biocbuild\bbs-3.10-bioc\R\bin\R.exe CMD INSTALL --merge-multiarch --build --library=TreeSummarizedExperiment.buildbin-libdir TreeSummarizedExperiment_1.2.0.tar.gz && C:\Users\biocbuild\bbs-3.10-bioc\R\bin\R.exe CMD INSTALL TreeSummarizedExperiment_1.2.0.zip && rm TreeSummarizedExperiment_1.2.0.tar.gz TreeSummarizedExperiment_1.2.0.zip
###
##############################################################################
##############################################################################
  % Total    % Received % Xferd  Average Speed   Time    Time     Time  Current
                                 Dload  Upload   Total   Spent    Left  Speed
  0     0    0     0    0     0      0      0 --:--:-- --:--:-- --:--:--     0
100  171k  100  171k    0     0   798k      0 --:--:-- --:--:-- --:--:--  813k
install for i386
* installing *source* package 'TreeSummarizedExperiment' ...
** using staged installation
** R
** data
*** moving datasets to lazyload DB
** byte-compile and prepare package for lazy loading
** help
*** installing help indices
  converting help for package 'TreeSummarizedExperiment'
    finding HTML links ... done
    LinkDataFrame-class                     html  
    LinkDataFrame-constructor               html  
    TreeSummarizedExperiment-accessor       html  
    TreeSummarizedExperiment-class          html  
    TreeSummarizedExperiment-constructor    html  
    aggValue                                html  
    countLeaf                               html  
    countNode                               html  
    distNode                                html  
    dot-checkLDF                            html  
    dot-checkTSE                            html  
    findAncestor                            html  
    findOS                                  html  
    findSibling                             html  
    isLeaf                                  html  
    matTree                                 html  
    phylo                                   html  
    printNode                               html  
    pruneTree                               html  
    shareNode                               html  
    signalNode                              html  
    tinyTree                                html  
    toTree                                  html  
    trackNode                               html  
    transNode                               html  
** building package indices
** installing vignettes
** testing if installed package can be loaded from temporary location
** testing if installed package can be loaded from final location
** testing if installed package keeps a record of temporary installation path
install for x64
* installing *source* package 'TreeSummarizedExperiment' ...
** testing if installed package can be loaded
* MD5 sums
packaged installation of 'TreeSummarizedExperiment' as TreeSummarizedExperiment_1.2.0.zip
* DONE (TreeSummarizedExperiment)
* installing to library 'C:/Users/biocbuild/bbs-3.10-bioc/R/library'
package 'TreeSummarizedExperiment' successfully unpacked and MD5 sums checked