| Back to Multiple platform build/check report for BioC 3.10 | 
 | 
This page was generated on 2020-04-15 12:25:31 -0400 (Wed, 15 Apr 2020).
| Package 1706/1823 | Hostname | OS / Arch | INSTALL | BUILD | CHECK | BUILD BIN | ||||||
| TarSeqQC 1.16.0 Gabriela Merino 
 | malbec1 | Linux (Ubuntu 18.04.4 LTS) / x86_64 | OK | OK | OK |  | ||||||
| tokay1 | Windows Server 2012 R2 Standard / x64 | OK | OK | OK | [ OK ] |  | ||||||
| merida1 | OS X 10.11.6 El Capitan / x86_64 | OK | OK | OK | OK |  | 
| Package: TarSeqQC | 
| Version: 1.16.0 | 
| Command: rm -rf TarSeqQC.buildbin-libdir && mkdir TarSeqQC.buildbin-libdir && C:\Users\biocbuild\bbs-3.10-bioc\R\bin\R.exe CMD INSTALL --merge-multiarch --build --library=TarSeqQC.buildbin-libdir TarSeqQC_1.16.0.tar.gz | 
| StartedAt: 2020-04-15 09:48:12 -0400 (Wed, 15 Apr 2020) | 
| EndedAt: 2020-04-15 09:48:57 -0400 (Wed, 15 Apr 2020) | 
| EllapsedTime: 45.0 seconds | 
| RetCode: 0 | 
| Status: OK | 
| PackageFile: TarSeqQC_1.16.0.zip | 
| PackageFileSize: 2.582 MiB | 
##############################################################################
##############################################################################
###
### Running command:
###
###   rm -rf TarSeqQC.buildbin-libdir && mkdir TarSeqQC.buildbin-libdir && C:\Users\biocbuild\bbs-3.10-bioc\R\bin\R.exe CMD INSTALL --merge-multiarch --build --library=TarSeqQC.buildbin-libdir TarSeqQC_1.16.0.tar.gz
###
##############################################################################
##############################################################################
install for i386
* installing *source* package 'TarSeqQC' ...
** using staged installation
** R
** data
** inst
** byte-compile and prepare package for lazy loading
** help
*** installing help indices
  converting help for package 'TarSeqQC'
    finding HTML links ... done
    TEList                                  html  
    TarSeqQC-package                        html  
    TargetExperiment-biasExploration        html  
    TargetExperiment-buildFeaturePanel      html  
    TargetExperiment-buildReport            html  
    TargetExperiment-class                  html  
    TargetExperiment-constructor            html  
    TargetExperiment-getters                html  
    TargetExperiment-initialize             html  
    TargetExperiment-plot                   html  
    TargetExperiment-plotAttrExpl           html  
    TargetExperiment-plotAttrPerform        html  
    TargetExperiment-plotFeatPerform        html  
    TargetExperiment-plotFeature            html  
    TargetExperiment-plotGeneAttrPerFeat    html  
    TargetExperiment-plotMetaDataExpl       html  
    TargetExperiment-plotNtdPercentage      html  
    TargetExperiment-plotRegion             html  
    TargetExperiment-print                  html  
    TargetExperiment-readFrequencies        html  
    TargetExperiment-setters                html  
    TargetExperiment-show                   html  
    TargetExperiment-statistics             html  
    TargetExperiment-summarizePanel         html  
    TargetExperimentList-class              html  
    TargetExperimentList-constructor        html  
    TargetExperimentList-initialize         html  
    TargetExperimentList-plotGlobalAttrExpl
                                            html  
    TargetExperimentList-plotPoolPerformance
                                            html  
    ampliPanel                              html  
    ampliPanel2                             html  
    checkBedFasta                           html  
    myCounts                                html  
    object                                  html  
    pileupCounts                            html  
    plotInOutFeatures                       html  
** building package indices
** installing vignettes
** testing if installed package can be loaded from temporary location
** testing if installed package can be loaded from final location
** testing if installed package keeps a record of temporary installation path
install for x64
* installing *source* package 'TarSeqQC' ...
** testing if installed package can be loaded
* MD5 sums
packaged installation of 'TarSeqQC' as TarSeqQC_1.16.0.zip
* DONE (TarSeqQC)