| Back to Multiple platform build/check report for BioC 3.10 |
|
This page was generated on 2020-04-15 12:29:49 -0400 (Wed, 15 Apr 2020).
| Package 1765/1823 | Hostname | OS / Arch | INSTALL | BUILD | CHECK | BUILD BIN | ||||||
| TTMap 1.8.0 Rachel Jeitziner
| malbec1 | Linux (Ubuntu 18.04.4 LTS) / x86_64 | OK | OK | OK | |||||||
| tokay1 | Windows Server 2012 R2 Standard / x64 | [ ERROR ] | OK | ERROR | ERROR | |||||||
| merida1 | OS X 10.11.6 El Capitan / x86_64 | OK | OK | WARNINGS | OK |
| Package: TTMap |
| Version: 1.8.0 |
| Command: C:\cygwin\bin\curl.exe -O https://malbec1.bioconductor.org/BBS/3.10/bioc/src/contrib/TTMap_1.8.0.tar.gz && rm -rf TTMap.buildbin-libdir && mkdir TTMap.buildbin-libdir && C:\Users\biocbuild\bbs-3.10-bioc\R\bin\R.exe CMD INSTALL --merge-multiarch --build --library=TTMap.buildbin-libdir TTMap_1.8.0.tar.gz && C:\Users\biocbuild\bbs-3.10-bioc\R\bin\R.exe CMD INSTALL TTMap_1.8.0.zip && rm TTMap_1.8.0.tar.gz TTMap_1.8.0.zip |
| StartedAt: 2020-04-14 19:44:42 -0400 (Tue, 14 Apr 2020) |
| EndedAt: 2020-04-14 19:44:52 -0400 (Tue, 14 Apr 2020) |
| EllapsedTime: 10.3 seconds |
| RetCode: 1 |
| Status: ERROR |
##############################################################################
##############################################################################
###
### Running command:
###
### C:\cygwin\bin\curl.exe -O https://malbec1.bioconductor.org/BBS/3.10/bioc/src/contrib/TTMap_1.8.0.tar.gz && rm -rf TTMap.buildbin-libdir && mkdir TTMap.buildbin-libdir && C:\Users\biocbuild\bbs-3.10-bioc\R\bin\R.exe CMD INSTALL --merge-multiarch --build --library=TTMap.buildbin-libdir TTMap_1.8.0.tar.gz && C:\Users\biocbuild\bbs-3.10-bioc\R\bin\R.exe CMD INSTALL TTMap_1.8.0.zip && rm TTMap_1.8.0.tar.gz TTMap_1.8.0.zip
###
##############################################################################
##############################################################################
% Total % Received % Xferd Average Speed Time Time Time Current
Dload Upload Total Spent Left Speed
0 0 0 0 0 0 0 0 --:--:-- --:--:-- --:--:-- 0
100 361k 100 361k 0 0 1612k 0 --:--:-- --:--:-- --:--:-- 1644k
install for i386
* installing *source* package 'TTMap' ...
** using staged installation
** R
** byte-compile and prepare package for lazy loading
Error: package 'rgl' is not installed for 'arch = i386'
Execution halted
ERROR: lazy loading failed for package 'TTMap'
* removing 'C:/Users/biocbuild/bbs-3.10-bioc/meat/TTMap.buildbin-libdir/TTMap'