| Back to Multiple platform build/check report for BioC 3.10 |
|
This page was generated on 2020-04-15 12:32:09 -0400 (Wed, 15 Apr 2020).
| Package 1731/1823 | Hostname | OS / Arch | INSTALL | BUILD | CHECK | BUILD BIN | ||||||
| TNBC.CMS 1.2.0 Doyeong Yu
| malbec1 | Linux (Ubuntu 18.04.4 LTS) / x86_64 | OK | OK | OK | |||||||
| tokay1 | Windows Server 2012 R2 Standard / x64 | OK | OK | OK | [ OK ] | |||||||
| merida1 | OS X 10.11.6 El Capitan / x86_64 | OK | OK | OK | OK |
| Package: TNBC.CMS |
| Version: 1.2.0 |
| Command: rm -rf TNBC.CMS.buildbin-libdir && mkdir TNBC.CMS.buildbin-libdir && C:\Users\biocbuild\bbs-3.10-bioc\R\bin\R.exe CMD INSTALL --merge-multiarch --build --library=TNBC.CMS.buildbin-libdir TNBC.CMS_1.2.0.tar.gz |
| StartedAt: 2020-04-15 09:49:38 -0400 (Wed, 15 Apr 2020) |
| EndedAt: 2020-04-15 09:50:25 -0400 (Wed, 15 Apr 2020) |
| EllapsedTime: 47.0 seconds |
| RetCode: 0 |
| Status: OK |
| PackageFile: TNBC.CMS_1.2.0.zip |
| PackageFileSize: 3.113 MiB |
##############################################################################
##############################################################################
###
### Running command:
###
### rm -rf TNBC.CMS.buildbin-libdir && mkdir TNBC.CMS.buildbin-libdir && C:\Users\biocbuild\bbs-3.10-bioc\R\bin\R.exe CMD INSTALL --merge-multiarch --build --library=TNBC.CMS.buildbin-libdir TNBC.CMS_1.2.0.tar.gz
###
##############################################################################
##############################################################################
install for i386
* installing *source* package 'TNBC.CMS' ...
** using staged installation
** R
** data
** inst
** byte-compile and prepare package for lazy loading
** help
*** installing help indices
converting help for package 'TNBC.CMS'
finding HTML links ... done
GSE25055 html
computeDS html
computeESTIMATEscore html
computeGES html
computexCellScore html
performGSVA html
plotHR html
plotKM html
predictCMS html
** building package indices
** installing vignettes
** testing if installed package can be loaded from temporary location
** testing if installed package can be loaded from final location
** testing if installed package keeps a record of temporary installation path
install for x64
* installing *source* package 'TNBC.CMS' ...
** testing if installed package can be loaded
* MD5 sums
packaged installation of 'TNBC.CMS' as TNBC.CMS_1.2.0.zip
* DONE (TNBC.CMS)