| Back to Multiple platform build/check report for BioC 3.10 |
|
This page was generated on 2019-08-12 12:17:52 -0400 (Mon, 12 Aug 2019).
| Package 1649/1749 | Hostname | OS / Arch | INSTALL | BUILD | CHECK | BUILD BIN | ||||||
| TFutils 1.5.7 Shweta Gopaulakrishnan
| malbec1 | Linux (Ubuntu 18.04.2 LTS) / x86_64 | OK | OK | OK | |||||||
| tokay1 | Windows Server 2012 R2 Standard / x64 | OK | OK | OK | [ OK ] | |||||||
| merida1 | OS X 10.11.6 El Capitan / x86_64 | OK | OK | WARNINGS | OK |
| Package: TFutils |
| Version: 1.5.7 |
| Command: rm -rf TFutils.buildbin-libdir && mkdir TFutils.buildbin-libdir && C:\Users\biocbuild\bbs-3.10-bioc\R\bin\R.exe CMD INSTALL --merge-multiarch --build --library=TFutils.buildbin-libdir TFutils_1.5.7.tar.gz |
| StartedAt: 2019-08-12 07:53:38 -0400 (Mon, 12 Aug 2019) |
| EndedAt: 2019-08-12 07:54:21 -0400 (Mon, 12 Aug 2019) |
| EllapsedTime: 42.4 seconds |
| RetCode: 0 |
| Status: OK |
| PackageFile: TFutils_1.5.7.zip |
| PackageFileSize: 2.537 MiB |
##############################################################################
##############################################################################
###
### Running command:
###
### rm -rf TFutils.buildbin-libdir && mkdir TFutils.buildbin-libdir && C:\Users\biocbuild\bbs-3.10-bioc\R\bin\R.exe CMD INSTALL --merge-multiarch --build --library=TFutils.buildbin-libdir TFutils_1.5.7.tar.gz
###
##############################################################################
##############################################################################
install for i386
* installing *source* package 'TFutils' ...
** using staged installation
** R
** data
*** moving datasets to lazyload DB
** inst
** byte-compile and prepare package for lazy loading
** help
*** installing help indices
converting help for package 'TFutils'
finding HTML links ... done
HGNCmap html
TFCatalog-class html
TFCatalog html
TFtargs html
URL_s3_tf html
cisbpTFcat html
defaultCircosParms html
demo_fimo_granges html
directHitsInCISBP html
encode690 html
fimo16 html
fimoMap html
fimo_granges html
genemodForGviz html
genemodelDF html
grabTab html
gwascat_hg19_chr17 html
hocomoco.mono html
hocomoco.mono.sep2018 html
importFIMO html
importFIMO_local_split html
metadata_tf html
named_tf html
seqinfo_hg19_chr17 html
setupHIZE html
show-TFCatalog-method html
tffamCirc.plot html
tffamCirc.prep html
tfhash html
tftColl html
tftCollMap html
topTraitsOfTargets html
** building package indices
** installing vignettes
** testing if installed package can be loaded from temporary location
** testing if installed package can be loaded from final location
** testing if installed package keeps a record of temporary installation path
install for x64
* installing *source* package 'TFutils' ...
** testing if installed package can be loaded
* MD5 sums
packaged installation of 'TFutils' as TFutils_1.5.7.zip
* DONE (TFutils)