| Back to Multiple platform build/check report for BioC 3.10 | 
 | 
This page was generated on 2020-04-15 12:30:26 -0400 (Wed, 15 Apr 2020).
| Package 1710/1823 | Hostname | OS / Arch | INSTALL | BUILD | CHECK | BUILD BIN | ||||||
| TCGAutils 1.6.2 Marcel Ramos 
 | malbec1 | Linux (Ubuntu 18.04.4 LTS) / x86_64 | OK | OK | OK |  | ||||||
| tokay1 | Windows Server 2012 R2 Standard / x64 | [ OK ] | OK | OK | OK |  | ||||||
| merida1 | OS X 10.11.6 El Capitan / x86_64 | OK | OK | OK | OK |  | 
| Package: TCGAutils | 
| Version: 1.6.2 | 
| Command: C:\cygwin\bin\curl.exe -O https://malbec1.bioconductor.org/BBS/3.10/bioc/src/contrib/TCGAutils_1.6.2.tar.gz && rm -rf TCGAutils.buildbin-libdir && mkdir TCGAutils.buildbin-libdir && C:\Users\biocbuild\bbs-3.10-bioc\R\bin\R.exe CMD INSTALL --merge-multiarch --build --library=TCGAutils.buildbin-libdir TCGAutils_1.6.2.tar.gz && C:\Users\biocbuild\bbs-3.10-bioc\R\bin\R.exe CMD INSTALL TCGAutils_1.6.2.zip && rm TCGAutils_1.6.2.tar.gz TCGAutils_1.6.2.zip | 
| StartedAt: 2020-04-14 19:54:43 -0400 (Tue, 14 Apr 2020) | 
| EndedAt: 2020-04-14 19:55:51 -0400 (Tue, 14 Apr 2020) | 
| EllapsedTime: 67.6 seconds | 
| RetCode: 0 | 
| Status: OK | 
##############################################################################
##############################################################################
###
### Running command:
###
###   C:\cygwin\bin\curl.exe -O https://malbec1.bioconductor.org/BBS/3.10/bioc/src/contrib/TCGAutils_1.6.2.tar.gz && rm -rf TCGAutils.buildbin-libdir && mkdir TCGAutils.buildbin-libdir && C:\Users\biocbuild\bbs-3.10-bioc\R\bin\R.exe CMD INSTALL --merge-multiarch --build --library=TCGAutils.buildbin-libdir TCGAutils_1.6.2.tar.gz && C:\Users\biocbuild\bbs-3.10-bioc\R\bin\R.exe CMD INSTALL TCGAutils_1.6.2.zip && rm TCGAutils_1.6.2.tar.gz TCGAutils_1.6.2.zip
###
##############################################################################
##############################################################################
  % Total    % Received % Xferd  Average Speed   Time    Time     Time  Current
                                 Dload  Upload   Total   Spent    Left  Speed
  0     0    0     0    0     0      0      0 --:--:-- --:--:-- --:--:--     0
100 64208  100 64208    0     0   648k      0 --:--:-- --:--:-- --:--:--  674k
install for i386
* installing *source* package 'TCGAutils' ...
** using staged installation
** R
** data
*** moving datasets to lazyload DB
** inst
** byte-compile and prepare package for lazy loading
** help
*** installing help indices
  converting help for package 'TCGAutils'
    finding HTML links ... done
    ID-translation                          html  
    TCGAbarcode                             html  
    TCGAbiospec                             html  
    TCGAprimaryTumors                       html  
    finding level-2 HTML links ... done
    TCGAsampleSelect                        html  
    TCGAutils-package                       html  
    builds                                  html  
    clinicalNames                           html  
    curatedTCGAData-helpers                 html  
    diseaseCodes                            html  
    findGRangesCols                         html  
    generateMap                             html  
    getFileName                             html  
    hidden-helpers                          html  
    imputeAssay                             html  
    makeGRangesListFromCopyNumber           html  
    makeGRangesListFromExonFiles            html  
    makeSummarizedExperimentFromGISTIC      html  
    mergeColData                            html  
    oncoPrintTCGA                           html  
    sampleTypes                             html  
    simplifyTCGA                            html  
    trimColData                             html  
** building package indices
** installing vignettes
** testing if installed package can be loaded from temporary location
** testing if installed package can be loaded from final location
** testing if installed package keeps a record of temporary installation path
install for x64
* installing *source* package 'TCGAutils' ...
** testing if installed package can be loaded
* MD5 sums
packaged installation of 'TCGAutils' as TCGAutils_1.6.2.zip
* DONE (TCGAutils)
* installing to library 'C:/Users/biocbuild/bbs-3.10-bioc/R/library'
package 'TCGAutils' successfully unpacked and MD5 sums checked