| Back to Multiple platform build/check report for BioC 3.10 | 
 | 
This page was generated on 2020-04-15 12:30:17 -0400 (Wed, 15 Apr 2020).
| Package 1635/1823 | Hostname | OS / Arch | INSTALL | BUILD | CHECK | BUILD BIN | ||||||
| SparseSignatures 1.6.0 Luca De Sano 
 | malbec1 | Linux (Ubuntu 18.04.4 LTS) / x86_64 | OK | OK | OK |  | ||||||
| tokay1 | Windows Server 2012 R2 Standard / x64 | [ OK ] | OK | OK | OK |  | ||||||
| merida1 | OS X 10.11.6 El Capitan / x86_64 | OK | OK | OK | OK |  | 
| Package: SparseSignatures | 
| Version: 1.6.0 | 
| Command: C:\cygwin\bin\curl.exe -O https://malbec1.bioconductor.org/BBS/3.10/bioc/src/contrib/SparseSignatures_1.6.0.tar.gz && rm -rf SparseSignatures.buildbin-libdir && mkdir SparseSignatures.buildbin-libdir && C:\Users\biocbuild\bbs-3.10-bioc\R\bin\R.exe CMD INSTALL --merge-multiarch --build --library=SparseSignatures.buildbin-libdir SparseSignatures_1.6.0.tar.gz && C:\Users\biocbuild\bbs-3.10-bioc\R\bin\R.exe CMD INSTALL SparseSignatures_1.6.0.zip && rm SparseSignatures_1.6.0.tar.gz SparseSignatures_1.6.0.zip | 
| StartedAt: 2020-04-14 20:31:56 -0400 (Tue, 14 Apr 2020) | 
| EndedAt: 2020-04-14 20:32:48 -0400 (Tue, 14 Apr 2020) | 
| EllapsedTime: 51.4 seconds | 
| RetCode: 0 | 
| Status: OK | 
##############################################################################
##############################################################################
###
### Running command:
###
###   C:\cygwin\bin\curl.exe -O https://malbec1.bioconductor.org/BBS/3.10/bioc/src/contrib/SparseSignatures_1.6.0.tar.gz && rm -rf SparseSignatures.buildbin-libdir && mkdir SparseSignatures.buildbin-libdir && C:\Users\biocbuild\bbs-3.10-bioc\R\bin\R.exe CMD INSTALL --merge-multiarch --build --library=SparseSignatures.buildbin-libdir SparseSignatures_1.6.0.tar.gz && C:\Users\biocbuild\bbs-3.10-bioc\R\bin\R.exe CMD INSTALL SparseSignatures_1.6.0.zip && rm SparseSignatures_1.6.0.tar.gz SparseSignatures_1.6.0.zip
###
##############################################################################
##############################################################################
  % Total    % Received % Xferd  Average Speed   Time    Time     Time  Current
                                 Dload  Upload   Total   Spent    Left  Speed
  0     0    0     0    0     0      0      0 --:--:-- --:--:-- --:--:--     0
100  651k  100  651k    0     0   9.9M      0 --:--:-- --:--:-- --:--:-- 10.5M
install for i386
* installing *source* package 'SparseSignatures' ...
** using staged installation
** R
** data
*** moving datasets to lazyload DB
** inst
** byte-compile and prepare package for lazy loading
** help
*** installing help indices
  converting help for package 'SparseSignatures'
    finding HTML links ... done
    as.alpha                                html  
    as.alpha.in.range                       html  
    as.beta                                 html  
    as.beta.in.range                        html  
    as.loglik.progression                   html  
    as.loglik.progression.in.range          html  
    as.mean.squared.error                   html  
    as.starting.beta                        html  
    as.starting.beta.in.range               html  
    background                              html  
    cv_example                              html  
    evaluate.lambda.range                   html  
    import.counts.data                      html  
    lambda_range_example                    html  
    mutation_categories                     html  
    nmf.LassoCV                             html  
    nmf.LassoK                              html  
    nmf_LassoK_example                      html  
    patient.plot                            html  
    patients                                html  
    signatures.plot                         html  
    ssm560_reduced                          html  
    starting.betas.estimation               html  
    starting_betas_example                  html  
** building package indices
** installing vignettes
** testing if installed package can be loaded from temporary location
** testing if installed package can be loaded from final location
** testing if installed package keeps a record of temporary installation path
install for x64
* installing *source* package 'SparseSignatures' ...
** testing if installed package can be loaded
* MD5 sums
packaged installation of 'SparseSignatures' as SparseSignatures_1.6.0.zip
* DONE (SparseSignatures)
* installing to library 'C:/Users/biocbuild/bbs-3.10-bioc/R/library'
package 'SparseSignatures' successfully unpacked and MD5 sums checked