| Back to Multiple platform build/check report for BioC 3.10 |
|
This page was generated on 2020-04-15 12:22:10 -0400 (Wed, 15 Apr 2020).
| Package 1597/1823 | Hostname | OS / Arch | INSTALL | BUILD | CHECK | BUILD BIN | ||||||
| SimBindProfiles 1.24.0 Bettina Fischer
| malbec1 | Linux (Ubuntu 18.04.4 LTS) / x86_64 | OK | OK | OK | |||||||
| tokay1 | Windows Server 2012 R2 Standard / x64 | [ OK ] | OK | WARNINGS | OK | |||||||
| merida1 | OS X 10.11.6 El Capitan / x86_64 | OK | OK | OK | OK |
| Package: SimBindProfiles |
| Version: 1.24.0 |
| Command: C:\cygwin\bin\curl.exe -O https://malbec1.bioconductor.org/BBS/3.10/bioc/src/contrib/SimBindProfiles_1.24.0.tar.gz && rm -rf SimBindProfiles.buildbin-libdir && mkdir SimBindProfiles.buildbin-libdir && C:\Users\biocbuild\bbs-3.10-bioc\R\bin\R.exe CMD INSTALL --merge-multiarch --build --library=SimBindProfiles.buildbin-libdir SimBindProfiles_1.24.0.tar.gz && C:\Users\biocbuild\bbs-3.10-bioc\R\bin\R.exe CMD INSTALL SimBindProfiles_1.24.0.zip && rm SimBindProfiles_1.24.0.tar.gz SimBindProfiles_1.24.0.zip |
| StartedAt: 2020-04-14 19:16:15 -0400 (Tue, 14 Apr 2020) |
| EndedAt: 2020-04-14 19:16:59 -0400 (Tue, 14 Apr 2020) |
| EllapsedTime: 44.1 seconds |
| RetCode: 0 |
| Status: OK |
##############################################################################
##############################################################################
###
### Running command:
###
### C:\cygwin\bin\curl.exe -O https://malbec1.bioconductor.org/BBS/3.10/bioc/src/contrib/SimBindProfiles_1.24.0.tar.gz && rm -rf SimBindProfiles.buildbin-libdir && mkdir SimBindProfiles.buildbin-libdir && C:\Users\biocbuild\bbs-3.10-bioc\R\bin\R.exe CMD INSTALL --merge-multiarch --build --library=SimBindProfiles.buildbin-libdir SimBindProfiles_1.24.0.tar.gz && C:\Users\biocbuild\bbs-3.10-bioc\R\bin\R.exe CMD INSTALL SimBindProfiles_1.24.0.zip && rm SimBindProfiles_1.24.0.tar.gz SimBindProfiles_1.24.0.zip
###
##############################################################################
##############################################################################
% Total % Received % Xferd Average Speed Time Time Time Current
Dload Upload Total Spent Left Speed
0 0 0 0 0 0 0 0 --:--:-- --:--:-- --:--:-- 0
100 1499k 100 1499k 0 0 26.5M 0 --:--:-- --:--:-- --:--:-- 28.7M
install for i386
* installing *source* package 'SimBindProfiles' ...
** using staged installation
** R
** data
** inst
** byte-compile and prepare package for lazy loading
** help
*** installing help indices
converting help for package 'SimBindProfiles'
finding HTML links ... done
SGR html
SimBindProfiles-package html
compensationRegions html
eSetScatterPlot html
findBoundCutoff html
increasedBindingRegions html
pairwiseRegions html
plotBoundProbes html
probeAnnoFromESet html
Rd warning: C:/Users/biocbuild/bbs-3.10-bioc/tmpdir/RtmpMLqQrs/R.INSTALL191c495503f/SimBindProfiles/man/probeAnnoFromESet.Rd:33: file link 'probeAnno-class' in package 'Ringo' does not exist and so has been treated as a topic
probeLengthPlot html
readSgrFiles html
Rd warning: C:/Users/biocbuild/bbs-3.10-bioc/tmpdir/RtmpMLqQrs/R.INSTALL191c495503f/SimBindProfiles/man/readSgrFiles.Rd:29: file link 'ExpressionSet' in package 'Biobase' does not exist and so has been treated as a topic
threewayRegions html
** building package indices
** installing vignettes
** testing if installed package can be loaded from temporary location
** testing if installed package can be loaded from final location
** testing if installed package keeps a record of temporary installation path
install for x64
* installing *source* package 'SimBindProfiles' ...
** testing if installed package can be loaded
* MD5 sums
packaged installation of 'SimBindProfiles' as SimBindProfiles_1.24.0.zip
* DONE (SimBindProfiles)
* installing to library 'C:/Users/biocbuild/bbs-3.10-bioc/R/library'
package 'SimBindProfiles' successfully unpacked and MD5 sums checked