| Back to Multiple platform build/check report for BioC 3.10 | 
 | 
This page was generated on 2020-04-15 12:21:28 -0400 (Wed, 15 Apr 2020).
| Package 1559/1823 | Hostname | OS / Arch | INSTALL | BUILD | CHECK | BUILD BIN | ||||||
| SeqArray 1.26.2 Xiuwen Zheng 
 | malbec1 | Linux (Ubuntu 18.04.4 LTS) / x86_64 | OK | OK | OK |  | ||||||
| tokay1 | Windows Server 2012 R2 Standard / x64 | [ OK ] | OK | OK | OK |  | ||||||
| merida1 | OS X 10.11.6 El Capitan / x86_64 | OK | OK | OK | OK |  | 
| Package: SeqArray | 
| Version: 1.26.2 | 
| Command: C:\cygwin\bin\curl.exe -O https://malbec1.bioconductor.org/BBS/3.10/bioc/src/contrib/SeqArray_1.26.2.tar.gz && rm -rf SeqArray.buildbin-libdir && mkdir SeqArray.buildbin-libdir && C:\Users\biocbuild\bbs-3.10-bioc\R\bin\R.exe CMD INSTALL --merge-multiarch --build --library=SeqArray.buildbin-libdir SeqArray_1.26.2.tar.gz && C:\Users\biocbuild\bbs-3.10-bioc\R\bin\R.exe CMD INSTALL SeqArray_1.26.2.zip && rm SeqArray_1.26.2.tar.gz SeqArray_1.26.2.zip | 
| StartedAt: 2020-04-14 19:33:09 -0400 (Tue, 14 Apr 2020) | 
| EndedAt: 2020-04-14 19:35:06 -0400 (Tue, 14 Apr 2020) | 
| EllapsedTime: 117.0 seconds | 
| RetCode: 0 | 
| Status: OK | 
##############################################################################
##############################################################################
###
### Running command:
###
###   C:\cygwin\bin\curl.exe -O https://malbec1.bioconductor.org/BBS/3.10/bioc/src/contrib/SeqArray_1.26.2.tar.gz && rm -rf SeqArray.buildbin-libdir && mkdir SeqArray.buildbin-libdir && C:\Users\biocbuild\bbs-3.10-bioc\R\bin\R.exe CMD INSTALL --merge-multiarch --build --library=SeqArray.buildbin-libdir SeqArray_1.26.2.tar.gz && C:\Users\biocbuild\bbs-3.10-bioc\R\bin\R.exe CMD INSTALL SeqArray_1.26.2.zip && rm SeqArray_1.26.2.tar.gz SeqArray_1.26.2.zip
###
##############################################################################
##############################################################################
  % Total    % Received % Xferd  Average Speed   Time    Time     Time  Current
                                 Dload  Upload   Total   Spent    Left  Speed
  0     0    0     0    0     0      0      0 --:--:-- --:--:-- --:--:--     0
100 1918k  100 1918k    0     0  13.6M      0 --:--:-- --:--:-- --:--:-- 13.9M
install for i386
* installing *source* package 'SeqArray' ...
** using staged installation
** libs
C:/Rtools/mingw_32/bin/g++ -std=gnu++11  -I"C:/Users/BIOCBU~1/BBS-3~1.10-/R/include" -DNDEBUG -DUSING_R -I"C:/Users/biocbuild/bbs-3.10-bioc/R/library/gdsfmt/include"   -I"C:/extsoft/include"     -O2 -Wall  -mtune=core2 -c ConvGDS2VCF.cpp -o ConvGDS2VCF.o
C:/Rtools/mingw_32/bin/g++ -std=gnu++11  -I"C:/Users/BIOCBU~1/BBS-3~1.10-/R/include" -DNDEBUG -DUSING_R -I"C:/Users/biocbuild/bbs-3.10-bioc/R/library/gdsfmt/include"   -I"C:/extsoft/include"     -O2 -Wall  -mtune=core2 -c ConvToGDS.cpp -o ConvToGDS.o
C:/Rtools/mingw_32/bin/g++ -std=gnu++11  -I"C:/Users/BIOCBU~1/BBS-3~1.10-/R/include" -DNDEBUG -DUSING_R -I"C:/Users/biocbuild/bbs-3.10-bioc/R/library/gdsfmt/include"   -I"C:/extsoft/include"     -O2 -Wall  -mtune=core2 -c ConvVCF2GDS.cpp -o ConvVCF2GDS.o
C:/Rtools/mingw_32/bin/g++ -std=gnu++11  -I"C:/Users/BIOCBU~1/BBS-3~1.10-/R/include" -DNDEBUG -DUSING_R -I"C:/Users/biocbuild/bbs-3.10-bioc/R/library/gdsfmt/include"   -I"C:/extsoft/include"     -O2 -Wall  -mtune=core2 -c FileMerge.cpp -o FileMerge.o
C:/Rtools/mingw_32/bin/g++ -std=gnu++11  -I"C:/Users/BIOCBU~1/BBS-3~1.10-/R/include" -DNDEBUG -DUSING_R -I"C:/Users/biocbuild/bbs-3.10-bioc/R/library/gdsfmt/include"   -I"C:/extsoft/include"     -O2 -Wall  -mtune=core2 -c GetData.cpp -o GetData.o
C:/Rtools/mingw_32/bin/g++ -std=gnu++11  -I"C:/Users/BIOCBU~1/BBS-3~1.10-/R/include" -DNDEBUG -DUSING_R -I"C:/Users/biocbuild/bbs-3.10-bioc/R/library/gdsfmt/include"   -I"C:/extsoft/include"     -O2 -Wall  -mtune=core2 -c Index.cpp -o Index.o
C:/Rtools/mingw_32/bin/g++ -std=gnu++11  -I"C:/Users/BIOCBU~1/BBS-3~1.10-/R/include" -DNDEBUG -DUSING_R -I"C:/Users/biocbuild/bbs-3.10-bioc/R/library/gdsfmt/include"   -I"C:/extsoft/include"     -O2 -Wall  -mtune=core2 -c LinkSNPRelate.cpp -o LinkSNPRelate.o
C:/Rtools/mingw_32/bin/g++ -std=gnu++11  -I"C:/Users/BIOCBU~1/BBS-3~1.10-/R/include" -DNDEBUG -DUSING_R -I"C:/Users/biocbuild/bbs-3.10-bioc/R/library/gdsfmt/include"   -I"C:/extsoft/include"     -O2 -Wall  -mtune=core2 -c Methods.cpp -o Methods.o
C:/Rtools/mingw_32/bin/gcc  -I"C:/Users/BIOCBU~1/BBS-3~1.10-/R/include" -DNDEBUG -DUSING_R -I"C:/Users/biocbuild/bbs-3.10-bioc/R/library/gdsfmt/include"   -I"C:/extsoft/include"     -O3 -Wall  -std=gnu99 -mtune=core2 -c R_SeqArray.c -o R_SeqArray.o
C:/Rtools/mingw_32/bin/g++ -std=gnu++11  -I"C:/Users/BIOCBU~1/BBS-3~1.10-/R/include" -DNDEBUG -DUSING_R -I"C:/Users/biocbuild/bbs-3.10-bioc/R/library/gdsfmt/include"   -I"C:/extsoft/include"     -O2 -Wall  -mtune=core2 -c ReadBySample.cpp -o ReadBySample.o
C:/Rtools/mingw_32/bin/g++ -std=gnu++11  -I"C:/Users/BIOCBU~1/BBS-3~1.10-/R/include" -DNDEBUG -DUSING_R -I"C:/Users/biocbuild/bbs-3.10-bioc/R/library/gdsfmt/include"   -I"C:/extsoft/include"     -O2 -Wall  -mtune=core2 -c ReadByVariant.cpp -o ReadByVariant.o
C:/Rtools/mingw_32/bin/g++ -std=gnu++11  -I"C:/Users/BIOCBU~1/BBS-3~1.10-/R/include" -DNDEBUG -DUSING_R -I"C:/Users/biocbuild/bbs-3.10-bioc/R/library/gdsfmt/include"   -I"C:/extsoft/include"     -O2 -Wall  -mtune=core2 -c SeqArray.cpp -o SeqArray.o
C:/Rtools/mingw_32/bin/g++ -std=gnu++11  -I"C:/Users/BIOCBU~1/BBS-3~1.10-/R/include" -DNDEBUG -DUSING_R -I"C:/Users/biocbuild/bbs-3.10-bioc/R/library/gdsfmt/include"   -I"C:/extsoft/include"     -O2 -Wall  -mtune=core2 -c pkg_test.cpp -o pkg_test.o
C:/Rtools/mingw_32/bin/gcc  -I"C:/Users/BIOCBU~1/BBS-3~1.10-/R/include" -DNDEBUG -DUSING_R -I"C:/Users/biocbuild/bbs-3.10-bioc/R/library/gdsfmt/include"   -I"C:/extsoft/include"     -O3 -Wall  -std=gnu99 -mtune=core2 -c samtools_ext.c -o samtools_ext.o
C:/Rtools/mingw_32/bin/gcc  -I"C:/Users/BIOCBU~1/BBS-3~1.10-/R/include" -DNDEBUG -DUSING_R -I"C:/Users/biocbuild/bbs-3.10-bioc/R/library/gdsfmt/include"   -I"C:/extsoft/include"     -O3 -Wall  -std=gnu99 -mtune=core2 -c vectorization.c -o vectorization.o
C:/Rtools/mingw_32/bin/g++ -std=gnu++11 -shared -s -static-libgcc -o SeqArray.dll tmp.def ConvGDS2VCF.o ConvToGDS.o ConvVCF2GDS.o FileMerge.o GetData.o Index.o LinkSNPRelate.o Methods.o R_SeqArray.o ReadBySample.o ReadByVariant.o SeqArray.o pkg_test.o samtools_ext.o vectorization.o -LC:/extsoft/lib/i386 -LC:/extsoft/lib -LC:/Users/BIOCBU~1/BBS-3~1.10-/R/bin/i386 -lR
installing to C:/Users/biocbuild/bbs-3.10-bioc/meat/SeqArray.buildbin-libdir/00LOCK-SeqArray/00new/SeqArray/libs/i386
** R
** data
** inst
** byte-compile and prepare package for lazy loading
** help
*** installing help indices
  converting help for package 'SeqArray'
    finding HTML links ... done
    KG_P1_SampData                          html  
    SeqArray-package                        html  
    SeqVarGDSClass-class                    html  
    finding level-2 HTML links ... done
    seqAddValue                             html  
    seqAlleleFreq                           html  
    seqApply                                html  
    seqAsVCF                                html  
    seqBED2GDS                              html  
    seqBlockApply                           html  
    seqCheck                                html  
    seqClose                                html  
    seqDelete                               html  
    seqDigest                               html  
    seqExampleFileName                      html  
    seqExport                               html  
    seqGDS2SNP                              html  
    seqGDS2VCF                              html  
    seqGetData                              html  
    seqGetFilter                            html  
    seqMerge                                html  
    seqMissing                              html  
    seqNumAllele                            html  
    seqOpen                                 html  
    seqOptimize                             html  
    seqParallel                             html  
    seqParallelSetup                        html  
    seqRecompress                           html  
    seqResetVariantID                       html  
    seqSNP2GDS                              html  
    seqSetFilter                            html  
    seqSetFilterCond                        html  
    seqStorageOption                        html  
    seqSummary                              html  
    seqSystem                               html  
    seqTranspose                            html  
    seqVCF2GDS                              html  
    seqVCF_Header                           html  
    seqVCF_SampID                           html  
** building package indices
** installing vignettes
** testing if installed package can be loaded from temporary location
** testing if installed package can be loaded from final location
** testing if installed package keeps a record of temporary installation path
install for x64
* installing *source* package 'SeqArray' ...
** libs
C:/Rtools/mingw_64/bin/g++ -std=gnu++11  -I"C:/Users/BIOCBU~1/BBS-3~1.10-/R/include" -DNDEBUG -DUSING_R -I"C:/Users/biocbuild/bbs-3.10-bioc/R/library/gdsfmt/include"   -I"C:/extsoft/include"     -O2 -Wall  -mtune=core2 -c ConvGDS2VCF.cpp -o ConvGDS2VCF.o
C:/Rtools/mingw_64/bin/g++ -std=gnu++11  -I"C:/Users/BIOCBU~1/BBS-3~1.10-/R/include" -DNDEBUG -DUSING_R -I"C:/Users/biocbuild/bbs-3.10-bioc/R/library/gdsfmt/include"   -I"C:/extsoft/include"     -O2 -Wall  -mtune=core2 -c ConvToGDS.cpp -o ConvToGDS.o
C:/Rtools/mingw_64/bin/g++ -std=gnu++11  -I"C:/Users/BIOCBU~1/BBS-3~1.10-/R/include" -DNDEBUG -DUSING_R -I"C:/Users/biocbuild/bbs-3.10-bioc/R/library/gdsfmt/include"   -I"C:/extsoft/include"     -O2 -Wall  -mtune=core2 -c ConvVCF2GDS.cpp -o ConvVCF2GDS.o
C:/Rtools/mingw_64/bin/g++ -std=gnu++11  -I"C:/Users/BIOCBU~1/BBS-3~1.10-/R/include" -DNDEBUG -DUSING_R -I"C:/Users/biocbuild/bbs-3.10-bioc/R/library/gdsfmt/include"   -I"C:/extsoft/include"     -O2 -Wall  -mtune=core2 -c FileMerge.cpp -o FileMerge.o
C:/Rtools/mingw_64/bin/g++ -std=gnu++11  -I"C:/Users/BIOCBU~1/BBS-3~1.10-/R/include" -DNDEBUG -DUSING_R -I"C:/Users/biocbuild/bbs-3.10-bioc/R/library/gdsfmt/include"   -I"C:/extsoft/include"     -O2 -Wall  -mtune=core2 -c GetData.cpp -o GetData.o
C:/Rtools/mingw_64/bin/g++ -std=gnu++11  -I"C:/Users/BIOCBU~1/BBS-3~1.10-/R/include" -DNDEBUG -DUSING_R -I"C:/Users/biocbuild/bbs-3.10-bioc/R/library/gdsfmt/include"   -I"C:/extsoft/include"     -O2 -Wall  -mtune=core2 -c Index.cpp -o Index.o
C:/Rtools/mingw_64/bin/g++ -std=gnu++11  -I"C:/Users/BIOCBU~1/BBS-3~1.10-/R/include" -DNDEBUG -DUSING_R -I"C:/Users/biocbuild/bbs-3.10-bioc/R/library/gdsfmt/include"   -I"C:/extsoft/include"     -O2 -Wall  -mtune=core2 -c LinkSNPRelate.cpp -o LinkSNPRelate.o
C:/Rtools/mingw_64/bin/g++ -std=gnu++11  -I"C:/Users/BIOCBU~1/BBS-3~1.10-/R/include" -DNDEBUG -DUSING_R -I"C:/Users/biocbuild/bbs-3.10-bioc/R/library/gdsfmt/include"   -I"C:/extsoft/include"     -O2 -Wall  -mtune=core2 -c Methods.cpp -o Methods.o
C:/Rtools/mingw_64/bin/gcc  -I"C:/Users/BIOCBU~1/BBS-3~1.10-/R/include" -DNDEBUG -DUSING_R -I"C:/Users/biocbuild/bbs-3.10-bioc/R/library/gdsfmt/include"   -I"C:/extsoft/include"     -O2 -Wall  -std=gnu99 -mtune=core2 -c R_SeqArray.c -o R_SeqArray.o
C:/Rtools/mingw_64/bin/g++ -std=gnu++11  -I"C:/Users/BIOCBU~1/BBS-3~1.10-/R/include" -DNDEBUG -DUSING_R -I"C:/Users/biocbuild/bbs-3.10-bioc/R/library/gdsfmt/include"   -I"C:/extsoft/include"     -O2 -Wall  -mtune=core2 -c ReadBySample.cpp -o ReadBySample.o
C:/Rtools/mingw_64/bin/g++ -std=gnu++11  -I"C:/Users/BIOCBU~1/BBS-3~1.10-/R/include" -DNDEBUG -DUSING_R -I"C:/Users/biocbuild/bbs-3.10-bioc/R/library/gdsfmt/include"   -I"C:/extsoft/include"     -O2 -Wall  -mtune=core2 -c ReadByVariant.cpp -o ReadByVariant.o
C:/Rtools/mingw_64/bin/g++ -std=gnu++11  -I"C:/Users/BIOCBU~1/BBS-3~1.10-/R/include" -DNDEBUG -DUSING_R -I"C:/Users/biocbuild/bbs-3.10-bioc/R/library/gdsfmt/include"   -I"C:/extsoft/include"     -O2 -Wall  -mtune=core2 -c SeqArray.cpp -o SeqArray.o
C:/Rtools/mingw_64/bin/g++ -std=gnu++11  -I"C:/Users/BIOCBU~1/BBS-3~1.10-/R/include" -DNDEBUG -DUSING_R -I"C:/Users/biocbuild/bbs-3.10-bioc/R/library/gdsfmt/include"   -I"C:/extsoft/include"     -O2 -Wall  -mtune=core2 -c pkg_test.cpp -o pkg_test.o
C:/Rtools/mingw_64/bin/gcc  -I"C:/Users/BIOCBU~1/BBS-3~1.10-/R/include" -DNDEBUG -DUSING_R -I"C:/Users/biocbuild/bbs-3.10-bioc/R/library/gdsfmt/include"   -I"C:/extsoft/include"     -O2 -Wall  -std=gnu99 -mtune=core2 -c samtools_ext.c -o samtools_ext.o
C:/Rtools/mingw_64/bin/gcc  -I"C:/Users/BIOCBU~1/BBS-3~1.10-/R/include" -DNDEBUG -DUSING_R -I"C:/Users/biocbuild/bbs-3.10-bioc/R/library/gdsfmt/include"   -I"C:/extsoft/include"     -O2 -Wall  -std=gnu99 -mtune=core2 -c vectorization.c -o vectorization.o
C:/Rtools/mingw_64/bin/g++ -std=gnu++11 -shared -s -static-libgcc -o SeqArray.dll tmp.def ConvGDS2VCF.o ConvToGDS.o ConvVCF2GDS.o FileMerge.o GetData.o Index.o LinkSNPRelate.o Methods.o R_SeqArray.o ReadBySample.o ReadByVariant.o SeqArray.o pkg_test.o samtools_ext.o vectorization.o -LC:/extsoft/lib/x64 -LC:/extsoft/lib -LC:/Users/BIOCBU~1/BBS-3~1.10-/R/bin/x64 -lR
installing to C:/Users/biocbuild/bbs-3.10-bioc/meat/SeqArray.buildbin-libdir/SeqArray/libs/x64
** testing if installed package can be loaded
* MD5 sums
packaged installation of 'SeqArray' as SeqArray_1.26.2.zip
* DONE (SeqArray)
* installing to library 'C:/Users/biocbuild/bbs-3.10-bioc/R/library'
package 'SeqArray' successfully unpacked and MD5 sums checked