| Back to Multiple platform build/check report for BioC 3.10 |
|
This page was generated on 2020-04-15 12:23:27 -0400 (Wed, 15 Apr 2020).
| Package 1554/1823 | Hostname | OS / Arch | INSTALL | BUILD | CHECK | BUILD BIN | ||||||
| SemDist 1.20.0 Ian Gonzalez
| malbec1 | Linux (Ubuntu 18.04.4 LTS) / x86_64 | OK | OK | OK | |||||||
| tokay1 | Windows Server 2012 R2 Standard / x64 | OK | OK | [ OK ] | OK | |||||||
| merida1 | OS X 10.11.6 El Capitan / x86_64 | OK | OK | OK | OK |
| Package: SemDist |
| Version: 1.20.0 |
| Command: C:\Users\biocbuild\bbs-3.10-bioc\R\bin\R.exe CMD check --force-multiarch --install=check:SemDist.install-out.txt --library=C:\Users\biocbuild\bbs-3.10-bioc\R\library --no-vignettes --timings SemDist_1.20.0.tar.gz |
| StartedAt: 2020-04-15 06:30:28 -0400 (Wed, 15 Apr 2020) |
| EndedAt: 2020-04-15 06:33:22 -0400 (Wed, 15 Apr 2020) |
| EllapsedTime: 173.7 seconds |
| RetCode: 0 |
| Status: OK |
| CheckDir: SemDist.Rcheck |
| Warnings: 0 |
##############################################################################
##############################################################################
###
### Running command:
###
### C:\Users\biocbuild\bbs-3.10-bioc\R\bin\R.exe CMD check --force-multiarch --install=check:SemDist.install-out.txt --library=C:\Users\biocbuild\bbs-3.10-bioc\R\library --no-vignettes --timings SemDist_1.20.0.tar.gz
###
##############################################################################
##############################################################################
* using log directory 'C:/Users/biocbuild/bbs-3.10-bioc/meat/SemDist.Rcheck'
* using R version 3.6.3 (2020-02-29)
* using platform: x86_64-w64-mingw32 (64-bit)
* using session charset: ISO8859-1
* using option '--no-vignettes'
* checking for file 'SemDist/DESCRIPTION' ... OK
* this is package 'SemDist' version '1.20.0'
* checking package namespace information ... OK
* checking package dependencies ... OK
* checking if this is a source package ... OK
* checking if there is a namespace ... OK
* checking for hidden files and directories ... OK
* checking for portable file names ... OK
* checking whether package 'SemDist' can be installed ... OK
* checking installed package size ... OK
* checking package directory ... OK
* checking 'build' directory ... OK
* checking DESCRIPTION meta-information ... OK
* checking top-level files ... OK
* checking for left-over files ... OK
* checking index information ... OK
* checking package subdirectories ... OK
* checking R files for non-ASCII characters ... OK
* checking R files for syntax errors ... OK
* loading checks for arch 'i386'
** checking whether the package can be loaded ... OK
** checking whether the package can be loaded with stated dependencies ... OK
** checking whether the package can be unloaded cleanly ... OK
** checking whether the namespace can be loaded with stated dependencies ... OK
** checking whether the namespace can be unloaded cleanly ... OK
* loading checks for arch 'x64'
** checking whether the package can be loaded ... OK
** checking whether the package can be loaded with stated dependencies ... OK
** checking whether the package can be unloaded cleanly ... OK
** checking whether the namespace can be loaded with stated dependencies ... OK
** checking whether the namespace can be unloaded cleanly ... OK
* checking dependencies in R code ... OK
* checking S3 generic/method consistency ... OK
* checking replacement functions ... OK
* checking foreign function calls ... OK
* checking R code for possible problems ... NOTE
RUMIcurve : IA_sum: no visible global function definition for 'na.omit'
computeIA: no visible global function definition for 'read.table'
findRUMI : IA_sum: no visible global function definition for 'na.omit'
getPredictions: no visible global function definition for 'read.table'
getTrues: no visible global function definition for 'read.table'
loadIA: no visible global function definition for 'data'
readOntology: no visible global function definition for 'read.table'
Undefined global functions or variables:
data na.omit read.table
Consider adding
importFrom("stats", "na.omit")
importFrom("utils", "data", "read.table")
to your NAMESPACE file.
* checking Rd files ... OK
* checking Rd metadata ... OK
* checking Rd cross-references ... OK
* checking for missing documentation entries ... OK
* checking for code/documentation mismatches ... OK
* checking Rd \usage sections ... OK
* checking Rd contents ... OK
* checking for unstated dependencies in examples ... OK
* checking contents of 'data' directory ... OK
* checking data for non-ASCII characters ... OK
* checking data for ASCII and uncompressed saves ... OK
* checking files in 'vignettes' ... OK
* checking examples ...
** running examples for arch 'i386' ... OK
** running examples for arch 'x64' ... OK
* checking for unstated dependencies in vignettes ... OK
* checking package vignettes in 'inst/doc' ... OK
* checking running R code from vignettes ... SKIPPED
* checking re-building of vignette outputs ... SKIPPED
* checking PDF version of manual ... OK
* DONE
Status: 1 NOTE
See
'C:/Users/biocbuild/bbs-3.10-bioc/meat/SemDist.Rcheck/00check.log'
for details.
SemDist.Rcheck/00install.out
##############################################################################
##############################################################################
###
### Running command:
###
### C:\cygwin\bin\curl.exe -O https://malbec1.bioconductor.org/BBS/3.10/bioc/src/contrib/SemDist_1.20.0.tar.gz && rm -rf SemDist.buildbin-libdir && mkdir SemDist.buildbin-libdir && C:\Users\biocbuild\bbs-3.10-bioc\R\bin\R.exe CMD INSTALL --merge-multiarch --build --library=SemDist.buildbin-libdir SemDist_1.20.0.tar.gz && C:\Users\biocbuild\bbs-3.10-bioc\R\bin\R.exe CMD INSTALL SemDist_1.20.0.zip && rm SemDist_1.20.0.tar.gz SemDist_1.20.0.zip
###
##############################################################################
##############################################################################
% Total % Received % Xferd Average Speed Time Time Time Current
Dload Upload Total Spent Left Speed
0 0 0 0 0 0 0 0 --:--:-- --:--:-- --:--:-- 0
100 1941k 100 1941k 0 0 34.6M 0 --:--:-- --:--:-- --:--:-- 37.1M
install for i386
* installing *source* package 'SemDist' ...
** using staged installation
** R
** data
** inst
** byte-compile and prepare package for lazy loading
** help
*** installing help indices
converting help for package 'SemDist'
finding HTML links ... done
IAccr html
RUMIcurve html
computeIA html
findRUMI html
parentcnt html
termcnt html
** building package indices
** installing vignettes
** testing if installed package can be loaded from temporary location
** testing if installed package can be loaded from final location
** testing if installed package keeps a record of temporary installation path
install for x64
* installing *source* package 'SemDist' ...
** testing if installed package can be loaded
* MD5 sums
packaged installation of 'SemDist' as SemDist_1.20.0.zip
* DONE (SemDist)
* installing to library 'C:/Users/biocbuild/bbs-3.10-bioc/R/library'
package 'SemDist' successfully unpacked and MD5 sums checked
|
SemDist.Rcheck/examples_i386/SemDist-Ex.timings
|
SemDist.Rcheck/examples_x64/SemDist-Ex.timings
|