| Back to Multiple platform build/check report for BioC 3.10 | 
 | 
This page was generated on 2020-04-15 12:28:33 -0400 (Wed, 15 Apr 2020).
| Package 1520/1823 | Hostname | OS / Arch | INSTALL | BUILD | CHECK | BUILD BIN | ||||||
| Scale4C 1.8.0 Carolin Walter 
 | malbec1 | Linux (Ubuntu 18.04.4 LTS) / x86_64 | OK | OK | OK |  | ||||||
| tokay1 | Windows Server 2012 R2 Standard / x64 | OK | OK | OK | [ OK ] |  | ||||||
| merida1 | OS X 10.11.6 El Capitan / x86_64 | OK | OK | OK | OK |  | 
| Package: Scale4C | 
| Version: 1.8.0 | 
| Command: rm -rf Scale4C.buildbin-libdir && mkdir Scale4C.buildbin-libdir && C:\Users\biocbuild\bbs-3.10-bioc\R\bin\R.exe CMD INSTALL --merge-multiarch --build --library=Scale4C.buildbin-libdir Scale4C_1.8.0.tar.gz | 
| StartedAt: 2020-04-15 09:37:44 -0400 (Wed, 15 Apr 2020) | 
| EndedAt: 2020-04-15 09:38:30 -0400 (Wed, 15 Apr 2020) | 
| EllapsedTime: 45.7 seconds | 
| RetCode: 0 | 
| Status: OK | 
| PackageFile: Scale4C_1.8.0.zip | 
| PackageFileSize: 2.116 MiB | 
##############################################################################
##############################################################################
###
### Running command:
###
###   rm -rf Scale4C.buildbin-libdir && mkdir Scale4C.buildbin-libdir && C:\Users\biocbuild\bbs-3.10-bioc\R\bin\R.exe CMD INSTALL --merge-multiarch --build --library=Scale4C.buildbin-libdir Scale4C_1.8.0.tar.gz
###
##############################################################################
##############################################################################
install for i386
* installing *source* package 'Scale4C' ...
** using staged installation
** R
** data
** inst
** byte-compile and prepare package for lazy loading
** help
*** installing help indices
  converting help for package 'Scale4C'
    finding HTML links ... done
    Scale4C-class                           html  
    Scale4C                                 html  
    addPointsOfInterest                     html  
    calculateFingerprintMap                 html  
    calculateScaleSpace                     html  
    findSingularities                       html  
    importBasic4CseqData                    html  
    liverData                               html  
    liverDataVP                             html  
    outputScaleSpaceTree                    html  
    plotInflectionPoints                    html  
    plotTesselation                         html  
    plotTraceback                           html  
** building package indices
** installing vignettes
** testing if installed package can be loaded from temporary location
** testing if installed package can be loaded from final location
** testing if installed package keeps a record of temporary installation path
install for x64
* installing *source* package 'Scale4C' ...
** testing if installed package can be loaded
* MD5 sums
packaged installation of 'Scale4C' as Scale4C_1.8.0.zip
* DONE (Scale4C)