| Back to Multiple platform build/check report for BioC 3.10 |
|
This page was generated on 2020-04-15 12:24:27 -0400 (Wed, 15 Apr 2020).
| Package 1553/1823 | Hostname | OS / Arch | INSTALL | BUILD | CHECK | BUILD BIN | ||||||
| SELEX 1.18.0 Harmen Bussemaker
| malbec1 | Linux (Ubuntu 18.04.4 LTS) / x86_64 | OK | OK | OK | |||||||
| tokay1 | Windows Server 2012 R2 Standard / x64 | OK | OK | OK | [ OK ] | |||||||
| merida1 | OS X 10.11.6 El Capitan / x86_64 | OK | OK | OK | OK |
| Package: SELEX |
| Version: 1.18.0 |
| Command: rm -rf SELEX.buildbin-libdir && mkdir SELEX.buildbin-libdir && C:\Users\biocbuild\bbs-3.10-bioc\R\bin\R.exe CMD INSTALL --merge-multiarch --build --library=SELEX.buildbin-libdir SELEX_1.18.0.tar.gz |
| StartedAt: 2020-04-15 09:39:30 -0400 (Wed, 15 Apr 2020) |
| EndedAt: 2020-04-15 09:39:48 -0400 (Wed, 15 Apr 2020) |
| EllapsedTime: 18.4 seconds |
| RetCode: 0 |
| Status: OK |
| PackageFile: SELEX_1.18.0.zip |
| PackageFileSize: 1.731 MiB |
##############################################################################
##############################################################################
###
### Running command:
###
### rm -rf SELEX.buildbin-libdir && mkdir SELEX.buildbin-libdir && C:\Users\biocbuild\bbs-3.10-bioc\R\bin\R.exe CMD INSTALL --merge-multiarch --build --library=SELEX.buildbin-libdir SELEX_1.18.0.tar.gz
###
##############################################################################
##############################################################################
install for i386
* installing *source* package 'SELEX' ...
** using staged installation
** R
** inst
** byte-compile and prepare package for lazy loading
** help
*** installing help indices
converting help for package 'SELEX'
finding HTML links ... done
SELEX html
selex.affinities html
selex.config html
selex.countSummary html
selex.counts html
selex.defineSample html
selex.exampledata html
selex.fastqPSFM html
selex.getAttributes html
selex.getRound0 html
selex.getSeqfilter html
selex.infogain html
selex.infogainSummary html
selex.jvmStatus html
selex.kmax html
selex.kmerPSFM html
selex.loadAnnotation html
selex.mm html
selex.mmProb html
selex.mmSummary html
selex.revcomp html
selex.run html
selex.sample html
selex.samplePSFM html
selex.sampleSummary html
selex.saveAnnotation html
selex.seqfilter html
selex.setwd html
selex.split html
selex.summary html
** building package indices
** installing vignettes
** testing if installed package can be loaded from temporary location
** testing if installed package can be loaded from final location
** testing if installed package keeps a record of temporary installation path
install for x64
* installing *source* package 'SELEX' ...
** testing if installed package can be loaded
* MD5 sums
packaged installation of 'SELEX' as SELEX_1.18.0.zip
* DONE (SELEX)