| Back to Multiple platform build/check report for BioC 3.10 | 
 | 
This page was generated on 2020-04-15 12:12:59 -0400 (Wed, 15 Apr 2020).
| Package 1539/1823 | Hostname | OS / Arch | INSTALL | BUILD | CHECK | BUILD BIN | ||||||
| SCnorm 1.8.2 Rhonda Bacher 
 | malbec1 | Linux (Ubuntu 18.04.4 LTS) / x86_64 | OK | [ OK ] | OK |  | ||||||
| tokay1 | Windows Server 2012 R2 Standard / x64 | OK | OK | OK | OK |  | ||||||
| merida1 | OS X 10.11.6 El Capitan / x86_64 | OK | OK | OK | OK |  | 
| Package: SCnorm | 
| Version: 1.8.2 | 
| Command: /home/biocbuild/bbs-3.10-bioc/R/bin/R CMD build --keep-empty-dirs --no-resave-data SCnorm | 
| StartedAt: 2020-04-14 22:37:12 -0400 (Tue, 14 Apr 2020) | 
| EndedAt: 2020-04-14 22:39:04 -0400 (Tue, 14 Apr 2020) | 
| EllapsedTime: 112.0 seconds | 
| RetCode: 0 | 
| Status: OK | 
| PackageFile: SCnorm_1.8.2.tar.gz | 
| PackageFileSize: 2.92 MiB | 
############################################################################## ############################################################################## ### ### Running command: ### ### /home/biocbuild/bbs-3.10-bioc/R/bin/R CMD build --keep-empty-dirs --no-resave-data SCnorm ### ############################################################################## ############################################################################## * checking for file ‘SCnorm/DESCRIPTION’ ... OK * preparing ‘SCnorm’: * checking DESCRIPTION meta-information ... OK * installing the package to build vignettes * creating vignettes ... OK * checking for LF line-endings in source and make files and shell scripts * checking for empty or unneeded directories * looking to see if a ‘data/datalist’ file should be added * building ‘SCnorm_1.8.2.tar.gz’