| Back to Multiple platform build/check report for BioC 3.10 | 
 | 
This page was generated on 2020-04-15 12:35:36 -0400 (Wed, 15 Apr 2020).
| Package 1474/1823 | Hostname | OS / Arch | INSTALL | BUILD | CHECK | BUILD BIN | ||||||
| RpsiXML 2.28.0 Jitao David Zhang 
 | malbec1 | Linux (Ubuntu 18.04.4 LTS) / x86_64 | OK | OK | OK |  | ||||||
| tokay1 | Windows Server 2012 R2 Standard / x64 | OK | OK | OK | OK |  | ||||||
| merida1 | OS X 10.11.6 El Capitan / x86_64 | OK | OK | OK | [ OK ] |  | 
| Package: RpsiXML | 
| Version: 2.28.0 | 
| Command: rm -rf RpsiXML.buildbin-libdir && mkdir RpsiXML.buildbin-libdir && /Users/biocbuild/BBS/utils/build-universal.sh RpsiXML_2.28.0.tar.gz /Library/Frameworks/R.framework/Versions/Current/Resources/bin/R RpsiXML.buildbin-libdir | 
| StartedAt: 2020-04-15 08:36:55 -0400 (Wed, 15 Apr 2020) | 
| EndedAt: 2020-04-15 08:37:35 -0400 (Wed, 15 Apr 2020) | 
| EllapsedTime: 40.1 seconds | 
| RetCode: 0 | 
| Status: OK | 
| PackageFile: RpsiXML_2.28.0.tgz | 
| PackageFileSize: 2.964 MiB | 
############################################################################## ############################################################################## ### ### Running command: ### ### rm -rf RpsiXML.buildbin-libdir && mkdir RpsiXML.buildbin-libdir && /Users/biocbuild/BBS/utils/build-universal.sh RpsiXML_2.28.0.tar.gz /Library/Frameworks/R.framework/Versions/Current/Resources/bin/R RpsiXML.buildbin-libdir ### ############################################################################## ############################################################################## >>>>>>> >>>>>>> INSTALLATION WITH 'R CMD INSTALL --preclean --no-multiarch --library=RpsiXML.buildbin-libdir RpsiXML_2.28.0.tar.gz' >>>>>>> * installing *source* package ‘RpsiXML’ ... ** using staged installation ** R ** inst ** byte-compile and prepare package for lazy loading No methods found in package ‘Biobase’ for request: ‘listlen’ when loading ‘RpsiXML’ No methods found in package ‘annotate’ for requests: ‘pubmed’, ‘buildPubMedAbst’ when loading ‘RpsiXML’ Note: in method for ‘head’ with signature ‘x="ANY"’: expanding the signature to include omitted arguments in definition: x = "missing" Note: in method for ‘tail’ with signature ‘x="ANY"’: expanding the signature to include omitted arguments in definition: x = "missing" ** help *** installing help indices ** building package indices ** installing vignettes ** testing if installed package can be loaded from temporary location No methods found in package ‘Biobase’ for request: ‘listlen’ when loading ‘RpsiXML’ No methods found in package ‘annotate’ for requests: ‘pubmed’, ‘buildPubMedAbst’ when loading ‘RpsiXML’ ** testing if installed package can be loaded from final location No methods found in package ‘Biobase’ for request: ‘listlen’ when loading ‘RpsiXML’ No methods found in package ‘annotate’ for requests: ‘pubmed’, ‘buildPubMedAbst’ when loading ‘RpsiXML’ ** testing if installed package keeps a record of temporary installation path * DONE (RpsiXML)