| Back to Multiple platform build/check report for BioC 3.10 |
|
This page was generated on 2020-04-15 12:18:52 -0400 (Wed, 15 Apr 2020).
| Package 1447/1823 | Hostname | OS / Arch | INSTALL | BUILD | CHECK | BUILD BIN | ||||||
| RmiR 1.42.0 Francesco Favero
| malbec1 | Linux (Ubuntu 18.04.4 LTS) / x86_64 | OK | OK | OK | |||||||
| tokay1 | Windows Server 2012 R2 Standard / x64 | OK | OK | ERROR | [ OK ] | |||||||
| merida1 | OS X 10.11.6 El Capitan / x86_64 | OK | OK | OK | OK |
| Package: RmiR |
| Version: 1.42.0 |
| Command: rm -rf RmiR.buildbin-libdir && mkdir RmiR.buildbin-libdir && C:\Users\biocbuild\bbs-3.10-bioc\R\bin\R.exe CMD INSTALL --merge-multiarch --build --library=RmiR.buildbin-libdir RmiR_1.42.0.tar.gz |
| StartedAt: 2020-04-15 09:33:34 -0400 (Wed, 15 Apr 2020) |
| EndedAt: 2020-04-15 09:34:02 -0400 (Wed, 15 Apr 2020) |
| EllapsedTime: 28.0 seconds |
| RetCode: 0 |
| Status: OK |
| PackageFile: RmiR_1.42.0.zip |
| PackageFileSize: 319.9 KiB |
##############################################################################
##############################################################################
###
### Running command:
###
### rm -rf RmiR.buildbin-libdir && mkdir RmiR.buildbin-libdir && C:\Users\biocbuild\bbs-3.10-bioc\R\bin\R.exe CMD INSTALL --merge-multiarch --build --library=RmiR.buildbin-libdir RmiR_1.42.0.tar.gz
###
##############################################################################
##############################################################################
install for i386
* installing *source* package 'RmiR' ...
** using staged installation
** R
** data
** inst
** byte-compile and prepare package for lazy loading
** help
*** installing help indices
converting help for package 'RmiR'
finding HTML links ... done
RmiR html
RmiRtc html
data html
plotRmiRtc html
** building package indices
** installing vignettes
** testing if installed package can be loaded from temporary location
** testing if installed package can be loaded from final location
** testing if installed package keeps a record of temporary installation path
install for x64
* installing *source* package 'RmiR' ...
** testing if installed package can be loaded
* MD5 sums
packaged installation of 'RmiR' as RmiR_1.42.0.zip
* DONE (RmiR)