| Back to Multiple platform build/check report for BioC 3.10 |
|
This page was generated on 2020-04-15 12:21:00 -0400 (Wed, 15 Apr 2020).
| Package 1413/1823 | Hostname | OS / Arch | INSTALL | BUILD | CHECK | BUILD BIN | ||||||
| ReportingTools 2.26.0 Jason A. Hackney
| malbec1 | Linux (Ubuntu 18.04.4 LTS) / x86_64 | OK | OK | OK | |||||||
| tokay1 | Windows Server 2012 R2 Standard / x64 | OK | OK | OK | [ OK ] | |||||||
| merida1 | OS X 10.11.6 El Capitan / x86_64 | OK | OK | OK | OK |
| Package: ReportingTools |
| Version: 2.26.0 |
| Command: rm -rf ReportingTools.buildbin-libdir && mkdir ReportingTools.buildbin-libdir && C:\Users\biocbuild\bbs-3.10-bioc\R\bin\R.exe CMD INSTALL --merge-multiarch --build --library=ReportingTools.buildbin-libdir ReportingTools_2.26.0.tar.gz |
| StartedAt: 2020-04-15 09:31:38 -0400 (Wed, 15 Apr 2020) |
| EndedAt: 2020-04-15 09:32:52 -0400 (Wed, 15 Apr 2020) |
| EllapsedTime: 74.4 seconds |
| RetCode: 0 |
| Status: OK |
| PackageFile: ReportingTools_2.26.0.zip |
| PackageFileSize: 2.21 MiB |
##############################################################################
##############################################################################
###
### Running command:
###
### rm -rf ReportingTools.buildbin-libdir && mkdir ReportingTools.buildbin-libdir && C:\Users\biocbuild\bbs-3.10-bioc\R\bin\R.exe CMD INSTALL --merge-multiarch --build --library=ReportingTools.buildbin-libdir ReportingTools_2.26.0.tar.gz
###
##############################################################################
##############################################################################
install for i386
* installing *source* package 'ReportingTools' ...
** using staged installation
** R
** data
** inst
** byte-compile and prepare package for lazy loading
in method for 'objectToHTML' with signature 'object="ggbio"': no definition for class "ggbio"
** help
*** installing help indices
converting help for package 'ReportingTools'
finding HTML links ... done
BaseReportType-class html
CSVFile-class html
CSVFile html
DataPackage-class html
DataPackage html
HTMLReport-class html
HTMLReport html
HTMLReportRef-class html
Link html
ReportHandlers-class html
addReportColumns-methods html
custHeaderPanel html
filename-methods html
finish-methods html
makeDESeqDF html
mockRnaSeqData html
objectToHTML-methods html
publish-methods html
finding level-2 HTML links ... done
readReport html
reporting.theme html
reporting.theme.alternate html
toReportDF-methods html
validConnection html
** building package indices
** installing vignettes
** testing if installed package can be loaded from temporary location
** testing if installed package can be loaded from final location
** testing if installed package keeps a record of temporary installation path
install for x64
* installing *source* package 'ReportingTools' ...
** testing if installed package can be loaded
* MD5 sums
packaged installation of 'ReportingTools' as ReportingTools_2.26.0.zip
* DONE (ReportingTools)