| Back to Multiple platform build/check report for BioC 3.10 |
|
This page was generated on 2020-04-15 12:32:17 -0400 (Wed, 15 Apr 2020).
| Package 1414/1823 | Hostname | OS / Arch | INSTALL | BUILD | CHECK | BUILD BIN | ||||||
| RepViz 1.2.0 Thomas Faux, Asta Laiho
| malbec1 | Linux (Ubuntu 18.04.4 LTS) / x86_64 | OK | OK | WARNINGS | |||||||
| tokay1 | Windows Server 2012 R2 Standard / x64 | [ OK ] | OK | WARNINGS | OK | |||||||
| merida1 | OS X 10.11.6 El Capitan / x86_64 | OK | OK | WARNINGS | OK |
| Package: RepViz |
| Version: 1.2.0 |
| Command: C:\cygwin\bin\curl.exe -O https://malbec1.bioconductor.org/BBS/3.10/bioc/src/contrib/RepViz_1.2.0.tar.gz && rm -rf RepViz.buildbin-libdir && mkdir RepViz.buildbin-libdir && C:\Users\biocbuild\bbs-3.10-bioc\R\bin\R.exe CMD INSTALL --merge-multiarch --build --library=RepViz.buildbin-libdir RepViz_1.2.0.tar.gz && C:\Users\biocbuild\bbs-3.10-bioc\R\bin\R.exe CMD INSTALL RepViz_1.2.0.zip && rm RepViz_1.2.0.tar.gz RepViz_1.2.0.zip |
| StartedAt: 2020-04-14 19:38:39 -0400 (Tue, 14 Apr 2020) |
| EndedAt: 2020-04-14 19:39:12 -0400 (Tue, 14 Apr 2020) |
| EllapsedTime: 33.1 seconds |
| RetCode: 0 |
| Status: OK |
##############################################################################
##############################################################################
###
### Running command:
###
### C:\cygwin\bin\curl.exe -O https://malbec1.bioconductor.org/BBS/3.10/bioc/src/contrib/RepViz_1.2.0.tar.gz && rm -rf RepViz.buildbin-libdir && mkdir RepViz.buildbin-libdir && C:\Users\biocbuild\bbs-3.10-bioc\R\bin\R.exe CMD INSTALL --merge-multiarch --build --library=RepViz.buildbin-libdir RepViz_1.2.0.tar.gz && C:\Users\biocbuild\bbs-3.10-bioc\R\bin\R.exe CMD INSTALL RepViz_1.2.0.zip && rm RepViz_1.2.0.tar.gz RepViz_1.2.0.zip
###
##############################################################################
##############################################################################
% Total % Received % Xferd Average Speed Time Time Time Current
Dload Upload Total Spent Left Speed
0 0 0 0 0 0 0 0 --:--:-- --:--:-- --:--:-- 0
100 162k 100 162k 0 0 2065k 0 --:--:-- --:--:-- --:--:-- 2169k
install for i386
* installing *source* package 'RepViz' ...
** using staged installation
** R
** inst
** byte-compile and prepare package for lazy loading
** help
*** installing help indices
converting help for package 'RepViz'
finding HTML links ... done
RepViz html
** building package indices
** installing vignettes
** testing if installed package can be loaded from temporary location
** testing if installed package can be loaded from final location
** testing if installed package keeps a record of temporary installation path
install for x64
* installing *source* package 'RepViz' ...
** testing if installed package can be loaded
* MD5 sums
packaged installation of 'RepViz' as RepViz_1.2.0.zip
* DONE (RepViz)
* installing to library 'C:/Users/biocbuild/bbs-3.10-bioc/R/library'
package 'RepViz' successfully unpacked and MD5 sums checked