| Back to Multiple platform build/check report for BioC 3.10 |
|
This page was generated on 2020-04-15 12:20:00 -0400 (Wed, 15 Apr 2020).
| Package 1399/1823 | Hostname | OS / Arch | INSTALL | BUILD | CHECK | BUILD BIN | ||||||
| ReadqPCR 1.32.0 James Perkins
| malbec1 | Linux (Ubuntu 18.04.4 LTS) / x86_64 | OK | OK | OK | |||||||
| tokay1 | Windows Server 2012 R2 Standard / x64 | OK | OK | ERROR | [ OK ] | |||||||
| merida1 | OS X 10.11.6 El Capitan / x86_64 | OK | OK | OK | OK |
| Package: ReadqPCR |
| Version: 1.32.0 |
| Command: rm -rf ReadqPCR.buildbin-libdir && mkdir ReadqPCR.buildbin-libdir && C:\Users\biocbuild\bbs-3.10-bioc\R\bin\R.exe CMD INSTALL --merge-multiarch --build --library=ReadqPCR.buildbin-libdir ReadqPCR_1.32.0.tar.gz |
| StartedAt: 2020-04-15 09:30:48 -0400 (Wed, 15 Apr 2020) |
| EndedAt: 2020-04-15 09:31:16 -0400 (Wed, 15 Apr 2020) |
| EllapsedTime: 28.3 seconds |
| RetCode: 0 |
| Status: OK |
| PackageFile: ReadqPCR_1.32.0.zip |
| PackageFileSize: 519.4 KiB |
##############################################################################
##############################################################################
###
### Running command:
###
### rm -rf ReadqPCR.buildbin-libdir && mkdir ReadqPCR.buildbin-libdir && C:\Users\biocbuild\bbs-3.10-bioc\R\bin\R.exe CMD INSTALL --merge-multiarch --build --library=ReadqPCR.buildbin-libdir ReadqPCR_1.32.0.tar.gz
###
##############################################################################
##############################################################################
install for i386
* installing *source* package 'ReadqPCR' ...
** using staged installation
** R
** inst
** byte-compile and prepare package for lazy loading
** help
*** installing help indices
converting help for package 'ReadqPCR'
finding HTML links ... done
CyclesSet-class html
ReadqPCR-package html
merge html
qPCRBatch-class html
qpcR2CyclesSet html
Rd warning: C:/Users/biocbuild/bbs-3.10-bioc/tmpdir/Rtmpquk08y/R.INSTALL323023e8225d/ReadqPCR/man/qpcR2CyclesSet.Rd:30: file link 'reps' in package 'qpcR' does not exist and so has been treated as a topic
read.qPCR html
read.taqman html
readLC480 html
Rd warning: C:/Users/biocbuild/bbs-3.10-bioc/tmpdir/Rtmpquk08y/R.INSTALL323023e8225d/ReadqPCR/man/readLC480.Rd:61: file link 'eSet' in package 'Biobase' does not exist and so has been treated as a topic
readLC480SampleInfo html
Rd warning: C:/Users/biocbuild/bbs-3.10-bioc/tmpdir/Rtmpquk08y/R.INSTALL323023e8225d/ReadqPCR/man/readLC480SampleInfo.Rd:54: file link 'AnnotatedDataFrame-class' in package 'Biobase' does not exist and so has been treated as a topic
** building package indices
** installing vignettes
** testing if installed package can be loaded from temporary location
** testing if installed package can be loaded from final location
** testing if installed package keeps a record of temporary installation path
install for x64
* installing *source* package 'ReadqPCR' ...
** testing if installed package can be loaded
* MD5 sums
packaged installation of 'ReadqPCR' as ReadqPCR_1.32.0.zip
* DONE (ReadqPCR)