| Back to Multiple platform build/check report for BioC 3.10 | 
  | 
This page was generated on 2020-04-15 12:21:16 -0400 (Wed, 15 Apr 2020).
| Package 1375/1823 | Hostname | OS / Arch | INSTALL | BUILD | CHECK | BUILD BIN | ||||||
| Rbowtie 1.26.0 Michael Stadler 
  | malbec1 | Linux (Ubuntu 18.04.4 LTS) / x86_64 | OK | OK | OK | |||||||
| tokay1 | Windows Server 2012 R2 Standard / x64 | OK | [ OK ] | OK | OK | |||||||
| merida1 | OS X 10.11.6 El Capitan / x86_64 | OK | OK | OK | OK | 
| Package: Rbowtie | 
| Version: 1.26.0 | 
| Command: chmod a+r Rbowtie -R && C:\Users\biocbuild\bbs-3.10-bioc\R\bin\R.exe --arch x64 CMD build --keep-empty-dirs --no-resave-data Rbowtie | 
| StartedAt: 2020-04-14 21:38:25 -0400 (Tue, 14 Apr 2020) | 
| EndedAt: 2020-04-14 21:40:01 -0400 (Tue, 14 Apr 2020) | 
| EllapsedTime: 96.0 seconds | 
| RetCode: 0 | 
| Status: OK | 
| PackageFile: Rbowtie_1.26.0.tar.gz | 
| PackageFileSize: 1001 KiB | 
############################################################################## ############################################################################## ### ### Running command: ### ### chmod a+r Rbowtie -R && C:\Users\biocbuild\bbs-3.10-bioc\R\bin\R.exe --arch x64 CMD build --keep-empty-dirs --no-resave-data Rbowtie ### ############################################################################## ############################################################################## * checking for file 'Rbowtie/DESCRIPTION' ... OK * preparing 'Rbowtie': * checking DESCRIPTION meta-information ... OK * cleaning src * installing the package to build vignettes * creating vignettes ... OK * cleaning src * checking for LF line-endings in source and make files and shell scripts * checking for empty or unneeded directories * building 'Rbowtie_1.26.0.tar.gz'