| Back to Multiple platform build/check report for BioC 3.10 | 
 | 
This page was generated on 2020-04-15 12:17:15 -0400 (Wed, 15 Apr 2020).
| Package 1367/1823 | Hostname | OS / Arch | INSTALL | BUILD | CHECK | BUILD BIN | ||||||
| RankProd 3.12.0 Francesco Del Carratore 
 | malbec1 | Linux (Ubuntu 18.04.4 LTS) / x86_64 | OK | OK | OK |  | ||||||
| tokay1 | Windows Server 2012 R2 Standard / x64 | OK | OK | OK | [ OK ] |  | ||||||
| merida1 | OS X 10.11.6 El Capitan / x86_64 | OK | OK | OK | OK |  | 
| Package: RankProd | 
| Version: 3.12.0 | 
| Command: rm -rf RankProd.buildbin-libdir && mkdir RankProd.buildbin-libdir && C:\Users\biocbuild\bbs-3.10-bioc\R\bin\R.exe CMD INSTALL --merge-multiarch --build --library=RankProd.buildbin-libdir RankProd_3.12.0.tar.gz | 
| StartedAt: 2020-04-15 09:29:01 -0400 (Wed, 15 Apr 2020) | 
| EndedAt: 2020-04-15 09:29:29 -0400 (Wed, 15 Apr 2020) | 
| EllapsedTime: 27.6 seconds | 
| RetCode: 0 | 
| Status: OK | 
| PackageFile: RankProd_3.12.0.zip | 
| PackageFileSize: 661.2 KiB | 
##############################################################################
##############################################################################
###
### Running command:
###
###   rm -rf RankProd.buildbin-libdir && mkdir RankProd.buildbin-libdir && C:\Users\biocbuild\bbs-3.10-bioc\R\bin\R.exe CMD INSTALL --merge-multiarch --build --library=RankProd.buildbin-libdir RankProd_3.12.0.tar.gz
###
##############################################################################
##############################################################################
install for i386
* installing *source* package 'RankProd' ...
** using staged installation
** R
** data
** inst
** byte-compile and prepare package for lazy loading
[1] "this is the new version of the RankProd package"
** help
*** installing help indices
  converting help for package 'RankProd'
    finding HTML links ... done
    Apples                                  html  
    RP                                      html  
    RP.advance                              html  
    RPadvance                               html  
    RSadvance                               html  
    RankProd-internal                       html  
    RankProducts                            html  
    arab                                    html  
    golub                                   html  
    lymphoma                                html  
    plotRP                                  html  
    topGene                                 html  
** building package indices
** installing vignettes
** testing if installed package can be loaded from temporary location
** testing if installed package can be loaded from final location
** testing if installed package keeps a record of temporary installation path
install for x64
* installing *source* package 'RankProd' ...
** testing if installed package can be loaded
* MD5 sums
packaged installation of 'RankProd' as RankProd_3.12.0.zip
* DONE (RankProd)