| Back to Multiple platform build/check report for BioC 3.10 |
|
This page was generated on 2020-04-15 12:23:27 -0400 (Wed, 15 Apr 2020).
| Package 1501/1823 | Hostname | OS / Arch | INSTALL | BUILD | CHECK | BUILD BIN | ||||||
| RUVnormalize 1.20.1 Laurent Jacob
| malbec1 | Linux (Ubuntu 18.04.4 LTS) / x86_64 | OK | OK | OK | |||||||
| tokay1 | Windows Server 2012 R2 Standard / x64 | OK | OK | OK | [ OK ] | |||||||
| merida1 | OS X 10.11.6 El Capitan / x86_64 | OK | OK | OK | OK |
| Package: RUVnormalize |
| Version: 1.20.1 |
| Command: rm -rf RUVnormalize.buildbin-libdir && mkdir RUVnormalize.buildbin-libdir && C:\Users\biocbuild\bbs-3.10-bioc\R\bin\R.exe CMD INSTALL --merge-multiarch --build --library=RUVnormalize.buildbin-libdir RUVnormalize_1.20.1.tar.gz |
| StartedAt: 2020-04-15 09:36:44 -0400 (Wed, 15 Apr 2020) |
| EndedAt: 2020-04-15 09:37:02 -0400 (Wed, 15 Apr 2020) |
| EllapsedTime: 17.7 seconds |
| RetCode: 0 |
| Status: OK |
| PackageFile: RUVnormalize_1.20.1.zip |
| PackageFileSize: 278.8 KiB |
##############################################################################
##############################################################################
###
### Running command:
###
### rm -rf RUVnormalize.buildbin-libdir && mkdir RUVnormalize.buildbin-libdir && C:\Users\biocbuild\bbs-3.10-bioc\R\bin\R.exe CMD INSTALL --merge-multiarch --build --library=RUVnormalize.buildbin-libdir RUVnormalize_1.20.1.tar.gz
###
##############################################################################
##############################################################################
install for i386
* installing *source* package 'RUVnormalize' ...
** using staged installation
** R
** demo
** inst
** byte-compile and prepare package for lazy loading
** help
*** installing help indices
converting help for package 'RUVnormalize'
finding HTML links ... done
clScore html
iterativeRUV html
naiveRandRUV html
naiveReplicateRUV html
svdPlot html
** building package indices
** installing vignettes
** testing if installed package can be loaded from temporary location
** testing if installed package can be loaded from final location
** testing if installed package keeps a record of temporary installation path
install for x64
* installing *source* package 'RUVnormalize' ...
** testing if installed package can be loaded
* MD5 sums
packaged installation of 'RUVnormalize' as RUVnormalize_1.20.1.zip
* DONE (RUVnormalize)