| Back to Multiple platform build/check report for BioC 3.10 | 
 | 
This page was generated on 2020-04-15 12:37:16 -0400 (Wed, 15 Apr 2020).
| Package 1494/1823 | Hostname | OS / Arch | INSTALL | BUILD | CHECK | BUILD BIN | ||||||
| RTopper 1.32.0 Luigi Marchionni 
 | malbec1 | Linux (Ubuntu 18.04.4 LTS) / x86_64 | OK | OK | OK |  | ||||||
| tokay1 | Windows Server 2012 R2 Standard / x64 | OK | OK | WARNINGS | OK |  | ||||||
| merida1 | OS X 10.11.6 El Capitan / x86_64 | OK | OK | OK | [ OK ] |  | 
| Package: RTopper | 
| Version: 1.32.0 | 
| Command: rm -rf RTopper.buildbin-libdir && mkdir RTopper.buildbin-libdir && /Users/biocbuild/BBS/utils/build-universal.sh RTopper_1.32.0.tar.gz /Library/Frameworks/R.framework/Versions/Current/Resources/bin/R RTopper.buildbin-libdir | 
| StartedAt: 2020-04-15 08:38:22 -0400 (Wed, 15 Apr 2020) | 
| EndedAt: 2020-04-15 08:39:23 -0400 (Wed, 15 Apr 2020) | 
| EllapsedTime: 60.3 seconds | 
| RetCode: 0 | 
| Status: OK | 
| PackageFile: RTopper_1.32.0.tgz | 
| PackageFileSize: 1.306 MiB | 
############################################################################## ############################################################################## ### ### Running command: ### ### rm -rf RTopper.buildbin-libdir && mkdir RTopper.buildbin-libdir && /Users/biocbuild/BBS/utils/build-universal.sh RTopper_1.32.0.tar.gz /Library/Frameworks/R.framework/Versions/Current/Resources/bin/R RTopper.buildbin-libdir ### ############################################################################## ############################################################################## >>>>>>> >>>>>>> INSTALLATION WITH 'R CMD INSTALL --preclean --no-multiarch --library=RTopper.buildbin-libdir RTopper_1.32.0.tar.gz' >>>>>>> * installing *source* package ‘RTopper’ ... ** using staged installation ** R ** data ** inst ** byte-compile and prepare package for lazy loading ** help *** installing help indices ** building package indices ** installing vignettes ** testing if installed package can be loaded from temporary location ** testing if installed package can be loaded from final location ** testing if installed package keeps a record of temporary installation path * DONE (RTopper)