| Back to Multiple platform build/check report for BioC 3.10 | 
  | 
This page was generated on 2020-04-15 12:32:39 -0400 (Wed, 15 Apr 2020).
| Package 1452/1823 | Hostname | OS / Arch | INSTALL | BUILD | CHECK | BUILD BIN | ||||||
| RNAmodR 1.0.2 Felix G.M. Ernst 
  | malbec1 | Linux (Ubuntu 18.04.4 LTS) / x86_64 | OK | OK | OK | |||||||
| tokay1 | Windows Server 2012 R2 Standard / x64 | [ OK ] | OK | OK | OK | |||||||
| merida1 | OS X 10.11.6 El Capitan / x86_64 | OK | OK | OK | OK | 
| Package: RNAmodR | 
| Version: 1.0.2 | 
| Command: C:\cygwin\bin\curl.exe -O https://malbec1.bioconductor.org/BBS/3.10/bioc/src/contrib/RNAmodR_1.0.2.tar.gz && rm -rf RNAmodR.buildbin-libdir && mkdir RNAmodR.buildbin-libdir && C:\Users\biocbuild\bbs-3.10-bioc\R\bin\R.exe CMD INSTALL --merge-multiarch --build --library=RNAmodR.buildbin-libdir RNAmodR_1.0.2.tar.gz && C:\Users\biocbuild\bbs-3.10-bioc\R\bin\R.exe CMD INSTALL RNAmodR_1.0.2.zip && rm RNAmodR_1.0.2.tar.gz RNAmodR_1.0.2.zip | 
| StartedAt: 2020-04-14 20:30:46 -0400 (Tue, 14 Apr 2020) | 
| EndedAt: 2020-04-14 20:32:39 -0400 (Tue, 14 Apr 2020) | 
| EllapsedTime: 112.8 seconds | 
| RetCode: 0 | 
| Status: OK | 
##############################################################################
##############################################################################
###
### Running command:
###
###   C:\cygwin\bin\curl.exe -O https://malbec1.bioconductor.org/BBS/3.10/bioc/src/contrib/RNAmodR_1.0.2.tar.gz && rm -rf RNAmodR.buildbin-libdir && mkdir RNAmodR.buildbin-libdir && C:\Users\biocbuild\bbs-3.10-bioc\R\bin\R.exe CMD INSTALL --merge-multiarch --build --library=RNAmodR.buildbin-libdir RNAmodR_1.0.2.tar.gz && C:\Users\biocbuild\bbs-3.10-bioc\R\bin\R.exe CMD INSTALL RNAmodR_1.0.2.zip && rm RNAmodR_1.0.2.tar.gz RNAmodR_1.0.2.zip
###
##############################################################################
##############################################################################
  % Total    % Received % Xferd  Average Speed   Time    Time     Time  Current
                                 Dload  Upload   Total   Spent    Left  Speed
  0     0    0     0    0     0      0      0 --:--:-- --:--:-- --:--:--     0
100  540k  100  540k    0     0  5255k      0 --:--:-- --:--:-- --:--:-- 5463k
install for i386
* installing *source* package 'RNAmodR' ...
** using staged installation
** R
** data
** inst
** byte-compile and prepare package for lazy loading
** help
*** installing help indices
  converting help for package 'RNAmodR'
    finding HTML links ... done
    CoverageSequenceData-class              html  
    EndSequenceData-class                   html  
    ModDNASequenceTrack                     html  
    ModInosine-functions                    html  
    ModInosine-internals                    html  
    ModInosine                              html  
    ModRNASequenceTrack                     html  
    Modifier-class                          html  
    Modifier-functions                      html  
    ModifierSet-class                       html  
    NormEndSequenceData-class               html  
    PileupSequenceData-class                html  
    ProtectedEndSequenceData-class          html  
    RNASequenceTrack                        html  
    RNAmodR-datasets                        html  
    RNAmodR-development                     html  
    RNAmodR-internals                       html  
    RNAmodR                                 html  
    SequenceData-class                      html  
    SequenceData-functions                  html  
    SequenceDataFrame-class                 html  
    SequenceDataList-class                  html  
    SequenceDataSet-class                   html  
    aggregate                               html  
    compareByCoord                          html  
    modify                                  html  
    plotData                                html  
    plotROC                                 html  
    settings                                html  
    subsetByCoord                           html  
** building package indices
** installing vignettes
** testing if installed package can be loaded from temporary location
** testing if installed package can be loaded from final location
** testing if installed package keeps a record of temporary installation path
install for x64
* installing *source* package 'RNAmodR' ...
** testing if installed package can be loaded
* MD5 sums
packaged installation of 'RNAmodR' as RNAmodR_1.0.2.zip
* DONE (RNAmodR)
* installing to library 'C:/Users/biocbuild/bbs-3.10-bioc/R/library'
package 'RNAmodR' successfully unpacked and MD5 sums checked