| Back to Multiple platform build/check report for BioC 3.10 |
|
This page was generated on 2020-04-15 12:28:16 -0400 (Wed, 15 Apr 2020).
| Package 1441/1823 | Hostname | OS / Arch | INSTALL | BUILD | CHECK | BUILD BIN | ||||||
| RIVER 1.10.0 Yungil Kim
| malbec1 | Linux (Ubuntu 18.04.4 LTS) / x86_64 | OK | OK | OK | |||||||
| tokay1 | Windows Server 2012 R2 Standard / x64 | OK | OK | WARNINGS | [ OK ] | |||||||
| merida1 | OS X 10.11.6 El Capitan / x86_64 | OK | OK | OK | OK |
| Package: RIVER |
| Version: 1.10.0 |
| Command: rm -rf RIVER.buildbin-libdir && mkdir RIVER.buildbin-libdir && C:\Users\biocbuild\bbs-3.10-bioc\R\bin\R.exe CMD INSTALL --merge-multiarch --build --library=RIVER.buildbin-libdir RIVER_1.10.0.tar.gz |
| StartedAt: 2020-04-15 09:33:12 -0400 (Wed, 15 Apr 2020) |
| EndedAt: 2020-04-15 09:33:34 -0400 (Wed, 15 Apr 2020) |
| EllapsedTime: 21.2 seconds |
| RetCode: 0 |
| Status: OK |
| PackageFile: RIVER_1.10.0.zip |
| PackageFileSize: 1.302 MiB |
##############################################################################
##############################################################################
###
### Running command:
###
### rm -rf RIVER.buildbin-libdir && mkdir RIVER.buildbin-libdir && C:\Users\biocbuild\bbs-3.10-bioc\R\bin\R.exe CMD INSTALL --merge-multiarch --build --library=RIVER.buildbin-libdir RIVER_1.10.0.tar.gz
###
##############################################################################
##############################################################################
install for i386
* installing *source* package 'RIVER' ...
** using staged installation
** R
** inst
** byte-compile and prepare package for lazy loading
** help
*** installing help indices
converting help for package 'RIVER'
finding HTML links ... done
RIVER html
appRIVER html
evaRIVER html
getData html
Rd warning: C:/Users/biocbuild/bbs-3.10-bioc/tmpdir/Rtmp8qVWQO/R.INSTALLdb824df3fa0/RIVER/man/getData.Rd:38: file link 'ExpressionSet' in package 'Biobase' does not exist and so has been treated as a topic
getFuncRvFeat html
getFuncRvPosteriors html
integratedEM html
mleBeta html
mleTheta html
plotPosteriors html
testPosteriors html
** building package indices
** installing vignettes
** testing if installed package can be loaded from temporary location
** testing if installed package can be loaded from final location
** testing if installed package keeps a record of temporary installation path
install for x64
* installing *source* package 'RIVER' ...
** testing if installed package can be loaded
* MD5 sums
packaged installation of 'RIVER' as RIVER_1.10.0.zip
* DONE (RIVER)