| Back to Multiple platform build/check report for BioC 3.10 | 
 | 
This page was generated on 2020-04-15 12:06:04 -0400 (Wed, 15 Apr 2020).
| Package 1359/1823 | Hostname | OS / Arch | INSTALL | BUILD | CHECK | BUILD BIN | ||||||
| R453Plus1Toolbox 1.36.0 Hans-Ulrich Klein 
 | malbec1 | Linux (Ubuntu 18.04.4 LTS) / x86_64 | [ OK ] | OK | OK |  | ||||||
| tokay1 | Windows Server 2012 R2 Standard / x64 | OK | OK | OK | OK |  | ||||||
| merida1 | OS X 10.11.6 El Capitan / x86_64 | OK | OK | OK | OK |  | 
| Package: R453Plus1Toolbox | 
| Version: 1.36.0 | 
| Command: /home/biocbuild/bbs-3.10-bioc/R/bin/R CMD INSTALL R453Plus1Toolbox | 
| StartedAt: 2020-04-14 19:04:54 -0400 (Tue, 14 Apr 2020) | 
| EndedAt: 2020-04-14 19:06:02 -0400 (Tue, 14 Apr 2020) | 
| EllapsedTime: 68.1 seconds | 
| RetCode: 0 | 
| Status: OK | 
##############################################################################
##############################################################################
###
### Running command:
###
###   /home/biocbuild/bbs-3.10-bioc/R/bin/R CMD INSTALL R453Plus1Toolbox
###
##############################################################################
##############################################################################
* installing to library ‘/home/biocbuild/bbs-3.10-bioc/R/library’
* installing *source* package ‘R453Plus1Toolbox’ ...
** using staged installation
** libs
gcc -I"/home/biocbuild/bbs-3.10-bioc/R/include" -DNDEBUG   -I/usr/local/include  -fpic  -g -O2  -Wall -c readSFF.c -o readSFF.o
readSFF.c: In function ‘readSFF’:
readSFF.c:27:7: warning: variable ‘block_count’ set but not used [-Wunused-but-set-variable]
   int block_count;
       ^~~~~~~~~~~
gcc -I"/home/biocbuild/bbs-3.10-bioc/R/include" -DNDEBUG   -I/usr/local/include  -fpic  -g -O2  -Wall -c writeSFF.c -o writeSFF.o
gcc -shared -L/home/biocbuild/bbs-3.10-bioc/R/lib -L/usr/local/lib -o R453Plus1Toolbox.so readSFF.o writeSFF.o -L/home/biocbuild/bbs-3.10-bioc/R/lib -lR
installing to /home/biocbuild/bbs-3.10-bioc/R/library/00LOCK-R453Plus1Toolbox/00new/R453Plus1Toolbox/libs
** R
** data
** inst
** byte-compile and prepare package for lazy loading
** help
*** installing help indices
** building package indices
** installing vignettes
** testing if installed package can be loaded from temporary location
** checking absolute paths in shared objects and dynamic libraries
** testing if installed package can be loaded from final location
** testing if installed package keeps a record of temporary installation path
* DONE (R453Plus1Toolbox)