| Back to Multiple platform build/check report for BioC 3.10 | 
 | 
This page was generated on 2020-04-15 12:41:10 -0400 (Wed, 15 Apr 2020).
| Package 1351/1823 | Hostname | OS / Arch | INSTALL | BUILD | CHECK | BUILD BIN | ||||||
| QuartPAC 1.18.0 Gregory Ryslik 
 | malbec1 | Linux (Ubuntu 18.04.4 LTS) / x86_64 | OK | OK | OK |  | ||||||
| tokay1 | Windows Server 2012 R2 Standard / x64 | OK | OK | ERROR | OK | |||||||
| merida1 | OS X 10.11.6 El Capitan / x86_64 | OK | OK | OK | [ OK ] |  | 
| Package: QuartPAC | 
| Version: 1.18.0 | 
| Command: rm -rf QuartPAC.buildbin-libdir && mkdir QuartPAC.buildbin-libdir && /Users/biocbuild/BBS/utils/build-universal.sh QuartPAC_1.18.0.tar.gz /Library/Frameworks/R.framework/Versions/Current/Resources/bin/R QuartPAC.buildbin-libdir | 
| StartedAt: 2020-04-15 08:27:19 -0400 (Wed, 15 Apr 2020) | 
| EndedAt: 2020-04-15 08:28:17 -0400 (Wed, 15 Apr 2020) | 
| EllapsedTime: 58.4 seconds | 
| RetCode: 0 | 
| Status: OK | 
| PackageFile: QuartPAC_1.18.0.tgz | 
| PackageFileSize: 509.2 KiB | 
############################################################################## ############################################################################## ### ### Running command: ### ### rm -rf QuartPAC.buildbin-libdir && mkdir QuartPAC.buildbin-libdir && /Users/biocbuild/BBS/utils/build-universal.sh QuartPAC_1.18.0.tar.gz /Library/Frameworks/R.framework/Versions/Current/Resources/bin/R QuartPAC.buildbin-libdir ### ############################################################################## ############################################################################## >>>>>>> >>>>>>> INSTALLATION WITH 'R CMD INSTALL --preclean --no-multiarch --library=QuartPAC.buildbin-libdir QuartPAC_1.18.0.tar.gz' >>>>>>> * installing *source* package ‘QuartPAC’ ... ** using staged installation ** R ** inst ** byte-compile and prepare package for lazy loading ** help *** installing help indices ** building package indices ** installing vignettes ** testing if installed package can be loaded from temporary location ** testing if installed package can be loaded from final location ** testing if installed package keeps a record of temporary installation path * DONE (QuartPAC)