| Back to Multiple platform build/check report for BioC 3.10 |
|
This page was generated on 2020-04-15 12:31:35 -0400 (Wed, 15 Apr 2020).
| Package 1296/1823 | Hostname | OS / Arch | INSTALL | BUILD | CHECK | BUILD BIN | ||||||
| PrecisionTrialDrawer 1.2.1 Giorgio Melloni
| malbec1 | Linux (Ubuntu 18.04.4 LTS) / x86_64 | OK | OK | OK | |||||||
| tokay1 | Windows Server 2012 R2 Standard / x64 | OK | OK | OK | [ OK ] | |||||||
| merida1 | OS X 10.11.6 El Capitan / x86_64 | OK | OK | OK | OK |
| Package: PrecisionTrialDrawer |
| Version: 1.2.1 |
| Command: rm -rf PrecisionTrialDrawer.buildbin-libdir && mkdir PrecisionTrialDrawer.buildbin-libdir && C:\Users\biocbuild\bbs-3.10-bioc\R\bin\R.exe CMD INSTALL --merge-multiarch --build --library=PrecisionTrialDrawer.buildbin-libdir PrecisionTrialDrawer_1.2.1.tar.gz |
| StartedAt: 2020-04-15 09:24:51 -0400 (Wed, 15 Apr 2020) |
| EndedAt: 2020-04-15 09:25:47 -0400 (Wed, 15 Apr 2020) |
| EllapsedTime: 55.5 seconds |
| RetCode: 0 |
| Status: OK |
| PackageFile: PrecisionTrialDrawer_1.2.1.zip |
| PackageFileSize: 1.133 MiB |
##############################################################################
##############################################################################
###
### Running command:
###
### rm -rf PrecisionTrialDrawer.buildbin-libdir && mkdir PrecisionTrialDrawer.buildbin-libdir && C:\Users\biocbuild\bbs-3.10-bioc\R\bin\R.exe CMD INSTALL --merge-multiarch --build --library=PrecisionTrialDrawer.buildbin-libdir PrecisionTrialDrawer_1.2.1.tar.gz
###
##############################################################################
##############################################################################
install for i386
* installing *source* package 'PrecisionTrialDrawer' ...
** using staged installation
** R
** data
** inst
** byte-compile and prepare package for lazy loading
Creating a generic function for 'toJSON' from package 'jsonlite' in package 'googleVis'
** help
*** installing help indices
converting help for package 'PrecisionTrialDrawer'
finding HTML links ... done
CancerPanel-class html
PrecisionTrialDrawer-package html
appendRepo html
coocMutexPlot html
coveragePlot html
coverageStackPlot html
cpArguments html
cpData html
cpDataSubset html
cpDesign html
cpFreq html
cpObj html
cpObj2 html
dataExtractor html
filterFusions html
filterMutations html
getAlterations html
newCancerPanel html
panelDesigner html
panelOptimizer html
panelexample html
propPowerSampleSize html
saturationPlot html
showCancerStudy html
showTumorType html
subsetAlterations html
survPowerSampleSize html
survPowerSampleSize1Arm html
** building package indices
** installing vignettes
** testing if installed package can be loaded from temporary location
Creating a generic function for 'toJSON' from package 'jsonlite' in package 'googleVis'
** testing if installed package can be loaded from final location
Creating a generic function for 'toJSON' from package 'jsonlite' in package 'googleVis'
** testing if installed package keeps a record of temporary installation path
install for x64
* installing *source* package 'PrecisionTrialDrawer' ...
** testing if installed package can be loaded
Creating a generic function for 'toJSON' from package 'jsonlite' in package 'googleVis'
* MD5 sums
packaged installation of 'PrecisionTrialDrawer' as PrecisionTrialDrawer_1.2.1.zip
* DONE (PrecisionTrialDrawer)